BEGIN:VCALENDAR
VERSION:2.0
PRODID:-//Sisačka biskupija - ECPv6.15.20//NONSGML v1.0//EN
CALSCALE:GREGORIAN
METHOD:PUBLISH
X-WR-CALNAME:Sisačka biskupija
X-ORIGINAL-URL:https://biskupija-sisak.hr
X-WR-CALDESC:Događaji za Sisačka biskupija
REFRESH-INTERVAL;VALUE=DURATION:PT1H
X-Robots-Tag:noindex
X-PUBLISHED-TTL:PT1H
BEGIN:VTIMEZONE
TZID:Europe/Helsinki
BEGIN:DAYLIGHT
TZOFFSETFROM:+0200
TZOFFSETTO:+0300
TZNAME:EEST
DTSTART:20240331T010000
END:DAYLIGHT
BEGIN:STANDARD
TZOFFSETFROM:+0300
TZOFFSETTO:+0200
TZNAME:EET
DTSTART:20241027T010000
END:STANDARD
BEGIN:DAYLIGHT
TZOFFSETFROM:+0200
TZOFFSETTO:+0300
TZNAME:EEST
DTSTART:20250330T010000
END:DAYLIGHT
BEGIN:STANDARD
TZOFFSETFROM:+0300
TZOFFSETTO:+0200
TZNAME:EET
DTSTART:20251026T010000
END:STANDARD
BEGIN:DAYLIGHT
TZOFFSETFROM:+0200
TZOFFSETTO:+0300
TZNAME:EEST
DTSTART:20260329T010000
END:DAYLIGHT
BEGIN:STANDARD
TZOFFSETFROM:+0300
TZOFFSETTO:+0200
TZNAME:EET
DTSTART:20261025T010000
END:STANDARD
END:VTIMEZONE
BEGIN:VEVENT
DTSTART;TZID=Europe/Helsinki:20250411T193000
DTEND;TZID=Europe/Helsinki:20250411T203000
DTSTAMP:20260421T223106
CREATED:20250402T122734Z
LAST-MODIFIED:20250403T063245Z
UID:987515535-1744399800-1744403400@biskupija-sisak.hr
SUMMARY:Promocija filma Jakova Sedlara ''Hrvatski mučenici'
DESCRIPTION:Novi film Jakova Sedlara bavi se jednom od najosjetljivijih tema iz hrvatske povijesti\, koja je desetljećima bila prešućivana. Film ”Hrvatski mučenici” donosi potresna svjedočanstva o stradanjima hrvatskih katoličkih svećenika\, sjemeništaraca i časnih sestara tijekom i nakon Drugog svjetskog rata.\n\nOvaj povijesni tabu\, koji je desetljećima prekrivao istinu\, bio je ključna motivacija za snimanje ovog filma. Sedlar naglašava kako je njegova želja bila osvježiti pamćenje na ove žrtve i otkriti istinu o njihovim sudbinama\, koje su bile sustavno prešućivane. \nUlaz na projekciju  je slobodan!
URL:https://biskupija-sisak.hr/najava/promocija-filma-jakova-sedlara-hrvatski-mucenici/
LOCATION:Veliki Kaptol\, Trg bana Josipa Jelačića 9\, Sisak\, 44000\, Croatia (Local Name: Hrvatska)
END:VEVENT
BEGIN:VEVENT
DTSTART;TZID=Europe/Helsinki:20250411T181500
DTEND;TZID=Europe/Helsinki:20250411T200000
DTSTAMP:20260421T223106
CREATED:20250305T135934Z
LAST-MODIFIED:20250401T104155Z
UID:987515143-1744395300-1744401600@biskupija-sisak.hr
SUMMARY:Korizmeni petci u župi Preobraženja Gospodnjeg
DESCRIPTION:
URL:https://biskupija-sisak.hr/najava/korizmeni-petci-u-zupi-preobrazenja-gospodnjeg/
END:VEVENT
BEGIN:VEVENT
DTSTART;TZID=Europe/Helsinki:20250409T200000
DTEND;TZID=Europe/Helsinki:20250409T210000
DTSTAMP:20260421T223106
CREATED:20250407T094638Z
LAST-MODIFIED:20250407T094638Z
UID:987515622-1744228800-1744232400@biskupija-sisak.hr
SUMMARY:Pasija u Donjoj Kupčini
DESCRIPTION:Glazbeno-scenski prikaz Kristove muke pod nazivom „Pasija – Onaj koji je promijenio predrasude“ izvest će u srijedu\, 9. travnja 2025.\, u 20 sati ispred župne crkve sv. Marije Magdalene u Donjoj Kupčini članovi Molitvene zajednice Marijina legija iz Petrinje.
URL:https://biskupija-sisak.hr/najava/pasija-u-donjoj-kupcini/
END:VEVENT
BEGIN:VEVENT
DTSTART;TZID=Europe/Helsinki:20250406T110000
DTEND;TZID=Europe/Helsinki:20250406T180000
DTSTAMP:20260421T223106
CREATED:20250402T081914Z
LAST-MODIFIED:20250405T202420Z
UID:987515530-1743937200-1743962400@biskupija-sisak.hr
SUMMARY:Predstava "Gozba s grešnicima" u bazilici sv. Kvirina i crkvi sv. Marije u Sisku
DESCRIPTION:
URL:https://biskupija-sisak.hr/najava/predstava-gozda-s-gresnicima-u-sisku/
END:VEVENT
BEGIN:VEVENT
DTSTART;TZID=Europe/Helsinki:20250406T110000
DTEND;TZID=Europe/Helsinki:20250406T120000
DTSTAMP:20260421T223106
CREATED:20250401T104013Z
LAST-MODIFIED:20250401T104013Z
UID:987515529-1743937200-1743940800@biskupija-sisak.hr
SUMMARY:Blagoslov gradilišta buduće crkve na otvorenom u Gori
DESCRIPTION:Sisački biskup Vlado Košić predvodit će u nedjelju\, 6. travnja 2025.\, u 11 sati svečano misno slavlje u svetištu Majke naših stradanja u Gori te tom prigodom blagosloviti gradilište buduće crkve na otvorenom.
URL:https://biskupija-sisak.hr/najava/blagoslov-gradilista-buduce-crkve-na-otvorenom-u-gori/
END:VEVENT
BEGIN:VEVENT
DTSTART;TZID=Europe/Helsinki:20250405T150000
DTEND;TZID=Europe/Helsinki:20250405T190000
DTSTAMP:20260421T223106
CREATED:20250401T103757Z
LAST-MODIFIED:20250401T103913Z
UID:987515527-1743865200-1743879600@biskupija-sisak.hr
SUMMARY:Križni put u Ivaniću i Ivanić-Gradu
DESCRIPTION:Župe Uznesenja Blažene Djevice Marije iz Kloštra Ivanića i sv. Petra apostola iz Ivanić-Grada organiziraju zajednički križni put pod geslom „Zajedno u nadi“\, koji će se održati u subotu\, 5. travnja 2025.. Pobožnost križnog puta započet će u 15 sati ispred crkve sv. Petra u Ivanić-Gradu\, a završit će misnim slavljem u 19 sati u svetištu Majke Milosrđa u Kloštru Ivaniću.
URL:https://biskupija-sisak.hr/najava/987515527/
END:VEVENT
BEGIN:VEVENT
DTSTART;TZID=Europe/Helsinki:20250405T100000
DTEND;TZID=Europe/Helsinki:20250405T170000
DTSTAMP:20260421T223106
CREATED:20250321T134216Z
LAST-MODIFIED:20250321T134216Z
UID:987515310-1743847200-1743872400@biskupija-sisak.hr
SUMMARY:Križni put u Viduševcu
DESCRIPTION:
URL:https://biskupija-sisak.hr/najava/krizni-put-u-vidusevcu/
END:VEVENT
BEGIN:VEVENT
DTSTART;TZID=Europe/Helsinki:20250401T190000
DTEND;TZID=Europe/Helsinki:20250401T210000
DTSTAMP:20260421T223106
CREATED:20250331T074407Z
LAST-MODIFIED:20250331T074430Z
UID:987515516-1743534000-1743541200@biskupija-sisak.hr
SUMMARY:Kateheza "Kako moliti sa Svetim pismom i molitveni ispit savjesti"
DESCRIPTION:
URL:https://biskupija-sisak.hr/najava/kateheza-kako-moliti-sa-svetim-pismom-i-molitveni-ispit-savjesti/
END:VEVENT
BEGIN:VEVENT
DTSTART;TZID=Europe/Helsinki:20250329T103000
DTEND;TZID=Europe/Helsinki:20250329T120000
DTSTAMP:20260421T223106
CREATED:20250313T084310Z
LAST-MODIFIED:20250313T085917Z
UID:987515219-1743244200-1743249600@biskupija-sisak.hr
SUMMARY:Korizmeno hodočašće u Zrin
DESCRIPTION:Prvo korizmeno hodočašće Kostajničko-dubičkog dekanata u Zrin održat će se u subotu\, 29. ožujka 2025. godine. Svečano misno slavlje u spomen-crkvi Našašća sv. Križa predvodit će fra Stjepan Jambrošić\, dekan i župnik u Hrvatskoj Kostajnici\, s početkom u 11 sati. Nakon mise održat će se Križni put Zrinom\, od spomen-crkve do crkve sv. Marije Magdalene.
URL:https://biskupija-sisak.hr/najava/korizmeno-hodocasce-u-zrin/
END:VEVENT
BEGIN:VEVENT
DTSTART;TZID=Europe/Helsinki:20250329T073000
DTEND;TZID=Europe/Helsinki:20250329T170000
DTSTAMP:20260421T223106
CREATED:20250321T090115Z
LAST-MODIFIED:20250321T104704Z
UID:987515306-1743233400-1743267600@biskupija-sisak.hr
SUMMARY:Kutinski planinarski križni
DESCRIPTION:Dvadeset četvrti Kutinski planinarski križni put održat će se u subotu\, 29. ožujka 2024. na području župa Kutina\, Kutinska Slatina i Ilova. Polazak sudionika je u 7.30 sati ispred crkve Majke Božje Snježne u Kutini\, a središnje misno slavlje u 10 sati u župnoj crkvi bl. Alojzija Stepinca u Kutinskoj Slatini predvodit će sisački biskup Vlado Košić. Završetak je predviđen u popodnevnim u Zbjegovači.
URL:https://biskupija-sisak.hr/najava/kutinski-planinarski-krizni/
END:VEVENT
BEGIN:VEVENT
DTSTART;TZID=Europe/Helsinki:20250328T153000
DTEND;TZID=Europe/Helsinki:20250328T170000
DTSTAMP:20260421T223106
CREATED:20250321T090038Z
LAST-MODIFIED:20250321T090038Z
UID:987515305-1743175800-1743181200@biskupija-sisak.hr
SUMMARY:Sjednica Ekonomskog vijeća
DESCRIPTION:Redovita sjednica Ekonomskog vijeća Sisačke biskupije održat će se u petak\, 28. ožujka 2025. u 15.30 sati\, u Biskupijskom ordinarijatu u Sisku\, pod predsjedanjem biskupa Vlade Košića.
URL:https://biskupija-sisak.hr/najava/sjednica-ekonomskog-vijeca/
LOCATION:Veliki Kaptol\, Trg bana Josipa Jelačića 9\, Sisak\, 44000\, Croatia (Local Name: Hrvatska)
END:VEVENT
BEGIN:VEVENT
DTSTART;TZID=Europe/Helsinki:20250327T193000
DTEND;TZID=Europe/Helsinki:20250327T203000
DTSTAMP:20260421T223106
CREATED:20250321T070747Z
LAST-MODIFIED:20250321T070747Z
UID:987515302-1743103800-1743107400@biskupija-sisak.hr
SUMMARY:Predstavljanje knjiga Blanke Matković
DESCRIPTION:
URL:https://biskupija-sisak.hr/najava/predstavljanje-knjiga-blanke-matkovic/
LOCATION:Veliki Kaptol\, Trg bana Josipa Jelačića 9\, Sisak\, 44000\, Croatia (Local Name: Hrvatska)
END:VEVENT
BEGIN:VEVENT
DTSTART;TZID=Europe/Helsinki:20250326T193000
DTEND;TZID=Europe/Helsinki:20250326T203000
DTSTAMP:20260421T223106
CREATED:20250326T075240Z
LAST-MODIFIED:20250326T075240Z
UID:987515391-1743017400-1743021000@biskupija-sisak.hr
SUMMARY:Predavanje "Duh liturgije i liturgijska duhovnost"
DESCRIPTION:
URL:https://biskupija-sisak.hr/najava/predavanje-duh-liturgije-i-liturgijska-duhovnost/
END:VEVENT
BEGIN:VEVENT
DTSTART;TZID=Europe/Helsinki:20250323T113000
DTEND;TZID=Europe/Helsinki:20250323T120000
DTSTAMP:20260421T223106
CREATED:20250321T085422Z
LAST-MODIFIED:20250321T090542Z
UID:987515304-1742729400-1742731200@biskupija-sisak.hr
SUMMARY:Krštenje petog djeteta obitelji Josipović i četvrtog obitelji Ivanović
DESCRIPTION:Sisački biskup Vlado Košić predvodit će u nedjelju\, 23. ožujka 2025.\, u 11:30 sati\, u svetištu Majke Milosrđa u Kloštar Ivaniću svečano misno slavlje\, tijekom kojeg će krstiti peto dijete obitelji Josipović i četvrto dijete obitelji Ivanović.
URL:https://biskupija-sisak.hr/najava/krstenje-petog-djeteta-obitelji-josipovic-i-cetvrtog-obitelji-ivanovic/
END:VEVENT
BEGIN:VEVENT
DTSTART;TZID=Europe/Helsinki:20250322T180000
DTEND;TZID=Europe/Helsinki:20250323T100000
DTSTAMP:20260421T223106
CREATED:20250314T100636Z
LAST-MODIFIED:20250314T100636Z
UID:987515226-1742666400-1742724000@biskupija-sisak.hr
SUMMARY:Križni put za nerođene
DESCRIPTION:
URL:https://biskupija-sisak.hr/najava/krizni-put-za-nerodene-2/
LOCATION:Bazilika sv. Kvirina\, Sisak\, Lonjska ulica 26\, Sisak\, 44000\, Croatia (Local Name: Hrvatska)
END:VEVENT
BEGIN:VEVENT
DTSTART;TZID=Europe/Helsinki:20250322T080000
DTEND;TZID=Europe/Helsinki:20250322T150000
DTSTAMP:20260421T223106
CREATED:20250313T084207Z
LAST-MODIFIED:20250313T084812Z
UID:987515217-1742630400-1742655600@biskupija-sisak.hr
SUMMARY:Planinarsko hodočašće Majci Božjoj Garićkoj
DESCRIPTION:
URL:https://biskupija-sisak.hr/najava/planinarsko-hodocasce-majci-bozjoj-garickoj-3/
END:VEVENT
BEGIN:VEVENT
DTSTART;TZID=Europe/Helsinki:20250319T190000
DTEND;TZID=Europe/Helsinki:20250319T200000
DTSTAMP:20260421T223106
CREATED:20250313T090517Z
LAST-MODIFIED:20250313T154641Z
UID:987515223-1742410800-1742414400@biskupija-sisak.hr
SUMMARY:Trinaesta obljetnica uspostave Stolnog kaptola
DESCRIPTION:Trinaesta obljetnica uspostave Stolnog kaptola svetog Križa svečano će biti proslavljena u srijedu\, 19. ožujka 2025.\, na blagdan sv. Josipa. Svečano misno slavlje u Pastoralnom centru „Petar Žagmeštar“ katedralne župe u Sisku\, s početkom u 19 sati\, predvodit će domaći župnik Marko Karača u zajedništvu s ostalim kanonicima Stolnog kaptola. Misi prethodi molitva Večernje u 18.30 sati.
URL:https://biskupija-sisak.hr/najava/trinaesta-obljetnica-uspostave-stolnog-kaptola/
LOCATION:Katedrala\, Sisačka katedrala\, Sisak\, 44000\, Croatia (Local Name: Hrvatska)
END:VEVENT
BEGIN:VEVENT
DTSTART;TZID=Europe/Helsinki:20250316T100000
DTEND;TZID=Europe/Helsinki:20250316T110000
DTSTAMP:20260421T223106
CREATED:20250307T104136Z
LAST-MODIFIED:20250314T112656Z
UID:987515175-1742119200-1742122800@biskupija-sisak.hr
SUMMARY:Krštenje petog djeteta obitelji Josipović
DESCRIPTION:Sisački biskup Vlado Košić predvodit će u nedjelju\, 16. ožujka u 10 sati\, u bogoslužnom prostoru župe sv. Ivana Pavla II. u Petrinji svečano misno slavlje\, tijekom kojeg će krstiti Luciju\, peto dijete obitelji Josipović.
URL:https://biskupija-sisak.hr/najava/krstenje-petog-djeteta-obitelji-josipovic/
END:VEVENT
BEGIN:VEVENT
DTSTART;TZID=Europe/Helsinki:20250315T093000
DTEND;TZID=Europe/Helsinki:20250315T190000
DTSTAMP:20260421T223106
CREATED:20250313T083838Z
LAST-MODIFIED:20250313T083838Z
UID:987515215-1742031000-1742065200@biskupija-sisak.hr
SUMMARY:Breški križni put u Kravarskom
DESCRIPTION:
URL:https://biskupija-sisak.hr/najava/breski-krizni-put-u-kravarskom/
END:VEVENT
BEGIN:VEVENT
DTSTART;TZID=Europe/Helsinki:20250306T100000
DTEND;TZID=Europe/Helsinki:20250306T140000
DTSTAMP:20260421T223106
CREATED:20250228T084900Z
LAST-MODIFIED:20250228T084900Z
UID:987515069-1741255200-1741269600@biskupija-sisak.hr
SUMMARY:Svećenički dan
DESCRIPTION:Svećenički dan Sisačke biskupije održat će se u četvrtak\, 6. ožujka\, u 10 sati u Dvorani “Juran i Sofija” u sisačkom Velikom Kaptolu. Predavanje na temu „Samoća i identitet svećenika“ održat će Đuliano Trdić.
URL:https://biskupija-sisak.hr/najava/svecenicki-dan-17/
LOCATION:Veliki Kaptol\, Trg bana Josipa Jelačića 9\, Sisak\, 44000\, Croatia (Local Name: Hrvatska)
END:VEVENT
BEGIN:VEVENT
DTSTART;TZID=Europe/Helsinki:20250305T190000
DTEND;TZID=Europe/Helsinki:20250305T200000
DTSTAMP:20260421T223106
CREATED:20250228T085101Z
LAST-MODIFIED:20250228T085126Z
UID:987515070-1741201200-1741204800@biskupija-sisak.hr
SUMMARY:Pepelnica u Sisku
DESCRIPTION:Na Čistu srijedu – Pepelnicu 5. ožujka misno slavlje s obredom pepeljenja\, u Pastoralnom centru Katedralne župe u Sisku u 19 sati\, predvodit će sisački biskup Vlado Košić.
URL:https://biskupija-sisak.hr/najava/pepelnica/
LOCATION:Katedrala\, Sisačka katedrala\, Sisak\, 44000\, Croatia (Local Name: Hrvatska)
END:VEVENT
BEGIN:VEVENT
DTSTART;TZID=Europe/Helsinki:20250304T190000
DTEND;TZID=Europe/Helsinki:20250304T210000
DTSTAMP:20260421T223106
CREATED:20250218T102619Z
LAST-MODIFIED:20250218T113019Z
UID:987514956-1741114800-1741122000@biskupija-sisak.hr
SUMMARY:Kateheza don Damir Stojića "Izgraditi Crkvu karizmama"
DESCRIPTION:
URL:https://biskupija-sisak.hr/najava/kateheta-don-damir-stojica-izgraditi-crkvu-karizmama/
LOCATION:Katedrala\, Sisačka katedrala\, Sisak\, 44000\, Croatia (Local Name: Hrvatska)
END:VEVENT
BEGIN:VEVENT
DTSTART;TZID=Europe/Helsinki:20250227T180000
DTEND;TZID=Europe/Helsinki:20250227T190000
DTSTAMP:20260421T223106
CREATED:20250214T084711Z
LAST-MODIFIED:20250214T090303Z
UID:987514945-1740679200-1740682800@biskupija-sisak.hr
SUMMARY:Blagdan blažene Marije od Isusa Deluil – Martiny u Lasinji
DESCRIPTION:Blagdan blažene Marije od Isusa Deluil – Martiny\, svoje utemeljiteljice\, proslavit će se u četvrtak\, 27. veljače\, Družba Kćeri Srca u Lasinji. Svečano misno slavlje\, s početkom u 18 sati\, predvodit će apostolski nuncij u RH\, nadbiskup Giorgio Lingua.
URL:https://biskupija-sisak.hr/najava/blagdan-blazene-marije-od-isusa-deluil-martiny-u-lasinji/
END:VEVENT
BEGIN:VEVENT
DTSTART;TZID=Europe/Helsinki:20250225T193000
DTEND;TZID=Europe/Helsinki:20250225T193000
DTSTAMP:20260421T223106
CREATED:20250218T113235Z
LAST-MODIFIED:20250218T131330Z
UID:987514959-1740511800-1740511800@biskupija-sisak.hr
SUMMARY:Svjedočanstvo bračnog para Žilavi
DESCRIPTION:
URL:https://biskupija-sisak.hr/najava/svjedocanstvo-bracnog-para-zilavi/
LOCATION:Katedrala\, Sisačka katedrala\, Sisak\, 44000\, Croatia (Local Name: Hrvatska)
END:VEVENT
BEGIN:VEVENT
DTSTART;TZID=Europe/Helsinki:20250224T090000
DTEND;TZID=Europe/Helsinki:20250225T170000
DTSTAMP:20260421T223106
CREATED:20250214T084622Z
LAST-MODIFIED:20250214T084622Z
UID:987514944-1740387600-1740502800@biskupija-sisak.hr
SUMMARY:Turnir krizmanika u malom nogometu
DESCRIPTION:Pastoral mladih Sisačke biskupije i vodstvo Katoličke malonogometne lige „Brat Ivan Bonifacije Pavletić“ ove godine organiziraju Turnir krizmanika u malom nogometu. Natjecanje će se održati u drugom dijelu zimskih praznika. U ponedjeljak\, 24. veljače\, u dvorani OŠ “Zorka Sever” u Popovači\, za župe Kutinskog\, Ivanićgradskog\, Sisačko-pešćeničkog i Sisačko-katedralnog dekanata\, a u utorak\, 25. veljače\, u Školskoj sportskoj dvorani u Glini\, za župe Glinskog\, Petrinjskog\, Dubičko-kostajničkog i Pokupsko-vukomeričkog dekanata. \nSusreti započinju zajedničkom svetom Misom u 9 sati u župnim crkvama u Glini i Popovači\, a potom se nastavljaju sportska natjecanja u dvoranama. \n 
URL:https://biskupija-sisak.hr/najava/turnir-krizmanika-u-malom-nogometu/
END:VEVENT
BEGIN:VEVENT
DTSTART;TZID=Europe/Helsinki:20250222T090000
DTEND;TZID=Europe/Helsinki:20250222T190000
DTSTAMP:20260421T223106
CREATED:20250130T095035Z
LAST-MODIFIED:20250130T095035Z
UID:987514729-1740214800-1740250800@biskupija-sisak.hr
SUMMARY:Prilika za susret - osoba otvorenih za katolički brak
DESCRIPTION:Katolička udruga „Prilika za Susret“ iz Osijeka uz podršku Povjerenstva za pastoral braka i obitelji Sisačke biskupije\, organizira PRVI REGIONALNI SUSRET u Sisku i 9.  regionalni susret u organizaciji Udruge pod geslom „Bog spaja nespojivo“ u subotu 22. veljače 2025. g. u prostorijama Pastoralnog centra Župe sv. Kvirina u Sisku. Na susret su pozvani svi slobodni muškarci i žene u dobi od 27 do 50 godina koji se žele pripremati za vezu i sakrament ženidbe. \nSusret započinje u 09\,15 sati uz prijave na susret i upoznavanje sudionika. Svetu misu i klanjanje Presvetom Oltarskom Sakramentu predvoditi će župnik župe sv. Petra apostola u Ivanić-Gradu i Povjerenik za pastoral braka i obitelji Sisačke biskupije\, vlč. Branko Koretić. Program započinje s klanjanjem Presvetom Oltarskom Sakramentu nakon kojega slijedi predavanje Maje Jakšić – teologinje\, psihoterapeutkinje\, voditeljice Centra za edukaciju i savjetovanje Hippocampus\, autorice niza stručnih  članaka i knjiga\, supruge i majke četvero djece. Program obuhvaća interaktivne radionice i svjedočanstva bračnih parova Udruge uz mogućnost upoznavanja sudionika koji dolaze iz cijele Republike Hrvatske i dijaspore. Susret završava sa svečanom svetom misu u 18\,00 sati u bazilici sv. Kvirina u Sisku. \nRegionalni susret je mjesto gdje možete doći slobodno bez opterećenja\, bez očekivanja i obveza.  Prijašnji susreti nam govore kako su sudionici otišli zadovoljniji za jedno lijepo i ugodno iskustvo više\, a neki su i upoznali svoje sadašnje supružnike upravo na našim susretima i platformi. Ukoliko želite čuti kvalitetna predavanja\, odlične radionice i svjedočenja bračnih parova dobro ste došli. Ukoliko želite upoznati nekoga biti ćete u okruženju osoba koje vas razumiju i prolaze slične životne situacije kao i vi te možete s njima razmijeniti iskustva. Susret je ispunjen pozitivnim i ohrabrujućim ozračjem uz svetu misu\, klanjanje\, predavanja\, interaktivne radionice\, slavljenje i molitvu. \nPrijave za susret uz sve dodatne informacije mogu se dobiti putem poveznice: \nhttp://subscribepage.io/Sisak \nKako je bilo na 8. regionalnom susretu u Sinju možete pogledati putem poveznice: \nhttps://www.gospa-sinjska.hr/wp/novosti/odrzan-prvi-susret-u-dalmaciji-za-slobodne-muskarce-i-zene/ \nKako je bilo na 7. regionalnom susretu u Osijeku možete pogledati putem poveznice: \nhttps://youtu.be/-QbYk5T2-0A
URL:https://biskupija-sisak.hr/najava/prilika-za-susret-osoba-otvorenih-za-katolicki-brak/
LOCATION:Bazilika sv. Kvirina\, Sisak\, Lonjska ulica 26\, Sisak\, 44000\, Croatia (Local Name: Hrvatska)
END:VEVENT
BEGIN:VEVENT
DTSTART;TZID=Europe/Helsinki:20250215T173000
DTEND;TZID=Europe/Helsinki:20250215T193000
DTSTAMP:20260421T223106
CREATED:20250214T085322Z
LAST-MODIFIED:20250214T085342Z
UID:987514946-1739640600-1739647800@biskupija-sisak.hr
SUMMARY:Proslava 50. godišnjice rođenja za nebo bl. Mihaela Sopoćka
DESCRIPTION:Proslava 50. godišnjice rođenja za nebo bl. Mihaela Sopoćka\, utemeljitelja Družbe sestara Milosrdnog Isusa\, održat će se u subotu\, 15. veljače\, u bazilici sv. Kvirina u Sisku. Svečano misno slavlja s početkom u 18 sati predvodit će župnik Josip Bulat iz Velike Ludine. Nakon mise slijedi štovanje relikvija bl. Mihaela Sopoćka.
URL:https://biskupija-sisak.hr/najava/987514946/
END:VEVENT
BEGIN:VEVENT
DTSTART;TZID=Europe/Helsinki:20250213T100000
DTEND;TZID=Europe/Helsinki:20250213T140000
DTSTAMP:20260421T223106
CREATED:20250205T080900Z
LAST-MODIFIED:20250205T082207Z
UID:987514756-1739440800-1739455200@biskupija-sisak.hr
SUMMARY:Svećenički dan
DESCRIPTION:Svećenički dan Sisačke biskupije održat će se u četvrtak\, 13. velječe\, u 10 sati u Dvorani Juran i Sofija u sisačkom Velikom Kaptolu. Predavanje na temu „Odnos svećenika i laika“ održat će prof. dr. sc. Gordan Črpić.
URL:https://biskupija-sisak.hr/najava/svdan225/
LOCATION:Veliki Kaptol\, Trg bana Josipa Jelačića 9\, Sisak\, 44000\, Croatia (Local Name: Hrvatska)
END:VEVENT
BEGIN:VEVENT
DTSTART;TZID=Europe/Helsinki:20250211T100000
DTEND;TZID=Europe/Helsinki:20250212T170000
DTSTAMP:20260421T223106
CREATED:20250205T080746Z
LAST-MODIFIED:20250209T154139Z
UID:987514755-1739268000-1739379600@biskupija-sisak.hr
SUMMARY:Dani bolesnika
DESCRIPTION:Dani bolesnika na području Sisačke biskupije bit će obilježeni 11. i 12. veljače misnim slavljima koja će predvoditi sisački biskup Vlado Košić u zajedništvu s povjerenikom za pastoral bolesnih i starijih osoba Rafaelom Mlinarom\, a prema sljedećem rasporedu: \nu utorak\, 11. veljače u 11 sati\, u bolničkoj kapeli Neuropsihijatrijske bolnice “Dr. Ivan Brabot” u Popovači; \nu utorak\, 11. veljače u 17 sati\, u kapeli Gospe Lurdske Lječilišta „Topusko“; \nu srijedu\, 12. veljače u 10 sati  u OB „Dr. Ivo Pedišić“ u Sisku; \nu srijedu\, 12. veljače u 17 sati  u Lječilištu Naftalan u Ivanić-Gradu.
URL:https://biskupija-sisak.hr/najava/dani-bolesnika-2/
END:VEVENT
BEGIN:VEVENT
DTSTART;TZID=Europe/Helsinki:20250210T110000
DTEND;TZID=Europe/Helsinki:20250210T170000
DTSTAMP:20260421T223106
CREATED:20250205T080623Z
LAST-MODIFIED:20250205T080623Z
UID:987514754-1739185200-1739206800@biskupija-sisak.hr
SUMMARY:Stepinčevo u Budaševu
DESCRIPTION:Župa Budaševo svečano će u ponedjeljak\, 10. veljače proslaviti blagdan svog zaštitnika i suzaštinika Sisačke biskupije bl. Alojzija Stepinca. Središnje misno slavlje u 11 sati u župnoj crkvi predvodit će sisački biskup Vlado Košić.
URL:https://biskupija-sisak.hr/najava/stepincevo-u-budasevu-3/
LOCATION:Crkva bl. Alojzija Stepinca\, Budaševo\, Trg M. Šokčevića 1\, Budaševo\, 44000\, Croatia (Local Name: Hrvatska)
END:VEVENT
END:VCALENDAR