BEGIN:VCALENDAR
VERSION:2.0
PRODID:-//Sisačka biskupija - ECPv6.15.20//NONSGML v1.0//EN
CALSCALE:GREGORIAN
METHOD:PUBLISH
X-WR-CALNAME:Sisačka biskupija
X-ORIGINAL-URL:https://biskupija-sisak.hr
X-WR-CALDESC:Događaji za Sisačka biskupija
REFRESH-INTERVAL;VALUE=DURATION:PT1H
X-Robots-Tag:noindex
X-PUBLISHED-TTL:PT1H
BEGIN:VTIMEZONE
TZID:Europe/Helsinki
BEGIN:DAYLIGHT
TZOFFSETFROM:+0200
TZOFFSETTO:+0300
TZNAME:EEST
DTSTART:20240331T010000
END:DAYLIGHT
BEGIN:STANDARD
TZOFFSETFROM:+0300
TZOFFSETTO:+0200
TZNAME:EET
DTSTART:20241027T010000
END:STANDARD
BEGIN:DAYLIGHT
TZOFFSETFROM:+0200
TZOFFSETTO:+0300
TZNAME:EEST
DTSTART:20250330T010000
END:DAYLIGHT
BEGIN:STANDARD
TZOFFSETFROM:+0300
TZOFFSETTO:+0200
TZNAME:EET
DTSTART:20251026T010000
END:STANDARD
BEGIN:DAYLIGHT
TZOFFSETFROM:+0200
TZOFFSETTO:+0300
TZNAME:EEST
DTSTART:20260329T010000
END:DAYLIGHT
BEGIN:STANDARD
TZOFFSETFROM:+0300
TZOFFSETTO:+0200
TZNAME:EET
DTSTART:20261025T010000
END:STANDARD
END:VTIMEZONE
BEGIN:VEVENT
DTSTART;TZID=Europe/Helsinki:20250624T100000
DTEND;TZID=Europe/Helsinki:20250624T120000
DTSTAMP:20260420T062203
CREATED:20250623T095855Z
LAST-MODIFIED:20250623T095855Z
UID:987516937-1750759200-1750766400@biskupija-sisak.hr
SUMMARY:Sjednica biskupa Zagrebačke crkvene pokrajine
DESCRIPTION:Sjednica biskupa Zagrebačke crkvene pokrajine pod predsjedanjem zagrebačkog nadbiskupa i metropolita Dražena Kutleše održat će se u utorak\, 24. lipnja 2025. u 10 sati u Biskupijskom ordinarijatu\, Velikom Kaptolu\, u Sisku. Početak sjednice otvoren je za medije.
URL:https://biskupija-sisak.hr/najava/sjednica-biskupa-zagrebacke-crkvene-pokrajine-2/
LOCATION:Veliki Kaptol\, Trg bana Josipa Jelačića 9\, Sisak\, 44000\, Croatia (Local Name: Hrvatska)
END:VEVENT
BEGIN:VEVENT
DTSTART;TZID=Europe/Helsinki:20250623T090000
DTEND;TZID=Europe/Helsinki:20250623T100000
DTSTAMP:20260420T062203
CREATED:20250616T070154Z
LAST-MODIFIED:20250616T070635Z
UID:987516734-1750669200-1750672800@biskupija-sisak.hr
SUMMARY:Blagoslov kapele u Veteranskom centru u Petrinji
DESCRIPTION:Sisački biskup Vlado Košić predvodit će u ponedjeljak 23. lipnja u 9 sati misno u kapeli sv. Ivana Krstitelja u Veteranskom centru u Petrinji i tijekom kojeg će tu novouređenu kapelu i blagosloviti.
URL:https://biskupija-sisak.hr/najava/blagoslov-kapele-u-veteranskom-centru-u-petrinji/
END:VEVENT
BEGIN:VEVENT
DTSTART;TZID=Europe/Helsinki:20250622T180000
DTEND;TZID=Europe/Helsinki:20250622T190000
DTSTAMP:20260420T062203
CREATED:20250616T065730Z
LAST-MODIFIED:20250616T070011Z
UID:987516732-1750615200-1750618800@biskupija-sisak.hr
SUMMARY:Krštenje petog djeteta obitelji Pervan
DESCRIPTION:Sisački biskup Vlado Košić predvodit će u nedjelju\, 22. lipnja u 18 sati\, u crkvi sv. Ivana Nepomuka u Glini svečano misno slavlje\, tijekom kojeg će krstiti Matea\, peto dijete obitelji Pervan.
URL:https://biskupija-sisak.hr/najava/krstenje-petog-djeteta-obitelji-pervan/
END:VEVENT
BEGIN:VEVENT
DTSTART;TZID=Europe/Helsinki:20250622T113000
DTEND;TZID=Europe/Helsinki:20250622T123000
DTSTAMP:20260420T062203
CREATED:20250618T142525Z
LAST-MODIFIED:20250618T142525Z
UID:987516739-1750591800-1750595400@biskupija-sisak.hr
SUMMARY:Blagdan sv. Akacija u Gredi
DESCRIPTION:Blagdan sv. Akacija i deset tisuća mučenika\, 432. obljetnica čuvene Sisačke bitke s Turcima te spomen na sve branitelje Siska i Europe\, obilježit će se u istoimenoj kapelici u Gredi (župa Sela) u nedjelju\, 22. lipnja 2025. Svečano misno slavlje s početkom u 11.30 sati predvodit će domaći župnik i kanonik Dragutin Papić.
URL:https://biskupija-sisak.hr/najava/blagdan-sv-akacija-u-gredi/
LOCATION:Greda\, Greda 93\, Sisak\, Croatia (Local Name: Hrvatska)
END:VEVENT
BEGIN:VEVENT
DTSTART;TZID=Europe/Helsinki:20250622T110000
DTEND;TZID=Europe/Helsinki:20250622T110000
DTSTAMP:20260420T062203
CREATED:20250616T065701Z
LAST-MODIFIED:20250616T065701Z
UID:987516731-1750590000-1750590000@biskupija-sisak.hr
SUMMARY:Krštenje petog djeteta obitelji Medur
DESCRIPTION:Sisački biskup Vlado Košić predvodit će u nedjelju\, 22. lipnja u 11 sati\, u bazilici sv. Kvirina u Sisku svečano misno slavlje\, tijekom kojeg će krstiti Gabriela\, peto dijete obitelji Medur.
URL:https://biskupija-sisak.hr/najava/krstenje-petog-djeteta-obitelji-medur/
END:VEVENT
BEGIN:VEVENT
DTSTART;VALUE=DATE:20250620
DTEND;VALUE=DATE:20250623
DTSTAMP:20260420T062203
CREATED:20250616T065859Z
LAST-MODIFIED:20250616T065859Z
UID:987516733-1750377600-1750636799@biskupija-sisak.hr
SUMMARY:Sedmi Mladifest Hrvatska
DESCRIPTION:Sedmi Mladifest Hrvatska održat će se od 20. do 22. lipnja u Župi sv. Kvirina u Sisku\, u organizaciji Sisačke biskupije i Marijine legije iz Petrinje. Ovaj duhovni festival\, koji se nadahnjuje poznatim Međunarodnim molitvenim festivalom mladih u Međugorju\, okupit će mlade iz cijele Hrvatske i šire pod geslom „Molite dakle gospodara žetve da pošalje radnike u žetvu svoju“. \nKako ističu organizatori\, cilj Mladifesta je mladima pružiti prostor za dublje promišljanje vjere\, osobnu obnovu kroz molitvu\, zajedništvo i svjedočanstva. \nProgram festivala svakodnevno započinje u 15:30. U petak\, 20. lipnja\, sudionike očekuju svjedočanstva vlč. Renata Galića\, časne sestre Marije Rotim te hrvatskog branitelja Srećka Karića. Katehezu u 17:30 održat će vlč. Boris Jozić\, a misu u 19 sati predvodit će sisački biskup Vlado Košić. Večer završava u 20:30 pobožnošću Puta svjetla. \nU subotu\, 21. lipnja\, svjedočit će Matko Čelić iz Marijanskog zavjeta za Domovinu i Michael Karačanakov iz zajednice Nanovo rođeni. Katehezu i misu predvodi isusovac vlč. Ike Mandurić\, a večer završava koncertom duhovne glazbe u 21 sat. \nZavršni dan\, nedjelja\, 22. lipnja\, donosi svjedočanstva Melinde Dumitrescu\, poznate violinistice iz Međugorja\, te Simone Mijoković\, bivše manekenke i obraćenice. Završnu katehezu i svetu misu predvodit će vlč. Luka Klarica\, a festival će biti zaključen klanjanjem i pjesmom zahvalnosti u 21 sat. \nKompletan program moći će se kao dosadašnjih godina pratiti i putem društvenih mreža i streaming platformi\, a detaljne informacije dostupne su na društvenim mrežama Mladifesta Hrvatska i Sisačke biskupije.
URL:https://biskupija-sisak.hr/najava/sedmi-mladifest-hrvatska/
LOCATION:Bazilika sv. Kvirina\, Sisak\, Lonjska ulica 26\, Sisak\, 44000\, Croatia (Local Name: Hrvatska)
END:VEVENT
BEGIN:VEVENT
DTSTART;TZID=Europe/Helsinki:20250619T110000
DTEND;TZID=Europe/Helsinki:20250619T120000
DTSTAMP:20260420T062204
CREATED:20250616T065616Z
LAST-MODIFIED:20250616T065616Z
UID:987516730-1750330800-1750334400@biskupija-sisak.hr
SUMMARY:Tijelovo u Gori
DESCRIPTION:Na svetkovinu Tijelova\, Presvete Krvi i Tijela Isusova\, u četvrtak 19. lipnja\, sisački biskup Vlado Košić predvodit će misno slavlje u svetištu Majke naših stradanja u Gori s početkom u 11 sati.
URL:https://biskupija-sisak.hr/najava/tijelovo-u-gori/
END:VEVENT
BEGIN:VEVENT
DTSTART;TZID=Europe/Helsinki:20250618T183000
DTEND;TZID=Europe/Helsinki:20250618T200000
DTSTAMP:20260420T062204
CREATED:20250616T065536Z
LAST-MODIFIED:20250616T065536Z
UID:987516728-1750271400-1750276800@biskupija-sisak.hr
SUMMARY:Primanje među kandidate za red đakonata
DESCRIPTION:Sisački biskup Vlado Košić predvodit će u srijedu 18. lipnja 2025. u 18.30 sati misno slavlje u crkvi sv. Alojzija Gonzage u Popovači tijekom kojeg će među kandidate za red đakonata biti primljeni Danijel Markešić iz župe Popovača i Zoran Sučec iz župe Preobraženja Gospodnjeg u Petrinji.
URL:https://biskupija-sisak.hr/najava/primanje-medu-kandidate-za-red-dakonata/
LOCATION:pop
END:VEVENT
BEGIN:VEVENT
DTSTART;TZID=Europe/Helsinki:20250614T150000
DTEND;TZID=Europe/Helsinki:20250614T180000
DTSTAMP:20260420T062204
CREATED:20250610T123936Z
LAST-MODIFIED:20250610T123936Z
UID:987516580-1749913200-1749924000@biskupija-sisak.hr
SUMMARY:Duhovno-molitveni susret u Velikoj Ludini
DESCRIPTION:
URL:https://biskupija-sisak.hr/najava/duhovno-molitveni-susret-u-velikoj-ludini/
END:VEVENT
BEGIN:VEVENT
DTSTART;TZID=Europe/Helsinki:20250613T110000
DTEND;TZID=Europe/Helsinki:20250613T110000
DTSTAMP:20260420T062204
CREATED:20250605T091529Z
LAST-MODIFIED:20250610T161210Z
UID:987516502-1749812400-1749812400@biskupija-sisak.hr
SUMMARY:Blagoslov nove crkve u Odri
DESCRIPTION:Sisački biskup Vlado Košić predvodit će u petak\, 13. lipnja u 11 sati\, svečano misno slavlje u novoizgrađenoj crkvi sv. Antuna Padovanskog u Odri Sisačkoj te će tom prigodom blagosloviti novu crkvu. Izgradnju ove crkve sufinancirala je Republika Mađarska u sklopu pomoći nakon potresa ovome kraju.
URL:https://biskupija-sisak.hr/najava/blagoslov-nove-crkve-u-odri/
END:VEVENT
BEGIN:VEVENT
DTSTART;TZID=Europe/Helsinki:20250612T180000
DTEND;TZID=Europe/Helsinki:20250615T110000
DTSTAMP:20260420T062204
CREATED:20250610T123605Z
LAST-MODIFIED:20250610T123623Z
UID:987516578-1749751200-1749985200@biskupija-sisak.hr
SUMMARY:Duhovna obnova i proslava 25 godina svećeništva vlč. Branka Koretića!
DESCRIPTION:
URL:https://biskupija-sisak.hr/najava/duhovna-obnova-i-proslava-25-godina-svecenistva-vlc-branka-koretica/
END:VEVENT
BEGIN:VEVENT
DTSTART;TZID=Europe/Helsinki:20250611T100000
DTEND;TZID=Europe/Helsinki:20250611T110000
DTSTAMP:20260420T062204
CREATED:20250605T091659Z
LAST-MODIFIED:20250605T091659Z
UID:987516504-1749636000-1749639600@biskupija-sisak.hr
SUMMARY:Misno slavlje povodom dana Sisačko-moslavačke županije
DESCRIPTION:Sisački biskup Vlado Košić predvodit će u srijedu\, 11. lipnja u 10 sati\, misno slavlje u crkvi sv. Martina u Martinskoj Vesi\, povodom Dana Stjepana i Antuna Radića te Dana Sisačko-moslavačke županije.
URL:https://biskupija-sisak.hr/najava/misno-slavlje-povodom-dana-sisacko-moslavacke-zupanije/
LOCATION:Crkva sv. Martina\, Martinska Ves\, Desna MartinskaVes 64\, Martinska Ves\, 44201\, Croatia (Local Name: Hrvatska)
END:VEVENT
BEGIN:VEVENT
DTSTART;TZID=Europe/Helsinki:20250608T100000
DTEND;TZID=Europe/Helsinki:20250608T120000
DTSTAMP:20260420T062204
CREATED:20250605T091206Z
LAST-MODIFIED:20250605T091223Z
UID:987516501-1749376800-1749384000@biskupija-sisak.hr
SUMMARY:Duhovi u katedrali
DESCRIPTION:Na svetkovinu Duhova\, u nedjelju 8. lipnja u 10 sati\, sisački biskup Vlado Košić predvodit će svečano misno slavlje u dvorištu katedralne župe Uzvišenja Svetoga Križa u Sisku i tom prigodom podijeliti sakrament potvrde kandidatima ove župe.
URL:https://biskupija-sisak.hr/najava/duhovi-u-katedrali/
LOCATION:Katedrala\, Sisačka katedrala\, Sisak\, 44000\, Croatia (Local Name: Hrvatska)
END:VEVENT
BEGIN:VEVENT
DTSTART;TZID=Europe/Helsinki:20250607T210000
DTEND;TZID=Europe/Helsinki:20250607T220000
DTSTAMP:20260420T062204
CREATED:20250602T134426Z
LAST-MODIFIED:20250602T134426Z
UID:987516416-1749330000-1749333600@biskupija-sisak.hr
SUMMARY:Duhovsko bdijenje u Glini
DESCRIPTION:
URL:https://biskupija-sisak.hr/najava/duhovsko-bdijenje-u-glini/
END:VEVENT
BEGIN:VEVENT
DTSTART;TZID=Europe/Helsinki:20250607T160000
DTEND;TZID=Europe/Helsinki:20250607T170000
DTSTAMP:20260420T062204
CREATED:20250605T091047Z
LAST-MODIFIED:20250605T091047Z
UID:987516499-1749312000-1749315600@biskupija-sisak.hr
SUMMARY:Duhovi u Hrastovici
DESCRIPTION:Uoči svetkovine Duhova\, u subotu 7. lipnja 2025.\, vjernici župe Hrastovica i petrinjskog kraja okupit će se na tradicionalnoj proslavi Duhova na Hrastovičkoj gori\, kod ruševine crkve Svetoga Duha. Svečano misno slavlje s početkom u 16 sati predslavit će sisački biskup mons. Vlado Košić. Liturgijsko slavlje obogatit će pjevanje „Pučkih pivača“ Katoličkog bogoslovnog fakulteta u Zagrebu. \n \n 
URL:https://biskupija-sisak.hr/najava/duhovi-u-hrastovici/
END:VEVENT
BEGIN:VEVENT
DTSTART;TZID=Europe/Helsinki:20250606T080000
DTEND;TZID=Europe/Helsinki:20250608T170000
DTSTAMP:20260420T062204
CREATED:20250602T133143Z
LAST-MODIFIED:20250602T133143Z
UID:987516414-1749196800-1749402000@biskupija-sisak.hr
SUMMARY:Duhovna obnova uoči Duhova u Preobraženju Gospodnjem
DESCRIPTION:
URL:https://biskupija-sisak.hr/najava/duhovna-obnova-uoci-duhova-u-preobrazenju-gospodnjem/
END:VEVENT
BEGIN:VEVENT
DTSTART;TZID=Europe/Helsinki:20250531T190000
DTEND;TZID=Europe/Helsinki:20250531T210000
DTSTAMP:20260420T062204
CREATED:20250527T125554Z
LAST-MODIFIED:20250527T125554Z
UID:987516323-1748718000-1748725200@biskupija-sisak.hr
SUMMARY:Duhovna obnova u Kravarskom
DESCRIPTION:
URL:https://biskupija-sisak.hr/najava/duhovna-obnova-u-kravarskom-5/
LOCATION:Kravarsko\, Trg Stjepana Radića\, Kravarsko\, Croatia (Local Name: Hrvatska)
END:VEVENT
BEGIN:VEVENT
DTSTART;TZID=Europe/Helsinki:20250530T170000
DTEND;TZID=Europe/Helsinki:20250613T190000
DTSTAMP:20260420T062204
CREATED:20250527T125306Z
LAST-MODIFIED:20250527T125306Z
UID:987516319-1748624400-1749841200@biskupija-sisak.hr
SUMMARY:11. Zrin festival
DESCRIPTION:
URL:https://biskupija-sisak.hr/najava/11-zrin-festival/
END:VEVENT
BEGIN:VEVENT
DTSTART;TZID=Europe/Helsinki:20250528T180000
DTEND;TZID=Europe/Helsinki:20250531T190000
DTSTAMP:20260420T062204
CREATED:20250527T125416Z
LAST-MODIFIED:20250527T125416Z
UID:987516321-1748455200-1748718000@biskupija-sisak.hr
SUMMARY:Proslava blagdana Pohoda BDM u Sisku
DESCRIPTION:
URL:https://biskupija-sisak.hr/najava/proslava-blagdana-pohoda-bdm-u-sisku/
END:VEVENT
BEGIN:VEVENT
DTSTART;TZID=Europe/Helsinki:20250526T080000
DTEND;TZID=Europe/Helsinki:20250604T170000
DTSTAMP:20260420T062204
CREATED:20250522T103948Z
LAST-MODIFIED:20250522T104011Z
UID:987516283-1748246400-1749056400@biskupija-sisak.hr
SUMMARY:Kvirinovo 2025.
DESCRIPTION:Svetkovina sv. Kvirina\, zaštitnika Sisačke biskupije i grada Siska\, bit će proslavljena u srijedu 4. lipnja u Sisku i njemu posvećenoj sisačkoj župi. Proslava započinje u 9.30 sati okupljanjem vjernika\, udruga i predstavnika institucija iz javnog života ispred katedrale Uzvišenja svetog Križa. U 10 sati kreće procesija od sisačke katedrale ulicama grada do bazilike sv. Kvirina. Svečano misno slavlje u bazilici\, s početkom u 11 sati\, predvodit će gospićko-senjski biskup Marko Medo u zajedništvu sa sisačkim biskupom Vladom Košićem i biskupima Zagrebačke metropolije. Večernju misu u 19 sati predslavit će župni vikar petrinjske župe Preobraženja Gospodnjeg Frano Bijelić. Proslavi prethodi devetnica uoči blagdana od 26. svibnja do 3. lipnja kojom će se Siščani i hodočasnici u bazilici duhovno pripravljati za proslavu svoga zaštitnika. Svakoga dana devetnice prije mise bit će prilika za ispovijed\, a misama u 19 sati prethodi molitva krunice i zagovora sv. Kvirinu u 18.30 sati. Prvog dana devetnice misno slavlje predvodi sisački biskup Vlado Košić koji će tom prigodom tradicionalno dodijeliti odlikovanje sv. Kvirina.
URL:https://biskupija-sisak.hr/najava/kvirinovo-2025/
LOCATION:Bazilika sv. Kvirina\, Sisak\, Lonjska ulica 26\, Sisak\, 44000\, Croatia (Local Name: Hrvatska)
END:VEVENT
BEGIN:VEVENT
DTSTART;TZID=Europe/Helsinki:20250525T200000
DTEND;TZID=Europe/Helsinki:20250525T210000
DTSTAMP:20260420T062204
CREATED:20250522T104204Z
LAST-MODIFIED:20250522T115453Z
UID:987516285-1748203200-1748206800@biskupija-sisak.hr
SUMMARY:Koncert ususret Kvirinovu
DESCRIPTION:
URL:https://biskupija-sisak.hr/najava/koncert-za-blagdan-sv-kvirina/
LOCATION:Bazilika sv. Kvirina\, Sisak\, Lonjska ulica 26\, Sisak\, 44000\, Croatia (Local Name: Hrvatska)
END:VEVENT
BEGIN:VEVENT
DTSTART;TZID=Europe/Helsinki:20250514T200000
DTEND;TZID=Europe/Helsinki:20250514T210000
DTSTAMP:20260420T062204
CREATED:20250509T094354Z
LAST-MODIFIED:20250509T094433Z
UID:987516241-1747252800-1747256400@biskupija-sisak.hr
SUMMARY:Predstava "Teška vremena"
DESCRIPTION:
URL:https://biskupija-sisak.hr/najava/predstava-teska-vremena/
END:VEVENT
BEGIN:VEVENT
DTSTART;TZID=Europe/Helsinki:20250513T193000
DTEND;TZID=Europe/Helsinki:20250513T210000
DTSTAMP:20260420T062204
CREATED:20250509T094228Z
LAST-MODIFIED:20250509T094256Z
UID:987516239-1747164600-1747170000@biskupija-sisak.hr
SUMMARY:Humanitarni koncert „Ne zaboravi one koji zaboravljaju“
DESCRIPTION:
URL:https://biskupija-sisak.hr/najava/humanitarni-koncert-ne-zaboravi-one-koji-zaboravljaju/
END:VEVENT
BEGIN:VEVENT
DTSTART;TZID=Europe/Helsinki:20250513T180000
DTEND;TZID=Europe/Helsinki:20250516T190000
DTSTAMP:20260420T062204
CREATED:20250509T094125Z
LAST-MODIFIED:20250509T094125Z
UID:987516237-1747159200-1747422000@biskupija-sisak.hr
SUMMARY:Proslava župnog blagdana u Glini
DESCRIPTION:
URL:https://biskupija-sisak.hr/najava/proslava-zupnog-blagdana-u-glini/
END:VEVENT
BEGIN:VEVENT
DTSTART;TZID=Europe/Helsinki:20250510T110000
DTEND;TZID=Europe/Helsinki:20250510T120000
DTSTAMP:20260420T062204
CREATED:20250430T124817Z
LAST-MODIFIED:20250430T124817Z
UID:987516126-1746874800-1746878400@biskupija-sisak.hr
SUMMARY:Vanjska proslava župnog blagdana u Gvozdanskom
DESCRIPTION:Vanjska proslava župnog blagdana\, sv. Filipa i Jakova\, župe Gvozdansko održat će se u subotu\, 10. svibnja 2025.. Svečano misno slavlje u župnoj crkvi predvodit će župnik iz Hrvatske Dubice Josip Jerković s početkom u 11 sati.
URL:https://biskupija-sisak.hr/najava/vanjska-proslava-zupnog-blagdana-u-gvozdanskom/
END:VEVENT
BEGIN:VEVENT
DTSTART;TZID=Europe/Helsinki:20250508T100000
DTEND;TZID=Europe/Helsinki:20250508T140000
DTSTAMP:20260420T062204
CREATED:20250425T125818Z
LAST-MODIFIED:20250427T134344Z
UID:987516009-1746698400-1746712800@biskupija-sisak.hr
SUMMARY:Svećenički dan
DESCRIPTION:Svećenički dan Sisačke biskupije održat će se u četvrtak\, 8. svibnja\, u 10 sati u Dvorani “Juran i Sofija” u sisačkom Velikom Kaptolu. Predavanje na temu „Pastoralni rad s osobama s invaliditetom“ održat će vlč. Leonardo Šardi.
URL:https://biskupija-sisak.hr/najava/svecanicki-dan/
LOCATION:Veliki Kaptol\, Trg bana Josipa Jelačića 9\, Sisak\, 44000\, Croatia (Local Name: Hrvatska)
END:VEVENT
BEGIN:VEVENT
DTSTART;TZID=Europe/Helsinki:20250506T190000
DTEND;TZID=Europe/Helsinki:20250506T203000
DTSTAMP:20260420T062204
CREATED:20250425T125441Z
LAST-MODIFIED:20250425T125441Z
UID:987516004-1746558000-1746563400@biskupija-sisak.hr
SUMMARY:Kateheza "Ispovijed i praktični savjeti"
DESCRIPTION:
URL:https://biskupija-sisak.hr/najava/kateheza-ispovijed-i-prakticni-savjeti/
LOCATION:Katedrala\, Sisačka katedrala\, Sisak\, 44000\, Croatia (Local Name: Hrvatska)
END:VEVENT
BEGIN:VEVENT
DTSTART;TZID=Europe/Helsinki:20250504T080000
DTEND;TZID=Europe/Helsinki:20250511T170000
DTSTAMP:20260420T062204
CREATED:20250428T065917Z
LAST-MODIFIED:20250428T084916Z
UID:987516054-1746345600-1746982800@biskupija-sisak.hr
SUMMARY:19. Međunarodni orguljaški festival Ars Organi Sisciae: apel za obnovu povijesnih orgulja
DESCRIPTION:Međunarodni orguljaški festival Ars Organi Sisciae: apel za obnovu povijesnih orgulja\n\nOd 4. do 11. svibnja 2025. godine održava se 19. Međunarodni orguljaški festival Ars Organi Sisciae\, koji će obuhvatiti crkve u Glini\, Petrinji\, Hrvatskoj Kostajnici\, Vukovini\, Voloderu\, Martinskoj Vesi i Sisku. Ovogodišnje izdanje festivala\, pod umjetničkim vodstvom Valentine Badanjak Pintarić\, nosi snažnu poruku o potrebi obnove i zaštite povijesnih orgulja u potresom pogođenim krajevima. \nFestival otvara Glazbena škola Vatroslava Lisinskog iz Zagreba izvedbom Mozartove „Krunidbene mise“ u Glini\, dok će u nastavku festivalskog tjedna publika uživati u koncertima Hrvatskog baroknog ansambla\, gitarista Edina Karamazova\, mladog orguljaša Dubravka Ćepulića Polgara\, slovačkog orguljaša Stanislava Šurina i panflautistice Liselotte Rokyta. Nastupit će i renomirani klarinetist Bruno Philipp uz orguljaša Milana Hibšera\, a festivalsko zatvaranje u Sisku obilježit će nastup Muškog kvarteta Adore. \nArs Organi Sisciae ostaje vjeran svojoj misiji – promociji orguljaške glazbe i podizanju svijesti o potrebi očuvanja kulturne baštine. Ulaz na sve koncerte je slobodan\, a festival se održava uz potporu Ministarstva kulture i medija RH\, Sisačke biskupije\, županija i gradova partnera. \nSve informacije o festivalu dostupne su na www.ars-organi-sisciae.com. \nFestivalska sezona Hrvatske udruge Ars Organi Sisciae tek počinje međunarodnim orguljaškim festivalom\, a najavljuje i 11. Zrin festival (30.5.-13.6.)\, 7. Festival drvenih kapela Sancta Barbara (6.-13.7.) i 5. Like Lika Festival (6.-14.9.).
URL:https://biskupija-sisak.hr/najava/19-medunarodni-orguljaski-festival-ars-organi-sisciae-apel-za-obnovu-povijesnih-orgulja/
END:VEVENT
BEGIN:VEVENT
DTSTART;TZID=Europe/Helsinki:20250503T160000
DTEND;TZID=Europe/Helsinki:20250503T170000
DTSTAMP:20260420T062204
CREATED:20250425T125701Z
LAST-MODIFIED:20250425T125741Z
UID:987516008-1746288000-1746291600@biskupija-sisak.hr
SUMMARY:Blagdan Našašća Svetog Križa
DESCRIPTION:Blagdan Našašća Svetoga Križa bit će proslavljen u subotu\, 3. svibnja 2025.\, u Zrinu. Misno slavlje u spomen-crkvi započet će u 16 sati\, a predvodit će ga sisački biskup Vlado Košić.
URL:https://biskupija-sisak.hr/najava/blagdan-nasasca-svetog-kriza/
LOCATION:Zrin\, Zrin\, Zrin\, 44440\, Croatia (Local Name: Hrvatska)
END:VEVENT
BEGIN:VEVENT
DTSTART;TZID=Europe/Helsinki:20250501T110000
DTEND;TZID=Europe/Helsinki:20250501T190000
DTSTAMP:20260420T062204
CREATED:20250425T125600Z
LAST-MODIFIED:20250425T125600Z
UID:987516006-1746097200-1746126000@biskupija-sisak.hr
SUMMARY:Blagdan sv. Josipa Radnika u Sisku
DESCRIPTION:
URL:https://biskupija-sisak.hr/najava/blagdan-sv-josipa-radnika-u-sisku/
END:VEVENT
END:VCALENDAR