BEGIN:VCALENDAR
VERSION:2.0
PRODID:-//Sisačka biskupija - ECPv6.15.20//NONSGML v1.0//EN
CALSCALE:GREGORIAN
METHOD:PUBLISH
X-WR-CALNAME:Sisačka biskupija
X-ORIGINAL-URL:https://biskupija-sisak.hr
X-WR-CALDESC:Događaji za Sisačka biskupija
REFRESH-INTERVAL;VALUE=DURATION:PT1H
X-Robots-Tag:noindex
X-PUBLISHED-TTL:PT1H
BEGIN:VTIMEZONE
TZID:Europe/Helsinki
BEGIN:DAYLIGHT
TZOFFSETFROM:+0200
TZOFFSETTO:+0300
TZNAME:EEST
DTSTART:20210328T010000
END:DAYLIGHT
BEGIN:STANDARD
TZOFFSETFROM:+0300
TZOFFSETTO:+0200
TZNAME:EET
DTSTART:20211031T010000
END:STANDARD
BEGIN:DAYLIGHT
TZOFFSETFROM:+0200
TZOFFSETTO:+0300
TZNAME:EEST
DTSTART:20220327T010000
END:DAYLIGHT
BEGIN:STANDARD
TZOFFSETFROM:+0300
TZOFFSETTO:+0200
TZNAME:EET
DTSTART:20221030T010000
END:STANDARD
BEGIN:DAYLIGHT
TZOFFSETFROM:+0200
TZOFFSETTO:+0300
TZNAME:EEST
DTSTART:20230326T010000
END:DAYLIGHT
BEGIN:STANDARD
TZOFFSETFROM:+0300
TZOFFSETTO:+0200
TZNAME:EET
DTSTART:20231029T010000
END:STANDARD
END:VTIMEZONE
BEGIN:VTIMEZONE
TZID:Europe/Zagreb
BEGIN:DAYLIGHT
TZOFFSETFROM:+0100
TZOFFSETTO:+0200
TZNAME:CEST
DTSTART:20210328T010000
END:DAYLIGHT
BEGIN:STANDARD
TZOFFSETFROM:+0200
TZOFFSETTO:+0100
TZNAME:CET
DTSTART:20211031T010000
END:STANDARD
BEGIN:DAYLIGHT
TZOFFSETFROM:+0100
TZOFFSETTO:+0200
TZNAME:CEST
DTSTART:20220327T010000
END:DAYLIGHT
BEGIN:STANDARD
TZOFFSETFROM:+0200
TZOFFSETTO:+0100
TZNAME:CET
DTSTART:20221030T010000
END:STANDARD
BEGIN:DAYLIGHT
TZOFFSETFROM:+0100
TZOFFSETTO:+0200
TZNAME:CEST
DTSTART:20230326T010000
END:DAYLIGHT
BEGIN:STANDARD
TZOFFSETFROM:+0200
TZOFFSETTO:+0100
TZNAME:CET
DTSTART:20231029T010000
END:STANDARD
END:VTIMEZONE
BEGIN:VTIMEZONE
TZID:UTC
BEGIN:STANDARD
TZOFFSETFROM:+0000
TZOFFSETTO:+0000
TZNAME:UTC
DTSTART:20210101T000000
END:STANDARD
END:VTIMEZONE
BEGIN:VEVENT
DTSTART;TZID=Europe/Helsinki:20220901T100000
DTEND;TZID=Europe/Helsinki:20220901T140000
DTSTAMP:20260423T105408
CREATED:20220810T160436Z
LAST-MODIFIED:20220810T160436Z
UID:987501129-1662026400-1662040800@biskupija-sisak.hr
SUMMARY:Svećenički dan
DESCRIPTION:Svećenički dan Sisačke biskupije bit će u četvrtak 1. rujna. U 10 sati u Dvorani sv. Ivana Pavla II. u sisačkom Velikom Kaptolu predavanje „Biskupijska sinoda kao izazov i šansa“ održat će dr. sc. Tomislav Markić.
URL:https://biskupija-sisak.hr/najava/svecenicki-dan/
LOCATION:Veliki Kaptol\, Trg bana Josipa Jelačića 9\, Sisak\, 44000\, Croatia (Local Name: Hrvatska)
END:VEVENT
BEGIN:VEVENT
DTSTART;TZID=Europe/Helsinki:20220828T080000
DTEND;TZID=Europe/Helsinki:20220828T090000
DTSTAMP:20260423T105408
CREATED:20220819T073755Z
LAST-MODIFIED:20220819T073908Z
UID:987501497-1661673600-1661677200@biskupija-sisak.hr
SUMMARY:Uvođenje u službu novog župnika u župe sv. Ivana Pavla II.
DESCRIPTION:Sisački biskup Vlado Košić predvodit će u nedjelju\, 28. kolovoza u 8 sati misno slavlje u bogoslužnom prostoru župe sv. Ivana Pavla II. u Petrinji i tom prigodom u službu uvesti novog župnika fra Matu Bašića.
URL:https://biskupija-sisak.hr/najava/uvodenje-u-sluzbu-novog-zupnika-u-zupe-sv-ivana-pavla-ii/
LOCATION:Župa sv. ivana Pavla II\, Petrinja\, Gromova ulica 113\, Petrinja\, 44250
END:VEVENT
BEGIN:VEVENT
DTSTART;TZID=Europe/Helsinki:20220824T183000
DTEND;TZID=Europe/Helsinki:20220824T190000
DTSTAMP:20260423T105408
CREATED:20220819T073703Z
LAST-MODIFIED:20220819T073703Z
UID:987501496-1661365800-1661367600@biskupija-sisak.hr
SUMMARY:Blagoslov kipa bl. Miroslava Bulešića
DESCRIPTION:Sisački biskup Vlado Košić blagoslovit će srijedu 24. kolovoza u 18.30 sati u atriju Velikog Kaptola novopostavljeni bl. Miroslava Bulešića.
URL:https://biskupija-sisak.hr/najava/blagoslov-kipa-bl-miroslava-bulesica/
LOCATION:Veliki Kaptol\, Trg bana Josipa Jelačića 9\, Sisak\, 44000\, Croatia (Local Name: Hrvatska)
END:VEVENT
BEGIN:VEVENT
DTSTART;TZID=Europe/Helsinki:20220824T110000
DTEND;TZID=Europe/Helsinki:20220824T120000
DTSTAMP:20260423T105408
CREATED:20220819T073603Z
LAST-MODIFIED:20220819T073603Z
UID:987501495-1661338800-1661342400@biskupija-sisak.hr
SUMMARY:Bartolovo u Hrastovici
DESCRIPTION:Župa sv. Bartola u Hrastovici svečano će u srijedu 24. kolovoza proslaviti blagdan svog nebeskog zaštitnika. Središnje misno slavlje u 11 sati predvodit će sisački biskup Vlado Košić koji će tom prigodom u službu uvesti novog župnika fra Matu Bašića.
URL:https://biskupija-sisak.hr/najava/bartolovo-u-hrastovici/
END:VEVENT
BEGIN:VEVENT
DTSTART;VALUE=DATE:20220819
DTEND;VALUE=DATE:20220821
DTSTAMP:20260423T105408
CREATED:20220801T101200Z
LAST-MODIFIED:20220801T101317Z
UID:987501039-1660867200-1661039999@biskupija-sisak.hr
SUMMARY:Hodočašće u Mariju Bistricu
DESCRIPTION:Trinaesto zavjetno hodočašće Sisačke biskupije u Hrvatsko nacionalno svetište Majke Božje Bistričke održat će se u subotu\, 20. kolovoza. Hodočašće kao i svečano misno slavlje u 11 sati\, za okupljene hodočasnike\, predvodit će sisački biskup Vlado Košić. U petak\, 19. kolovoza biskup Košić sudjelovat će s mladima Sisačke biskupije na prigodnom programu prilikom devetog hodočašća mladih biskupije u ovo Svetište. Program za mlade započinje u 18 sati misnim slavljem u bistričkoj bazilici.
URL:https://biskupija-sisak.hr/najava/hodocasce-u-mariju-bistricu/
LOCATION:Crkva Uznesenja Blažene Djevice Marije\, Marija Bistrica\, Trg Pape Ivana Pavla II 32\, Marija Bistrica\, 49246\, Croatia (Local Name: Hrvatska)
END:VEVENT
BEGIN:VEVENT
DTSTART;TZID=Europe/Helsinki:20220815T110000
DTEND;TZID=Europe/Helsinki:20220815T120000
DTSTAMP:20260423T105408
CREATED:20220801T100511Z
LAST-MODIFIED:20220801T100602Z
UID:987501031-1660561200-1660564800@biskupija-sisak.hr
SUMMARY:Velika Gospa u Gori
DESCRIPTION:Sisački biskup Vlado Košić predvodit će na svetkovinu Uznesenja Blažene Djevice Marije na nebo\, u ponedjeljak\, 15. kolovoza u 11 sati\, svečano misno slavlje u marijanskom svetištu Majke naših stradanja u Gori kraj Petrinje.
URL:https://biskupija-sisak.hr/najava/velika-gospa-u-gori/
END:VEVENT
BEGIN:VEVENT
DTSTART;VALUE=DATE:20220815
DTEND;VALUE=DATE:20220816
DTSTAMP:20260423T105408
CREATED:20220801T100918Z
LAST-MODIFIED:20220801T100945Z
UID:987501033-1660521600-1660607999@biskupija-sisak.hr
SUMMARY:Velika Gospa u Kloštar Ivaniću
DESCRIPTION:Svetkovina Uznesenja Blažene Djevice Marije na nebo\, Velika Gospa\, bit će proslavljena u svetištu Majke Milosrđa u Kloštar Ivaniću. Središnje misno slavlje\, u ponedjeljak 15. kolovoza u 11 sati predvodit će varaždinski biskup u miru Josip Mrzljak. Proslavi prethodi trodnevnica od 12. do 14. kolovoza s početkom u 17.20 sati\, a koju će predvoditi fra Ante Vučković.
URL:https://biskupija-sisak.hr/najava/velika-gospa-u-klostar-ivanicu/
LOCATION:Crkva Uznesenja BDM\, Kloštar Ivanić\, Ul. Sv. Marije 4\, Kloštar Ivanić\, 10312\, Croatia (Local Name: Hrvatska)
END:VEVENT
BEGIN:VEVENT
DTSTART;TZID=Europe/Helsinki:20220810T110000
DTEND;TZID=Europe/Helsinki:20220810T120000
DTSTAMP:20260423T105408
CREATED:20220801T095603Z
LAST-MODIFIED:20220801T100119Z
UID:987501029-1660129200-1660132800@biskupija-sisak.hr
SUMMARY:Lovrenčevo u Petrinji
DESCRIPTION:Petrinjska župa sv. Lovre svečano će u srijedu\, 10. kolovoza proslaviti blagdan svoga nebeskoga zaštitnika i zaštitnika grada Petrinje. Svečano misno slavlje s početkom u 11 sati u crkvi Sv. Lovre predvodit će kancelar Sisačke biskupije mr.  Janko Lulić.
URL:https://biskupija-sisak.hr/najava/lovrencevo-u-petrinji/
LOCATION:Crkva sv. Lovre\, Petrinja\, Strossmayerovo šetalište 3\, Petrinja\, 44250\, Croatia (Local Name: Hrvatska)
END:VEVENT
BEGIN:VEVENT
DTSTART;VALUE=DATE:20220806
DTEND;VALUE=DATE:20220807
DTSTAMP:20260423T105408
CREATED:20220722T133421Z
LAST-MODIFIED:20220801T074604Z
UID:987500176-1659744000-1659830399@biskupija-sisak.hr
SUMMARY:Posveta crkve Preobraženja Gospodnjeg u Petrinji
DESCRIPTION:Sisački biskup Vlado Košić predvodit će\, u subotu 6. kolovoza u 10 sati\, svečano misno slavlje u crkvi Preobraženja Gospodnjeg u Petrinji\, tijekom kojeg će tu crkvu i posvetiti. Misu zahvalnicu u 18 sati predvodit će fra Silvio Šćepanović\, misionar u Maroku.
URL:https://biskupija-sisak.hr/najava/posveta-crkve-preobrazenja-gospodnjeg-u-petrinji/
LOCATION:Crkva Preobraženja Gospodnjeg\, Slatinska ulica 43\, Petrinja\, 44250\, Croatia (Local Name: Hrvatska)
END:VEVENT
BEGIN:VEVENT
DTSTART;TZID=Europe/Helsinki:20220805T110000
DTEND;TZID=Europe/Helsinki:20220806T200000
DTSTAMP:20260423T105408
CREATED:20220801T091240Z
LAST-MODIFIED:20220801T100234Z
UID:987501022-1659697200-1659816000@biskupija-sisak.hr
SUMMARY:Proslava blagdana Gospe Snježe u Kutini
DESCRIPTION:Župa BDM Snježne u Kutini svečano će u petak\, 5. kolovoza proslaviti blagdan svoje nebeske zaštitnice. Misno slavlje u 11 sati predvodit će karmelićanin o. Ivan Pleše\, a u 19 sati župnik iz Crikvenice vlč. Marko Stipetić. Dan kasnije u subotu 6. kolovoza bit će proslavljeno 245 godina od posvete ove crkve. Svečano misno slavlje u 19 sati predvodit će sisački biskup Vlado Košić. Proslavama prethodi trodnevnica od 2. do 4. kolovoza s početkom u 19 sati koju će predvoditi mladomisnici Darijo Stanković\, Kristijan Pezić i Josip Bulat. \n 
URL:https://biskupija-sisak.hr/najava/proslava-blagdana-gospe-snjeze-i-245-godina-od-posvete-crkve-u-kutini/
LOCATION:Crkva Gospe Snježne\, Kutina\, Crkvena ulica 68\, Kutina\, 44320\, Croatia (Local Name: Hrvatska)
END:VEVENT
BEGIN:VEVENT
DTSTART;TZID=Europe/Helsinki:20220725T180000
DTEND;TZID=Europe/Helsinki:20220725T190000
DTSTAMP:20260423T105408
CREATED:20220722T133104Z
LAST-MODIFIED:20220722T133104Z
UID:987500174-1658772000-1658775600@biskupija-sisak.hr
SUMMARY:Proslava sv. Jakova u Mošćenici
DESCRIPTION:Mjesto Mošćenica (petrinjska župa Preobraženja Gospodnjeg)\, svečano će u ponedjeljak 25. srpnja proslaviti blagdan svog zaštitnika sv. Jakova apostola. Svečano misno slavlje ispred kapele Sv. Jakova u 18 sati predvodit će rektor Nacionalnog svetišta sv. Josipa u Karlovcu mons. Antun Sente.
URL:https://biskupija-sisak.hr/najava/proslava-sv-jakova-u-moscenici/
LOCATION:Crkva sv. Jakova\, Mošćenica\, Ulica Ante Starčevića 81\, Mošćenica\, 44253
END:VEVENT
BEGIN:VEVENT
DTSTART;TZID=Europe/Helsinki:20220724T110000
DTEND;TZID=Europe/Helsinki:20220724T123000
DTSTAMP:20260423T105408
CREATED:20220721T095325Z
LAST-MODIFIED:20220721T095325Z
UID:987500151-1658660400-1658665800@biskupija-sisak.hr
SUMMARY:Nadbiskup Tomo Vukšić u Gušću
DESCRIPTION:Vrhbosanski nadbiskup Tomo Vukšić posjetit će u nedjelju\, 24. srpnja župu Gušće\, a povodom donacije drvene građe tvrtki s područja nadbiskupije za sanaciju krovišta u potresu stradale župne crkve Sv. Nikole. Tom prigodom nadbiskup Vukšić predvodit će u župnoj crkvi svečano misno slavlje u zajedništvu s domaćinima biskupom Vladom Košićem i župnikom Ivanom Ćorićem\, s početkom u 11 sati.
URL:https://biskupija-sisak.hr/najava/nadbiskup-tomo-vuksic-u-guscu/
LOCATION:Crkva sv. Nikole\, Gušće\, Gušće 133\, Sisak\, 44203
END:VEVENT
BEGIN:VEVENT
DTSTART;VALUE=DATE:20220722
DTEND;VALUE=DATE:20220723
DTSTAMP:20260423T105408
CREATED:20220715T070338Z
LAST-MODIFIED:20220715T070621Z
UID:987491432-1658448000-1658534399@biskupija-sisak.hr
SUMMARY:Proslava župnog blagdana u Selima
DESCRIPTION:Župa sv. Marije Magdalene u Selima svečano će u petak 22. srpnja proslaviti blagdan svoje nebeske zaštitnice. Središnje misno slavlje u 11 sati u privremenom bogoslužnom prostoru predvodit će župnik iz Kutine preč. Vladimir Hren\, a misno slavlje u 18.30 sati mladomisnik Kristijan Pezić. Prije večernje mise\, u 17.30 sati u dvorištu pastoralnog centra\, KUD Radost iz Sela zajedno sa svojim gostima izvest će prigodan kulturno-umjetnički program.
URL:https://biskupija-sisak.hr/najava/proslava-zupnog-blagdana-u-selima/
LOCATION:Crkva sv. Marije Magdalene\, Sela\, Sela 118\, Sela\, Sisačko-moslavačka\, 44273
END:VEVENT
BEGIN:VEVENT
DTSTART;TZID=Europe/Helsinki:20220719T120000
DTEND;TZID=Europe/Helsinki:20220719T130000
DTSTAMP:20260423T105408
CREATED:20220714T110634Z
LAST-MODIFIED:20220714T110634Z
UID:987491374-1658232000-1658235600@biskupija-sisak.hr
SUMMARY:Blagoslov i primopredaja obnovljenih obiteljskih kuća Vučak i Tadić
DESCRIPTION:Franjevci Bosne Srebrene\, preko Karitativne udruge “Kruh sv. Ante” i uz podršku njihovih dobročinitelja\, članova i prijatelja završili su obnovu još dviju obiteljskih kuća stradalih u potresu na području Sisačko-moslavačke županije. \nBlagoslov i primopredaja obnovljenih obiteljskih kuća Vučak i Tadić bit će u utorak\, 19. srpnja 2022. u 12 sati ul. Matije Gupca 64 u Petrinji. \nObred blagoslova predvodit će sisački biskup mons. Vlado Košić u zajedništvu s provincijalom Bosne Srebrene fra Zdravkom Dadićem\, a nazočit će i predsjednik i ravnatelj Kruha sv. Ante u Zagrebu i Sarajevu fra Stipo Karajica i fra Petar Karajica kao i predstavnici Grada i dobročinitelja.
URL:https://biskupija-sisak.hr/najava/blagoslov-i-primopredaja-obnovljenih-obiteljskih-kuca-vucak-i-tadic/
LOCATION:Petrinja Matije Gupca 64\, Ulica Matije Gupca 64\, Petrinja\, 44250\, Croatia (Local Name: Hrvatska)
END:VEVENT
BEGIN:VEVENT
DTSTART;TZID=Europe/Helsinki:20220717T120000
DTEND;TZID=Europe/Helsinki:20220717T130000
DTSTAMP:20260423T105408
CREATED:20220715T064534Z
LAST-MODIFIED:20220715T064534Z
UID:987491428-1658059200-1658062800@biskupija-sisak.hr
SUMMARY:Krštenje šestog djeteta obitelji Jezerčić
DESCRIPTION:Sisački biskup Vlado Košić krstit će\, u nedjelju\, 17. srpnja u 12 sati u župnoj crkvi sv. Ilije Proroka\, šesto dijete obitelji Jezerčić.
URL:https://biskupija-sisak.hr/najava/krstenje-sestog-djeteta-obitelji-jezercic/
LOCATION:Crkva sv. Ilije Proroka\, Donji Kukuruzari\, vULICA DON ANTE LIZATOVIĆA 2\, Donji Kukuruzari\, 44430\, Croatia (Local Name: Hrvatska)
END:VEVENT
BEGIN:VEVENT
DTSTART;TZID=Europe/Helsinki:20220716T100000
DTEND;TZID=Europe/Helsinki:20220716T120000
DTSTAMP:20260423T105408
CREATED:20220714T111141Z
LAST-MODIFIED:20220714T111645Z
UID:987491376-1657965600-1657972800@biskupija-sisak.hr
SUMMARY:Blagoslov kamena temeljca i početka radova na izgradnji kapele u Mračaju
DESCRIPTION:Sisački biskup Vlado Košić blagoslovit će u subotu\, 16. srpnja u 10 sati kamen temeljac i početak radova na izgradnji kapele Glavosjeka sv. Ivana Krsitelja u Mračaju\, srušene u potresu 2020. godine.
URL:https://biskupija-sisak.hr/najava/blagoslov-kamena-temeljca-i-pocetka-radova-na-izgradnji-kapele-u-mracaju/
LOCATION:Mračaj kapela sv. Ivana Krstitelja\, Mračaj sv. Ivo\, Mračaj\, 44430\, Croatia (Local Name: Hrvatska)
END:VEVENT
BEGIN:VEVENT
DTSTART;TZID=Europe/Helsinki:20220702T180000
DTEND;TZID=Europe/Helsinki:20220702T190000
DTSTAMP:20260423T105408
CREATED:20220624T074401Z
LAST-MODIFIED:20220624T074401Z
UID:987490724-1656784800-1656788400@biskupija-sisak.hr
SUMMARY:Krštenje petog djeteta obitelji Vučić
DESCRIPTION:Sisački biskup Vlado Košić krstit će\, u subotu\, 2. srpnja u 18 sati u crkvi sv. Maksimilijana biskupa u Posavskim Bregima\, peto dijete obitelji Vučić.
URL:https://biskupija-sisak.hr/najava/krstenje-petog-djeteta-obitelji-vucic/
LOCATION:Posavski Bregi\, Crkva sv. Maksimilijana\, Posavski Bregi\, 10311\, Croatia (Local Name: Hrvatska)
END:VEVENT
BEGIN:VEVENT
DTSTART;VALUE=DATE:20220629
DTEND;VALUE=DATE:20220630
DTSTAMP:20260423T105408
CREATED:20220627T201947Z
LAST-MODIFIED:20220627T202040Z
UID:987490779-1656460800-1656547199@biskupija-sisak.hr
SUMMARY:Petrovo u Ivanić-Gradu
DESCRIPTION:Župa sv. Petra ap. u Ivanić-Gradu u srijedu\, 29. lipnja proslavit će blagdan svog zaštitnika. Svečano misno slavlje u 10 sati predvodit će mladomisnik Josip Bulat\, a večernju misu u 19 sati rektor Hrvatskog katoličkog sveučilišta dr. sc. Željko Tanjić.
URL:https://biskupija-sisak.hr/najava/petrovo-u-ivanic-gradu/
LOCATION:Ivanić-Grad\, Park Hrvatskih Branitelja 2\, Ivanić-Grad\, 10310
END:VEVENT
BEGIN:VEVENT
DTSTART;TZID=Europe/Helsinki:20220627T183000
DTEND;TZID=Europe/Helsinki:20220627T200000
DTSTAMP:20260423T105408
CREATED:20220624T073824Z
LAST-MODIFIED:20220624T074116Z
UID:987490720-1656354600-1656360000@biskupija-sisak.hr
SUMMARY:Obljetnica posvete katedrale
DESCRIPTION:Obljetnica posvete katedrale Uzvišenja Svetog Križa u Sisku obilježit će se u ponedjeljak 27. lipnja u 19 sati svečanom misom u dvorištu Pastoralnog centra katedralne župe u Sisku. Misu predvodi novi generalni vikar i kanonik mons. Ivica Mađer u zajedništvu s kanonicima Stolnog Kaptola Svetog Križa u Sisku. Misi prethodi molitva večernje u 18.30 sati.
URL:https://biskupija-sisak.hr/najava/obljetnica-posvete-katedrale/
LOCATION:Katedrala\, Sisačka katedrala\, Sisak\, 44000\, Croatia (Local Name: Hrvatska)
END:VEVENT
BEGIN:VEVENT
DTSTART;TZID=Europe/Zagreb:20220622T170000
DTEND;TZID=Europe/Zagreb:20220622T183000
DTSTAMP:20260423T105408
CREATED:20220620T054742Z
LAST-MODIFIED:20220620T055259Z
UID:987490629-1655917200-1655922600@biskupija-sisak.hr
SUMMARY:Blagdan sv. Akacija i deset tisuća mučenika u Gredi
DESCRIPTION:Blagdan sv. Akacija i deset tisuća mučenika i obljetnica 429 godina od čuvene Sisačke bitke s Turcima\, obilježit će se u istoimenoj kapeli u Gredi (župa Sela) u srijedu 22. lipnja. Svečano misno slavlje s početkom u 17 sati predvodit će kanonik Stolnog kaptola sv. Križa i župnik u Lekeniku preč. Tugomil Radiček.
URL:https://biskupija-sisak.hr/najava/987490629/
LOCATION:Greda\, Greda 93\, Sisak\, Croatia (Local Name: Hrvatska)
END:VEVENT
BEGIN:VEVENT
DTSTART;VALUE=DATE:20220617
DTEND;VALUE=DATE:20220620
DTSTAMP:20260423T105408
CREATED:20220613T170222Z
LAST-MODIFIED:20220613T170222Z
UID:987490408-1655424000-1655683199@biskupija-sisak.hr
SUMMARY:4. Mladifest Hrvatska
DESCRIPTION:
URL:https://biskupija-sisak.hr/najava/4-mladifest-hrvatska/
END:VEVENT
BEGIN:VEVENT
DTSTART;TZID=UTC:20220319T103000
DTEND;TZID=UTC:20220319T120000
DTSTAMP:20260423T105408
CREATED:20220317T045857Z
LAST-MODIFIED:20220317T045857Z
UID:987489976-1647685800-1647691200@biskupija-sisak.hr
SUMMARY:Deseta obljetnica uspostave Stolnog Kaptola Svetog Križa
DESCRIPTION:Deseta obljetnica uspostave Stolnog Kaptola Svetog Križa u Sisku\, svečano će biti proslavljena u subotu 19. ožujka na blagdan sv. Josipa. Misno slavlje u Pastoralnom centru katedralne župe u Sisku u 11 sati predvodit će sisački biskup Vlado Košić u zajedništvu s prepoštom mons. Markom Cvitkušićem i ostalim kanonicima Stolnog Kaptola. Misi prethodi uvođenje u službu novog kanonika glinskog dekana i župnika preč. Ivice Mađera s početkom u 10.30 sati.
URL:https://biskupija-sisak.hr/najava/deseta-obljetnica-uspostave-stolnog-kaptola-svetog-kriza/
END:VEVENT
BEGIN:VEVENT
DTSTART;VALUE=DATE:20220316
DTEND;VALUE=DATE:20220320
DTSTAMP:20260423T105408
CREATED:20220317T045717Z
LAST-MODIFIED:20220317T045717Z
UID:987489973-1647388800-1647734399@biskupija-sisak.hr
SUMMARY:Josipovo u Petrinji
DESCRIPTION:
URL:https://biskupija-sisak.hr/najava/josipovo-u-petrinji/
END:VEVENT
BEGIN:VEVENT
DTSTART;TZID=UTC:20220312T140000
DTEND;TZID=UTC:20220312T150000
DTSTAMP:20260423T105408
CREATED:20220308T132940Z
LAST-MODIFIED:20220308T133010Z
UID:987489627-1647093600-1647097200@biskupija-sisak.hr
SUMMARY:Duhovna obnova za prosvjetne djelatnike
DESCRIPTION:
URL:https://biskupija-sisak.hr/najava/duhovna-obnova-za-prosvjetne-djelatnike/
END:VEVENT
BEGIN:VEVENT
DTSTART;TZID=UTC:20220312T070000
DTEND;TZID=UTC:20220312T120000
DTSTAMP:20260423T105408
CREATED:20220308T133203Z
LAST-MODIFIED:20220308T133203Z
UID:987489630-1647068400-1647086400@biskupija-sisak.hr
SUMMARY:Kutinski planinarski križni put
DESCRIPTION:
URL:https://biskupija-sisak.hr/najava/kutinski-planinarski-krizni-put/
END:VEVENT
BEGIN:VEVENT
DTSTART;TZID=UTC:20220310T193000
DTEND;TZID=UTC:20220310T213000
DTSTAMP:20260423T105408
CREATED:20220308T132654Z
LAST-MODIFIED:20220308T132654Z
UID:987489625-1646940600-1646947800@biskupija-sisak.hr
SUMMARY:Ivanićgradski križni putevi
DESCRIPTION:Predstavljanje knjige doc. dr. sc. Dražena Kovačevića „Ivanićgradski križni putevi“\, održat će u četvrtak\, 10. ožujka u 19.30 sati u Dvorani Sv. Ivana Pavla II. u sisačkom Velikom Kaptolu.
URL:https://biskupija-sisak.hr/najava/ivanicgradski-krizni-putevi/
END:VEVENT
BEGIN:VEVENT
DTSTART;TZID=UTC:20220224T193000
DTEND;TZID=UTC:20220224T203000
DTSTAMP:20260423T105408
CREATED:20220301T125231Z
LAST-MODIFIED:20220301T125231Z
UID:23651-1645731000-1645734600@biskupija-sisak.hr
SUMMARY:Predstavljanje knjige Jurja Batelje „Svjedok Stepinčeva glasa svetosti
DESCRIPTION:Predstavljanje knjige postulatora kauze bl. Alojzija Stepinca mons. dr. sc. Jurja Batelje „Svjedok Stepinčeva glasa svetosti“\, održat će u četvrtak\, 24. veljače u 19.30 sati u Dvorani Sv. Ivana Pavla II. u sisačkom Velikom Kaptolu. Knjigu će predstaviti sisački biskup Vlado Košić i autor.
URL:https://biskupija-sisak.hr/najava/predstavljanje-knjige-jurja-batelje-svjedok-stepinceva-glasa-svetosti/
END:VEVENT
BEGIN:VEVENT
DTSTART;TZID=UTC:20220220T110000
DTEND;TZID=UTC:20220220T120000
DTSTAMP:20260423T105408
CREATED:20220301T125338Z
LAST-MODIFIED:20220301T125338Z
UID:23653-1645354800-1645358400@biskupija-sisak.hr
SUMMARY:Blagoslov gradilišta crkve u Kravarskom
DESCRIPTION:Sisački biskup Vlado Košić predvodit će\, u nedjelju\, 20. veljače u 11 sati\, misno slavlje u privremenom bogoslužnom prostoru župe Kravarsko. Nakon mise biskup će blagosloviti gradilište i početak radova na izgradnji u potresu srušene župne crkve Uzvišenja sv. Križa.
URL:https://biskupija-sisak.hr/najava/blagoslov-gradilista-crkve-u-kravarskom/
END:VEVENT
BEGIN:VEVENT
DTSTART;TZID=UTC:20220213T110000
DTEND;TZID=UTC:20220213T120000
DTSTAMP:20260423T105408
CREATED:20220301T125432Z
LAST-MODIFIED:20220301T125432Z
UID:23655-1644750000-1644753600@biskupija-sisak.hr
SUMMARY:Stepinčevo u Kutinskoj Slatini
DESCRIPTION:Župa Kutinska Slatina svečano će u nedjelju\, 13. veljače proslaviti blagdan svog zaštitnika bl. Alojzija Stepinca. Središnje misno slavlje u 11 sati u župnoj crkvi predvodit će sisački biskup Vlado Košić.
URL:https://biskupija-sisak.hr/najava/stepincevo-u-kutinskoj-slatini/
END:VEVENT
END:VCALENDAR