BEGIN:VCALENDAR
VERSION:2.0
PRODID:-//Sisačka biskupija - ECPv6.15.20//NONSGML v1.0//EN
CALSCALE:GREGORIAN
METHOD:PUBLISH
X-WR-CALNAME:Sisačka biskupija
X-ORIGINAL-URL:https://biskupija-sisak.hr
X-WR-CALDESC:Događaji za Sisačka biskupija
REFRESH-INTERVAL;VALUE=DURATION:PT1H
X-Robots-Tag:noindex
X-PUBLISHED-TTL:PT1H
BEGIN:VTIMEZONE
TZID:Europe/Helsinki
BEGIN:DAYLIGHT
TZOFFSETFROM:+0200
TZOFFSETTO:+0300
TZNAME:EEST
DTSTART:20230326T010000
END:DAYLIGHT
BEGIN:STANDARD
TZOFFSETFROM:+0300
TZOFFSETTO:+0200
TZNAME:EET
DTSTART:20231029T010000
END:STANDARD
BEGIN:DAYLIGHT
TZOFFSETFROM:+0200
TZOFFSETTO:+0300
TZNAME:EEST
DTSTART:20240331T010000
END:DAYLIGHT
BEGIN:STANDARD
TZOFFSETFROM:+0300
TZOFFSETTO:+0200
TZNAME:EET
DTSTART:20241027T010000
END:STANDARD
BEGIN:DAYLIGHT
TZOFFSETFROM:+0200
TZOFFSETTO:+0300
TZNAME:EEST
DTSTART:20250330T010000
END:DAYLIGHT
BEGIN:STANDARD
TZOFFSETFROM:+0300
TZOFFSETTO:+0200
TZNAME:EET
DTSTART:20251026T010000
END:STANDARD
END:VTIMEZONE
BEGIN:VEVENT
DTSTART;TZID=Europe/Helsinki:20241116T160000
DTEND;TZID=Europe/Helsinki:20241116T190000
DTSTAMP:20260421T211054
CREATED:20241108T090414Z
LAST-MODIFIED:20241108T090433Z
UID:987513576-1731772800-1731783600@biskupija-sisak.hr
SUMMARY:Susret predstavnika kršćanskih pokreta\, zajednica i udruga
DESCRIPTION:Susret predstavnika kršćanskih pokreta\, zajednica i udruga s područja Sisačke biskupije održat će se u subotu\, 16. studenoga\, u župi bl. Alojzija Stepinca u Budaševu s početkom u 16 sati. Misno slavlje u župnoj crkvi\, s početkom u 18.30 sati\, predvodit će sisački biskup Vlado Košić.
URL:https://biskupija-sisak.hr/najava/susret-predstavnika-krscanskih-pokreta-zajednica-i-udruga/
LOCATION:Crkva bl. Alojzija Stepinca\, Budaševo\, Trg M. Šokčevića 1\, Budaševo\, 44000\, Croatia (Local Name: Hrvatska)
END:VEVENT
BEGIN:VEVENT
DTSTART;TZID=Europe/Helsinki:20241116T150000
DTEND;TZID=Europe/Helsinki:20241116T190000
DTSTAMP:20260421T211054
CREATED:20241108T090300Z
LAST-MODIFIED:20241108T090300Z
UID:987513574-1731769200-1731783600@biskupija-sisak.hr
SUMMARY:Duhovna obnova za prosvjetne djelatnike
DESCRIPTION:Duhovna obnova za prosvjetne djelatnike održat će se u subotu\, 16. studenoga\, u 15 sati u Dvorani „Juran i Sofija“ u sisačkom Velikom Kaptolu. Duhovnu obnovu predvodit će s. Ozana Krajačić.
URL:https://biskupija-sisak.hr/najava/duhovna-obnova-za-prosvjetne-djelatnike-2/
LOCATION:Veliki Kaptol\, Trg bana Josipa Jelačića 9\, Sisak\, 44000\, Croatia (Local Name: Hrvatska)
END:VEVENT
BEGIN:VEVENT
DTSTART;TZID=Europe/Helsinki:20241115T170000
DTEND;TZID=Europe/Helsinki:20241116T150000
DTSTAMP:20260421T211054
CREATED:20241108T090152Z
LAST-MODIFIED:20241108T090152Z
UID:987513573-1731690000-1731769200@biskupija-sisak.hr
SUMMARY:Susret ministranata u Lasinji
DESCRIPTION:Susret ministranata s područja Sisačke biskupije održat će se u petak\, 15. i subotu\, 16. studenoga\, u Duhovnom centru u Lasinji.
URL:https://biskupija-sisak.hr/najava/susret-ministranata-u-lasinji/
END:VEVENT
BEGIN:VEVENT
DTSTART;VALUE=DATE:20241115
DTEND;VALUE=DATE:20241117
DTSTAMP:20260421T211054
CREATED:20241108T090538Z
LAST-MODIFIED:20241108T090538Z
UID:987513577-1731628800-1731801599@biskupija-sisak.hr
SUMMARY:Duhovna obnova za srednjoškolce
DESCRIPTION:Duhovna obnova za srednjoškolce s područja Sisačke biskupije održat će se u petak\, 15.\, i subotu\, 16. studenoga\, u Duhovnom centru u Lasinji\, a predvodit će je povjerenik za pastoral mladih Marijan Štingl. \n 
URL:https://biskupija-sisak.hr/najava/duhovna-obnova-za-srednjoskolce/
END:VEVENT
BEGIN:VEVENT
DTSTART;TZID=Europe/Helsinki:20241110T110000
DTEND;TZID=Europe/Helsinki:20241110T120000
DTSTAMP:20260421T211054
CREATED:20241031T104424Z
LAST-MODIFIED:20241031T104512Z
UID:987513453-1731236400-1731240000@biskupija-sisak.hr
SUMMARY:Blagoslov župne crkve u Bučici
DESCRIPTION:Sisački biskup Vlado Košić predvodit će u nedjelju\, 10. studenoga\, u 11 sati svečano misno slavlje u crkvi sv. Antuna Padovanskog u Bučici te tom prigodom blagosloviti tu sada obnovljenu\, u potresu stradalu crkvu.
URL:https://biskupija-sisak.hr/najava/blagoslov-zupne-crkve-u-bucici/
END:VEVENT
BEGIN:VEVENT
DTSTART;TZID=Europe/Helsinki:20241109T180000
DTEND;TZID=Europe/Helsinki:20241109T190000
DTSTAMP:20260421T211054
CREATED:20241031T104331Z
LAST-MODIFIED:20241031T104331Z
UID:987513452-1731175200-1731178800@biskupija-sisak.hr
SUMMARY:Misa zadušnica za Antuna Grahovara
DESCRIPTION:Misu zadušnicu povodom 34. godišnjice mučeničke smrti vlč. Antuna Grahovara predvodit će u subotu\, 9. studenoga\, u 18 sati u crkvi sv. Marije Kraljice Mira u Sisku\, generalni vikar biskupije Ivica Mađer.
URL:https://biskupija-sisak.hr/najava/misa-zadusnica-za-antuna-grahovara-3/
END:VEVENT
BEGIN:VEVENT
DTSTART;TZID=Europe/Helsinki:20241107T180000
DTEND;TZID=Europe/Helsinki:20241107T190000
DTSTAMP:20260421T211054
CREATED:20241031T104154Z
LAST-MODIFIED:20241031T104154Z
UID:987513451-1731002400-1731006000@biskupija-sisak.hr
SUMMARY:Misa za Franka Duffa
DESCRIPTION:Sisački biskup Vlado Košić predvodit će u četvrtak\, 7. studenoga\, u 18 sati u bazilici sv. Kvirina u Sisku\, misno slavlje za Franka Duffa\, osnivača Marijine legije.
URL:https://biskupija-sisak.hr/najava/misa-za-franka-duffa/
LOCATION:Bazilika sv. Kvirina\, Sisak\, Lonjska ulica 26\, Sisak\, 44000\, Croatia (Local Name: Hrvatska)
END:VEVENT
BEGIN:VEVENT
DTSTART;TZID=Europe/Helsinki:20241107T100000
DTEND;TZID=Europe/Helsinki:20241107T140000
DTSTAMP:20260421T211054
CREATED:20241031T104115Z
LAST-MODIFIED:20241031T104115Z
UID:987513450-1730973600-1730988000@biskupija-sisak.hr
SUMMARY:Svećenički dan
DESCRIPTION:Svećenički dan Sisačke biskupije održat će se u četvrtak\, 7. studenoga\, u 10 sati u Dvorani Juran i Sofija u sisačkom Velikom Kaptolu. Predavanje na temu „Svećeničko zajedništvo“ održat će vlč. Josip Radić.
URL:https://biskupija-sisak.hr/najava/svecenicki-dan-16/
LOCATION:Veliki Kaptol\, Trg bana Josipa Jelačića 9\, Sisak\, 44000\, Croatia (Local Name: Hrvatska)
END:VEVENT
BEGIN:VEVENT
DTSTART;TZID=Europe/Helsinki:20241103T180000
DTEND;TZID=Europe/Helsinki:20241103T190000
DTSTAMP:20260421T211054
CREATED:20241025T112118Z
LAST-MODIFIED:20241025T112118Z
UID:987513284-1730656800-1730660400@biskupija-sisak.hr
SUMMARY:Lovci slave blagdan svog zaštitnika
DESCRIPTION:Blagdan svog zaštitnika sv. Huberta proslavit će tradicionalno lovci s područja Sisačke biskupije u nedjelju\, 3. studenoga. Svečano misno slavlje u bazilici sv. Kvirina predvodit će sisački biskup Vlado Košić s početkom u 18 sati.
URL:https://biskupija-sisak.hr/najava/lovci-slave-blagdan-svog-zastitnika/
LOCATION:Bazilika sv. Kvirina\, Sisak\, Lonjska ulica 26\, Sisak\, 44000\, Croatia (Local Name: Hrvatska)
END:VEVENT
BEGIN:VEVENT
DTSTART;TZID=Europe/Helsinki:20241101T160000
DTEND;TZID=Europe/Helsinki:20241101T173000
DTSTAMP:20260421T211054
CREATED:20241025T112006Z
LAST-MODIFIED:20241025T112006Z
UID:987513283-1730476800-1730482200@biskupija-sisak.hr
SUMMARY:Svi sveti u Sisku
DESCRIPTION:Na blagdan Svih svetih\, u petak\, 1. studenoga\, sisački biskup Vlado Košić predvodit će ispred crkve Pohoda Blažene Djevice Marije na sisačkom Viktorovcu misno slavlje s početkom u 16 sati. Poslije mise\, biskup će na groblju\, kod Križa branitelja\, predvoditi molitvu blagoslova za sve pokojne koji počivaju na Gradskom groblju Viktorovac.
URL:https://biskupija-sisak.hr/najava/svi-sveti-u-sisku-3/
END:VEVENT
BEGIN:VEVENT
DTSTART;TZID=Europe/Helsinki:20241029T182500
DTEND;TZID=Europe/Helsinki:20241031T210000
DTSTAMP:20260421T211054
CREATED:20241025T111906Z
LAST-MODIFIED:20241025T111929Z
UID:987513281-1730226300-1730408400@biskupija-sisak.hr
SUMMARY:Duhovna obnova u Ivanić-Gradu
DESCRIPTION:Duhovna obnova uoči svetkovine Svih svetih i spomena svih pokojnika „Vjerujem u život vječni“ održat će se od utorka\, 29.\, do četvrtka\, 31. listopada\, u Maloj dvorani Pučkog otvorenog učilišta u Ivanić-Gradu. Voditelj duhovne obnove bit će fra Ante Vučković\, a kroz tri dana razmatrat će se o bolima\, patnjama i misteriju smrti\, ali i o nadi i svjetlu koje donosi Isusovo uskrsnuće. Svakoga dana program započinje u 18.25 molitvom krunice\, slijedi u 19.00 sveta misa te nakon mise predavanje\, duhovni nagovor i klanjanje pred Presvetim.
URL:https://biskupija-sisak.hr/najava/duhovna-obnova-u-ivanic-gradu/
END:VEVENT
BEGIN:VEVENT
DTSTART;TZID=Europe/Helsinki:20241029T140000
DTEND;TZID=Europe/Helsinki:20241029T150000
DTSTAMP:20260421T211054
CREATED:20241025T111805Z
LAST-MODIFIED:20241025T111805Z
UID:987513280-1730210400-1730214000@biskupija-sisak.hr
SUMMARY:Misa za stradale iz Dvorišća u Domovinskom i Drugom svjetskom ratu
DESCRIPTION:Sisački biskup Vlado Košić predvodit će u utorak\, 29. listopada\, u 14 sati kod kapele sv. Antuna Padovanskog u Dvorišću (župa Viduševac) misno slavlje povodom otkrivanja spomenika braniteljima i civilima iz ovog mjesta stradalima u Domovinskom i Drugom svjetskom ratu.
URL:https://biskupija-sisak.hr/najava/misa-za-stradale-iz-dvorisca-u-domovinskom-i-drugom-svjetskom-ratu/
END:VEVENT
BEGIN:VEVENT
DTSTART;TZID=Europe/Helsinki:20241027T110000
DTEND;TZID=Europe/Helsinki:20241027T120000
DTSTAMP:20260421T211054
CREATED:20241025T111703Z
LAST-MODIFIED:20241025T111713Z
UID:987513279-1730026800-1730030400@biskupija-sisak.hr
SUMMARY:25. obljetnica dolaska Hrvata s Kosova u na područje Sisačke biskupije
DESCRIPTION:Sisački biskup Vlado Košić predvodit će u nedjelju\, 27. listopada\, u 11 sati misno slavlje u župnoj crkvi Uznesenja Blažene Djevice Marije u Gorama\, a povodom 25. obljetnice dolaska Hrvata s Kosova u na područje Sisačke biskupije.
URL:https://biskupija-sisak.hr/najava/25-obljetnice-dolaska-hrvata-s-kosova-u-na-podrucje-sisacke-biskupije/
END:VEVENT
BEGIN:VEVENT
DTSTART;TZID=Europe/Helsinki:20241026T180000
DTEND;TZID=Europe/Helsinki:20241026T200000
DTSTAMP:20260421T211054
CREATED:20241025T105737Z
LAST-MODIFIED:20241025T105809Z
UID:987513276-1729965600-1729972800@biskupija-sisak.hr
SUMMARY:Duhovna obnova u Kravarskom
DESCRIPTION:Mjesečna duhovna obnova u Župi sv. Križa u Kravarskom bit će održana u subotu 26. listopada s temom „Ženo! Evo ti sina! Zatim reče učeniku: Evo ti majke!“. \nMisno slavlje bit će u 18 sati\, slijedi kateheza u 19 te klanjanje u 19.30. Po završetku bit će župna kestenijada. Voditelj duhovne obnove bit će glavni urednik Hrvatske katoličke mreže dr. sc. Siniša Kovačić.
URL:https://biskupija-sisak.hr/najava/duhovna-obnova-u-kravarskom-4/
LOCATION:Kravarsko\, Trg Stjepana Radića\, Kravarsko\, Croatia (Local Name: Hrvatska)
END:VEVENT
BEGIN:VEVENT
DTSTART;TZID=Europe/Helsinki:20241026T100000
DTEND;TZID=Europe/Helsinki:20241026T120000
DTSTAMP:20260421T211054
CREATED:20241018T125251Z
LAST-MODIFIED:20241018T125443Z
UID:987513154-1729936800-1729944000@biskupija-sisak.hr
SUMMARY:Đakonsko ređenje Croata Balije
DESCRIPTION:Sisački biskup Vlado Košić predvodit će u subotu\, 26. listopada\, u 10 sati svečano misno slavlje u bazilici sv. Kvirina u Sisku\, tijekom kojega će red đakonata primiti kandidat Croat Balija iz župe Sela.
URL:https://biskupija-sisak.hr/najava/dakonsko-redenje-croata-balije/
LOCATION:Bazilika sv. Kvirina\, Sisak\, Lonjska ulica 26\, Sisak\, 44000\, Croatia (Local Name: Hrvatska)
END:VEVENT
BEGIN:VEVENT
DTSTART;TZID=Europe/Helsinki:20241025T170000
DTEND;TZID=Europe/Helsinki:20241027T180000
DTSTAMP:20260421T211054
CREATED:20241018T130306Z
LAST-MODIFIED:20241018T130306Z
UID:987513155-1729875600-1730052000@biskupija-sisak.hr
SUMMARY:Duhovna obnova u Glini
DESCRIPTION:
URL:https://biskupija-sisak.hr/najava/duhovna-obnova-u-glini/
END:VEVENT
BEGIN:VEVENT
DTSTART;TZID=Europe/Helsinki:20241018T190000
DTEND;TZID=Europe/Helsinki:20241018T200000
DTSTAMP:20260421T211054
CREATED:20241016T073813Z
LAST-MODIFIED:20241016T164638Z
UID:987513119-1729278000-1729281600@biskupija-sisak.hr
SUMMARY:Misa povodom Dana branitelja SMŽ
DESCRIPTION:Sisački biskup Vlado Košić predvodit će u petak\, 18. listopada u 19 sati u Pastoralnom centru katedralne župe u Sisku\, misno slavlje povodom Dana branitelja Sisačko-moslavačke županije.
URL:https://biskupija-sisak.hr/najava/misa-povodom-dana-branitelja-smz/
END:VEVENT
BEGIN:VEVENT
DTSTART;TZID=Europe/Helsinki:20241017T110000
DTEND;TZID=Europe/Helsinki:20241017T110000
DTSTAMP:20260421T211054
CREATED:20241014T063018Z
LAST-MODIFIED:20241014T063032Z
UID:987513098-1729162800-1729162800@biskupija-sisak.hr
SUMMARY:Sjednica Prezbiterskog vijeća
DESCRIPTION:Sjednica Prezbiterskog vijeća Sisačke biskupije održat će se u četvrtak\,  17. listopada u 11 sati u Biskupijskom ordinarijatu u Sisku\, pod predsjedanjem biskupa Vlade Košića.
URL:https://biskupija-sisak.hr/najava/sjednica-prezbiterskog-vijeca-2/
LOCATION:Veliki Kaptol\, Trg bana Josipa Jelačića 9\, Sisak\, 44000\, Croatia (Local Name: Hrvatska)
END:VEVENT
BEGIN:VEVENT
DTSTART;TZID=Europe/Helsinki:20241010T193000
DTEND;TZID=Europe/Helsinki:20241010T203000
DTSTAMP:20260421T211054
CREATED:20241004T111039Z
LAST-MODIFIED:20241004T111039Z
UID:987512877-1728588600-1728592200@biskupija-sisak.hr
SUMMARY:Predstavljanje knjige „Biskup dr. sc. Mile Bogović“
DESCRIPTION:Predstavljanje knjige „Biskup dr. sc. Mile Bogović“ održat će se u četvrtak\, 10. listopada\, u 19.30 sati u Dvorani „Juran i Sofija“ sisačkog Velikog Kaptola. Knjigu će predstaviti autori don Anđelko Kačunko i akademik Josip Pečarić\, te dugogodišnji suradnik i prijatelj biskupa Bogovića prof. Ante Bežen i predsjednik Matice Hrvatske u Petrinji Vladimir Krpan.
URL:https://biskupija-sisak.hr/najava/predstavljanje-knjige-biskup-dr-sc-mile-bogovic/
LOCATION:Veliki Kaptol\, Trg bana Josipa Jelačića 9\, Sisak\, 44000\, Croatia (Local Name: Hrvatska)
END:VEVENT
BEGIN:VEVENT
DTSTART;TZID=Europe/Helsinki:20241006T110000
DTEND;TZID=Europe/Helsinki:20241006T120000
DTSTAMP:20260421T211054
CREATED:20240926T073139Z
LAST-MODIFIED:20240926T184146Z
UID:987512694-1728212400-1728216000@biskupija-sisak.hr
SUMMARY:220 godina župe Ivanić-Grad
DESCRIPTION:Župa sv. Petra apostola u Ivanić-Gradu proslavit će u nedjelju\, 6. listopada\, 220. obljetnicu osnutka. Svečano misno slavlje s početkom u 11 sati predvodit će sisački biskup Vlado Košić.
URL:https://biskupija-sisak.hr/najava/220-godina-zupe-ivanic-grad/
LOCATION:Ivanić-Grad\, Park Hrvatskih Branitelja 2\, Ivanić-Grad\, 10310
END:VEVENT
BEGIN:VEVENT
DTSTART;TZID=Europe/Helsinki:20241005T190000
DTEND;TZID=Europe/Helsinki:20241005T203000
DTSTAMP:20260421T211054
CREATED:20241004T110927Z
LAST-MODIFIED:20241004T111436Z
UID:987512875-1728154800-1728160200@biskupija-sisak.hr
SUMMARY:Proslava blagdana sv. Faustine u bazilici sv. Kvirina
DESCRIPTION:Proslava blagdana sv. Faustine održat će se u subotu\, 5. listopada\, u 19 sati u bazilici sv. Kvirina u Sisku. Svečano misno slavlje predvodit će župnik iz Sela\, preč. Dragutin Papić. Nakon mise slijedi euharistijsko klanjanje s nakanom za nova duhovna zvanja. \n 
URL:https://biskupija-sisak.hr/najava/proslava-blagdana-sv-faustine-u-bazilici-sv-kvirina/
LOCATION:Bazilika sv. Kvirina\, Sisak\, Lonjska ulica 26\, Sisak\, 44000\, Croatia (Local Name: Hrvatska)
END:VEVENT
BEGIN:VEVENT
DTSTART;TZID=Europe/Helsinki:20241005T100000
DTEND;TZID=Europe/Helsinki:20241005T100000
DTSTAMP:20260421T211054
CREATED:20240926T073100Z
LAST-MODIFIED:20240926T073100Z
UID:987512693-1728122400-1728122400@biskupija-sisak.hr
SUMMARY:Dan obitelji
DESCRIPTION:Dan obitelji Sisačke biskupije održat će se u subotu\, 5. listopada u Pastoralnom centru katedralne župe u Sisku. Program počinje okupljanjem u 10 sati\, a misno slavlje u 11 sati predvodit će sisački biskup Vlado Košić u zajedništvu s povjerenikom za pastoral braka i obitelji Brankom Koretićem.
URL:https://biskupija-sisak.hr/najava/dan-obitelji-3/
END:VEVENT
BEGIN:VEVENT
DTSTART;TZID=Europe/Helsinki:20241003T190000
DTEND;TZID=Europe/Helsinki:20241006T200000
DTSTAMP:20260421T211054
CREATED:20240927T175650Z
LAST-MODIFIED:20240927T180012Z
UID:987512714-1727982000-1728244800@biskupija-sisak.hr
SUMMARY:Relikvija sv. Franje Asiškog u Sisku
DESCRIPTION:Ususret blagdanu sv. Franje Asiškoga koji se slavi 4. listopada\, a započinje Obredom preminuća na uočnicu 3. listopada\, u crkvu sv. Josipa Radnika u Sisku dolazi vrijedna relikvija sv. Franje. Radi se o dijelu zavoja koji je bio na svečevoj rani\, a sačuvan je do danas. Ova relikvija koja je izravno doticala tijelo sveca i njegovu ranu\, proći će kroz nekoliko župa i franjevačkih samostana a jedna od postaja je i Sisak\, samostan sv. Antuna Padovanskoga franjevaca konventualaca i župa sv. Josipa Radnika gdje djeluju ovi redovnici. Povod ovom dolasku je zaključak godine rana sv. Franje uz osamstotu obljetnicu (1224-2024) od kada je sv. Franjo na svome tijelu primio stigme\, svete znakove Kristova raspeća na križu. \nPROGRAM PROSLAVE KROZ ČETIRI DANA \n\n listopada\, četvrtak\n\nUočnica sv. Franje \n19.00 – Sveta misa i Obred preminuća \n\n listopada\, petak\n\nBlagdan sv. Franje (prvi petak u mjesecu) \nSvete mise su u 07.00 i 19.00 sati uz Euharistijski blagoslov \n\n listopada\, subota\n\n18.00 – Svečani doček relikvija\, procesija \n(U procesiji sudjeluje i biskup Vlado Košić i provincijal fra Miljenko Hontić) \n18.20 – Franjevačka krunica \n19.00 – Svetu misu predslavi fra Miljenko Hontić\, provincijal \n\n listopada\, nedjelja\n\n09.00 do 18.00 sati je cjelodnevno bdjenje i molitva uz relikviju \n10.00 – Svetu misu predslavi fra Ivan Bradarić\, župnik i gvardijan \n19.00 – Svetu misu predslavi Mons Vlado Košić\, biskup sisački \nBrat Ilija\, tada na čelu Reda\, nakon svečeve smrti piše poznato Okružno pismo u kojem skoro da u drugi plan pada vijest o Franjinoj smrti\, a oduševljeno i s puno osjećaja donosi vijest: \nJavljam vam veliku radost i novo čudo. Odvijeka se nije čulo za takav znak\, osim na Sinu Božjemu\, koji je Krist Gospodin. Nedugo prije smrti brat i otac naš pojavio se razapet\, na svome tijelu noseći pet rana\, koje su doista biljezi Kristovi. Njegove su naime ruke i noge imale ubode čavala\, probodene s obiju strana\, rane su bile trajne i pokazivale su crnu boju čavala. A njegova su se rebra pojavila kopljem probodena i često su gubila krv. \nFranjevci iz sisačkog naselja Galdovo pozivaju sve vjernike da poprate ovaj događaj svojim dolaskom\, osobito u subotu na dočeku relikvija i tijekom cijelog slijedećeg dana\, u nedjelju. Također\, u nedjelju\, u zajedništvu s našim biskupom slavimo svetu misu zahvale u 19.00 sati.
URL:https://biskupija-sisak.hr/najava/relikvija-sv-franje-asiskog-u-sisku/
END:VEVENT
BEGIN:VEVENT
DTSTART;TZID=Europe/Helsinki:20241003T100000
DTEND;TZID=Europe/Helsinki:20241003T140000
DTSTAMP:20260421T211054
CREATED:20240926T073317Z
LAST-MODIFIED:20240926T073317Z
UID:987512695-1727949600-1727964000@biskupija-sisak.hr
SUMMARY:Svećenički dan
DESCRIPTION:Svećenički dan Sisačke biskupije održat će se u četvrtak\, 3. listopada u 10 sati u Dvorani Juran i Sofija u sisačkom Velikom Kaptolu. Predavanje na temu „Raspiruj milosni dar koji si primio po polaganju mojih ruku“ održat će provincijal Hrvatske dominikanske provincije fr. Tomislav Kraljević.
URL:https://biskupija-sisak.hr/najava/svecenicki-dan-15/
LOCATION:Veliki Kaptol\, Trg bana Josipa Jelačića 9\, Sisak\, 44000\, Croatia (Local Name: Hrvatska)
END:VEVENT
BEGIN:VEVENT
DTSTART;TZID=Europe/Helsinki:20240929T110000
DTEND;TZID=Europe/Helsinki:20240929T123000
DTSTAMP:20260421T211054
CREATED:20240920T104518Z
LAST-MODIFIED:20240920T104518Z
UID:987512622-1727607600-1727613000@biskupija-sisak.hr
SUMMARY:Blagoslov crkve sv. Katarine u Komarevu
DESCRIPTION:Sisački biskup Vlado Košić predvodit će u nedjelju\, 29. rujna\, u 11 sati svečano misno slavlje u crkvi sv. Katarine u Komarevu te tom prigodom i blagosloviti sada obnovljenu\, a u potresu stradalu crkvu.
URL:https://biskupija-sisak.hr/najava/blagoslov-crkve-sv-katarine-u-komarevu/
END:VEVENT
BEGIN:VEVENT
DTSTART;TZID=Europe/Helsinki:20240929T110000
DTEND;TZID=Europe/Helsinki:20240929T120000
DTSTAMP:20260421T211054
CREATED:20240926T072245Z
LAST-MODIFIED:20240926T072245Z
UID:987512690-1727607600-1727611200@biskupija-sisak.hr
SUMMARY:Miholje u Velikoj Ludini
DESCRIPTION:
URL:https://biskupija-sisak.hr/najava/miholje-u-velikoj-ludini/
END:VEVENT
BEGIN:VEVENT
DTSTART;TZID=Europe/Helsinki:20240928T190000
DTEND;TZID=Europe/Helsinki:20240928T200000
DTSTAMP:20260421T211054
CREATED:20240926T072123Z
LAST-MODIFIED:20240926T072144Z
UID:987512688-1727550000-1727553600@biskupija-sisak.hr
SUMMARY:Scenski prikaz o životu i mučeništvu vlč. Stjepana Povoljnjaka
DESCRIPTION:
URL:https://biskupija-sisak.hr/najava/scenski-prikaz-o-zivotu-i-mucenistvu-vlc-stjepana-povoljnjaka-2/
LOCATION:Kravarsko\, Trg Stjepana Radića\, Kravarsko\, Croatia (Local Name: Hrvatska)
END:VEVENT
BEGIN:VEVENT
DTSTART;TZID=Europe/Helsinki:20240928T103000
DTEND;TZID=Europe/Helsinki:20240928T123000
DTSTAMP:20260421T211054
CREATED:20240920T104417Z
LAST-MODIFIED:20240926T121912Z
UID:987512621-1727519400-1727526600@biskupija-sisak.hr
SUMMARY:Blagoslov župne crkve Uznesenja BDM i kapele sv. Ivana i Pavla u Gorama
DESCRIPTION:Sisački biskup Vlado Košić blagoslovit će u subotu\, 28. rujna\, u 10.30 sati kapelu sv. Ivana i Pavla u Gorama. Slijedi procesija od kapele do župne crkve Uznesenja BDM te svečano misno u 11 sati tijekom kojeg će biskup i blagosloviti ovu u potresu stradalu crkvu i posvetiti novi oltar.
URL:https://biskupija-sisak.hr/najava/blagoslov-zupne-crkve-uznesenja-bdm-i-kapele-sv-ivana-i-pavla-u-gorama/
END:VEVENT
BEGIN:VEVENT
DTSTART;TZID=Europe/Helsinki:20240927T070000
DTEND;TZID=Europe/Helsinki:20240927T080000
DTSTAMP:20260421T211054
CREATED:20240920T104048Z
LAST-MODIFIED:20240920T104238Z
UID:987512620-1727420400-1727424000@biskupija-sisak.hr
SUMMARY:Proslava sv. Vinka Paulskog u Sisku
DESCRIPTION:Zajednica sestara milosrdnica iz Siska proslavit će u petak\, 27. rujna\, svetkovinu svog nebeskog zaštitnika i osnivača Družbe – svetog Vinka Paulskog. Svečano misno slavlje u samostanskoj kapeli sv. Josipa (Ul. Kralja Tomislava 14) u 7 sati predvodit će sisački biskup Vlado Košić.
URL:https://biskupija-sisak.hr/najava/proslava-sv-vinka-paulskog-u-sisku/
END:VEVENT
BEGIN:VEVENT
DTSTART;TZID=Europe/Helsinki:20240926T110000
DTEND;TZID=Europe/Helsinki:20240926T110000
DTSTAMP:20260421T211054
CREATED:20240920T104015Z
LAST-MODIFIED:20240920T104015Z
UID:987512619-1727348400-1727348400@biskupija-sisak.hr
SUMMARY:Sjednica Zbora savjetnika
DESCRIPTION:Sjednica Zbora savjetnika Sisačke biskupije održat će se u četvrtak\, 26. rujna\, u 11 sati u Biskupijskom ordinarijatu u Sisku.
URL:https://biskupija-sisak.hr/najava/sjednica-zbora-savjetnika-3/
LOCATION:Veliki Kaptol\, Trg bana Josipa Jelačića 9\, Sisak\, 44000\, Croatia (Local Name: Hrvatska)
END:VEVENT
END:VCALENDAR