BEGIN:VCALENDAR
VERSION:2.0
PRODID:-//Sisačka biskupija - ECPv6.15.20//NONSGML v1.0//EN
CALSCALE:GREGORIAN
METHOD:PUBLISH
X-WR-CALNAME:Sisačka biskupija
X-ORIGINAL-URL:https://biskupija-sisak.hr
X-WR-CALDESC:Događaji za Sisačka biskupija
REFRESH-INTERVAL;VALUE=DURATION:PT1H
X-Robots-Tag:noindex
X-PUBLISHED-TTL:PT1H
BEGIN:VTIMEZONE
TZID:Europe/Helsinki
BEGIN:DAYLIGHT
TZOFFSETFROM:+0200
TZOFFSETTO:+0300
TZNAME:EEST
DTSTART:20210328T010000
END:DAYLIGHT
BEGIN:STANDARD
TZOFFSETFROM:+0300
TZOFFSETTO:+0200
TZNAME:EET
DTSTART:20211031T010000
END:STANDARD
BEGIN:DAYLIGHT
TZOFFSETFROM:+0200
TZOFFSETTO:+0300
TZNAME:EEST
DTSTART:20220327T010000
END:DAYLIGHT
BEGIN:STANDARD
TZOFFSETFROM:+0300
TZOFFSETTO:+0200
TZNAME:EET
DTSTART:20221030T010000
END:STANDARD
BEGIN:DAYLIGHT
TZOFFSETFROM:+0200
TZOFFSETTO:+0300
TZNAME:EEST
DTSTART:20230326T010000
END:DAYLIGHT
BEGIN:STANDARD
TZOFFSETFROM:+0300
TZOFFSETTO:+0200
TZNAME:EET
DTSTART:20231029T010000
END:STANDARD
BEGIN:DAYLIGHT
TZOFFSETFROM:+0200
TZOFFSETTO:+0300
TZNAME:EEST
DTSTART:20240331T010000
END:DAYLIGHT
BEGIN:STANDARD
TZOFFSETFROM:+0300
TZOFFSETTO:+0200
TZNAME:EET
DTSTART:20241027T010000
END:STANDARD
BEGIN:DAYLIGHT
TZOFFSETFROM:+0200
TZOFFSETTO:+0300
TZNAME:EEST
DTSTART:20250330T010000
END:DAYLIGHT
BEGIN:STANDARD
TZOFFSETFROM:+0300
TZOFFSETTO:+0200
TZNAME:EET
DTSTART:20251026T010000
END:STANDARD
END:VTIMEZONE
BEGIN:VTIMEZONE
TZID:UTC
BEGIN:STANDARD
TZOFFSETFROM:+0000
TZOFFSETTO:+0000
TZNAME:UTC
DTSTART:20230101T000000
END:STANDARD
END:VTIMEZONE
BEGIN:VEVENT
DTSTART;TZID=Europe/Helsinki:20240316T080000
DTEND;TZID=Europe/Helsinki:20240316T150000
DTSTAMP:20260423T134559
CREATED:20240308T133618Z
LAST-MODIFIED:20240308T133632Z
UID:987509629-1710576000-1710601200@biskupija-sisak.hr
SUMMARY:Tradicionalni 23. Kutinski planinarski križni put
DESCRIPTION:Tradicionalni 23. Kutinski planinarski križni put održat će se u subotu 16. ožujka na području župe Kutina\, Kutinska Slatina i Ilova\, a razmišljat će se o putu svetosti bl. Alojzija Stepinca i sluge Božjega Ivana Bonifacija Pavletića. Polazak sudionika je predviđen za 8 sati ispred crkve Majke Božje Snježne u Kutini\, a središnje misno slavlje u 10.30 sati u župnoj crkvi bl. Alojzija Stepinca u Kutinskoj Slatini predvodit će sisački biskup Vlado Košić. Završetak je predviđen u popodnevnim satima ispred škole u Zbjegovači.
URL:https://biskupija-sisak.hr/najava/987509629/
END:VEVENT
BEGIN:VEVENT
DTSTART;TZID=Europe/Helsinki:20240316T080000
DTEND;TZID=Europe/Helsinki:20240316T120000
DTSTAMP:20260423T134559
CREATED:20240308T133319Z
LAST-MODIFIED:20240308T133319Z
UID:987509627-1710576000-1710590400@biskupija-sisak.hr
SUMMARY:Planinarsko hodočašće Majci Božjoj Garićkoj
DESCRIPTION:Drugo planinarsko hodočašće Majci Božjoj Garićkoj i lokalitetu nekadašnjeg pavlinskog samostana na Moslavačkoj gori održat će se u subotu\, 16. ožujka. Okupljanje hodočasnika bit će u 8.15 sati ispred crkve u Voloderu odakle se kreće prema jezeru Mikleuška. U 9.15 sati kreće planinarski dio puta prema Beloj crkvi gdje će u 11 sati svetu misu predvoditi domaći župnik vlč. Marijan Štingl. \n \n 
URL:https://biskupija-sisak.hr/najava/planinarsko-hodocasce-majci-bozjoj-garickoj-2/
END:VEVENT
BEGIN:VEVENT
DTSTART;TZID=Europe/Helsinki:20240315T200000
DTEND;TZID=Europe/Helsinki:20240315T210000
DTSTAMP:20260423T134559
CREATED:20240312T150152Z
LAST-MODIFIED:20240312T150152Z
UID:987509678-1710532800-1710536400@biskupija-sisak.hr
SUMMARY:Dekanatski susret mladih u Sisku
DESCRIPTION:U petak\, 15. ožujka u 20 sati u sisačkoj župi Pohoda BDM održat će se treći po redu susret mladih Sisačko-katedralnog dekanata. Na ove susrete koji se održavaju svaka dva tjedna na drugoj župi u dekanatu pozivaju se mladi koji žele sudjelovati na Susretu hrvatske katoličke mladeži u Gospiću 4. svibnja 2024. Susreti se održavaju pod geslom “Raduj se za svoje mladosti” (usp. Prop 11\, 9)\, a kateheze održavaju svećenici domaćini u župama u kojima se održava pojedini susret mladih. \n 
URL:https://biskupija-sisak.hr/najava/dekanatski-susret-mladih-u-sisku/
LOCATION:Crkva Sv. Marije Kraljice Mira\, Petrinjska ulica 9f\, Sisak\, 44000
END:VEVENT
BEGIN:VEVENT
DTSTART;TZID=Europe/Helsinki:20240314T170000
DTEND;TZID=Europe/Helsinki:20240314T180000
DTSTAMP:20260423T134559
CREATED:20240308T133206Z
LAST-MODIFIED:20240308T133206Z
UID:987509626-1710435600-1710439200@biskupija-sisak.hr
SUMMARY:Četvrto zasjedanje Sinode
DESCRIPTION:Četvrto zasjedanje Sinode Sisačke biskupije održat će se u četvrtak 14. ožujka u 17 sati u Dvorani „Juran i Sofija“ u Velikom Kaptolu u Sisku pod predsjedanjem biskupa Vlade Košića.
URL:https://biskupija-sisak.hr/najava/cetvrto-zasjedanje-sinode/
LOCATION:Veliki Kaptol\, Trg bana Josipa Jelačića 9\, Sisak\, 44000\, Croatia (Local Name: Hrvatska)
END:VEVENT
BEGIN:VEVENT
DTSTART;TZID=Europe/Helsinki:20240307T193000
DTEND;TZID=Europe/Helsinki:20240307T203000
DTSTAMP:20260423T134559
CREATED:20240229T083151Z
LAST-MODIFIED:20240229T083151Z
UID:987509507-1709839800-1709843400@biskupija-sisak.hr
SUMMARY:Predavanje biskupa Ratka Perića
DESCRIPTION:Biskup mostarsko-duvanjski i apostolski upravitelj trebinjsko-mrkanski u mir Ratko Perić održat će u četvrtak\, 7. ožujka u 19.30 sati u sisačkom Velikom Kaptolu predavanje na temu „Razumjeti i živjeti Očenaš (po sv. Tomi i sakramentima)“.
URL:https://biskupija-sisak.hr/najava/predavanje-biskupa-ratka-perica/
LOCATION:Veliki Kaptol\, Trg bana Josipa Jelačića 9\, Sisak\, 44000\, Croatia (Local Name: Hrvatska)
END:VEVENT
BEGIN:VEVENT
DTSTART;TZID=Europe/Helsinki:20240307T100000
DTEND;TZID=Europe/Helsinki:20240307T120000
DTSTAMP:20260423T134559
CREATED:20240229T083030Z
LAST-MODIFIED:20240229T083102Z
UID:987509506-1709805600-1709812800@biskupija-sisak.hr
SUMMARY:Svećenički dan
DESCRIPTION:Svećenički dan Sisačke biskupije održat će se u četvrtak\, 7. ožujka u 10 sati u Dvorani sv. Ivana Pavla II. u sisačkom Velikom Kaptolu. Gosti predavači bit će biskup mostarsko-duvanjski i apostolski upravitelj trebinjsko-mrkanski u miru Ratko Perić koji će govoriti na temu „Duhovni nagovor na temelju evanđeoske perikope dana“ te mr. Petar Marija Radelj koji će predstaviti dvije nove knjige o Očenašu o 750. obljetnici smrti sv. Tome Akvinskoga.
URL:https://biskupija-sisak.hr/najava/svecenicki-dan-11/
LOCATION:Veliki Kaptol\, Trg bana Josipa Jelačića 9\, Sisak\, 44000\, Croatia (Local Name: Hrvatska)
END:VEVENT
BEGIN:VEVENT
DTSTART;TZID=Europe/Helsinki:20240306T170000
DTEND;TZID=Europe/Helsinki:20240306T190000
DTSTAMP:20260423T134559
CREATED:20240229T082715Z
LAST-MODIFIED:20240229T082958Z
UID:987509505-1709744400-1709751600@biskupija-sisak.hr
SUMMARY:Treće zasjedanje Sinode
DESCRIPTION:Treće zasjedanje Sinode Sisačke biskupije održat će se u srijedu 6. ožujka u Dvorani „Juran i Sofija“ u Velikom Kaptolu u Sisku pod predsjedanjem biskupa Vlade Košića.
URL:https://biskupija-sisak.hr/najava/987509505/
LOCATION:Veliki Kaptol\, Trg bana Josipa Jelačića 9\, Sisak\, 44000\, Croatia (Local Name: Hrvatska)
END:VEVENT
BEGIN:VEVENT
DTSTART;TZID=Europe/Helsinki:20240303T180000
DTEND;TZID=Europe/Helsinki:20240303T190000
DTSTAMP:20260423T134559
CREATED:20240228T145433Z
LAST-MODIFIED:20240228T145433Z
UID:987509502-1709488800-1709492400@biskupija-sisak.hr
SUMMARY:Križni put za nerođene
DESCRIPTION:
URL:https://biskupija-sisak.hr/najava/krizni-put-za-nerodene/
LOCATION:Bazilika sv. Kvirina\, Sisak\, Lonjska ulica 26\, Sisak\, 44000\, Croatia (Local Name: Hrvatska)
END:VEVENT
BEGIN:VEVENT
DTSTART;TZID=Europe/Helsinki:20240303T100000
DTEND;TZID=Europe/Helsinki:20240303T110000
DTSTAMP:20260423T134559
CREATED:20240226T092346Z
LAST-MODIFIED:20240226T092346Z
UID:987509500-1709460000-1709463600@biskupija-sisak.hr
SUMMARY:Krštenje sedmog djeteta obitelji Nekich
DESCRIPTION:Sisački biskup Vlado Košić predvodit će u nedjelju 3. ožujka u 10 sati u Maloj dvorani Pučkog otvorenog učilišta Ivanić-Grad svečano misno slavlje tijekom koje će krstiti sedmo dijete obitelji Nekich.
URL:https://biskupija-sisak.hr/najava/krstenje-sedmog-djeteta-obitelji-nekich/
LOCATION:Ivanić-Grad\, Park Hrvatskih Branitelja 2\, Ivanić-Grad\, 10310
END:VEVENT
BEGIN:VEVENT
DTSTART;TZID=Europe/Helsinki:20240303T090000
DTEND;TZID=Europe/Helsinki:20240310T120000
DTSTAMP:20260423T134559
CREATED:20240229T083246Z
LAST-MODIFIED:20240229T083327Z
UID:987509508-1709456400-1710072000@biskupija-sisak.hr
SUMMARY:Pučke misije u Odri
DESCRIPTION:
URL:https://biskupija-sisak.hr/najava/pucke-misije-u-odri/
END:VEVENT
BEGIN:VEVENT
DTSTART;TZID=Europe/Helsinki:20240228T170000
DTEND;TZID=Europe/Helsinki:20240228T190000
DTSTAMP:20260423T134559
CREATED:20240226T075843Z
LAST-MODIFIED:20240226T092732Z
UID:987509498-1709139600-1709146800@biskupija-sisak.hr
SUMMARY:Drugo zasjedanje Sinode
DESCRIPTION:Drugo zasjedanje Sinode Sisačke biskupije održat će se u srijedu 28. veljače u 17 sati u Dvorani „Juran i Sofija“ u Velikom Kaptolu u Sisku pod predsjedanjem biskupa Vlade Košića.
URL:https://biskupija-sisak.hr/najava/drugo-zasjedanje-sinode/
LOCATION:Veliki Kaptol\, Trg bana Josipa Jelačića 9\, Sisak\, 44000\, Croatia (Local Name: Hrvatska)
END:VEVENT
BEGIN:VEVENT
DTSTART;TZID=Europe/Helsinki:20240226T170000
DTEND;TZID=Europe/Helsinki:20240303T180000
DTSTAMP:20260423T134559
CREATED:20240226T075725Z
LAST-MODIFIED:20240226T075802Z
UID:987509496-1708966800-1709488800@biskupija-sisak.hr
SUMMARY:Pučke misije u Kutini
DESCRIPTION:
URL:https://biskupija-sisak.hr/najava/pucke-misije-u-kutini/
LOCATION:Crkva Gospe Snježne\, Kutina\, Crkvena ulica 68\, Kutina\, 44320\, Croatia (Local Name: Hrvatska)
END:VEVENT
BEGIN:VEVENT
DTSTART;TZID=Europe/Helsinki:20240225T110000
DTEND;TZID=Europe/Helsinki:20240225T120000
DTSTAMP:20260423T134559
CREATED:20240220T120541Z
LAST-MODIFIED:20240220T120641Z
UID:987509387-1708858800-1708862400@biskupija-sisak.hr
SUMMARY:Duhovne vježbe u Međugorju
DESCRIPTION:Sisački biskup Vlado Košić predvodit će u nedjelju\, 25. veljače u 11 sati misno slavlje u crkvi sv. Jakova u Međugorju. Misno slavlje održat će se u sklopu duhovnih vježbi za vjeroučitelje i djelatnike Sisačke biskupije koje će od 23. do 25. ožujka predvoditi vlč. Josip Radić.
URL:https://biskupija-sisak.hr/najava/biskup-predvodi-misu-u-medugorju/
END:VEVENT
BEGIN:VEVENT
DTSTART;TZID=Europe/Helsinki:20240224T180000
DTEND;TZID=Europe/Helsinki:20240224T200000
DTSTAMP:20260423T134559
CREATED:20240216T125608Z
LAST-MODIFIED:20240216T125608Z
UID:987509349-1708797600-1708804800@biskupija-sisak.hr
SUMMARY:Korizmena duhovna obnova u Kravarskom
DESCRIPTION:
URL:https://biskupija-sisak.hr/najava/korizmena-duhovna-obnova-u-kravarskom/
END:VEVENT
BEGIN:VEVENT
DTSTART;TZID=Europe/Helsinki:20240224T100000
DTEND;TZID=Europe/Helsinki:20240224T110000
DTSTAMP:20260423T134559
CREATED:20240220T083805Z
LAST-MODIFIED:20240220T083805Z
UID:987509385-1708768800-1708772400@biskupija-sisak.hr
SUMMARY:Krštenje sedmog djeteta obitelji Jurković
DESCRIPTION:Sisački biskup Vlado Košić krstit će u subotu\, 24. veljače u 10 sati u crkvi sv. Franje Ksaverskog u Viduševcu sedmo dijete obitelji Jurković.
URL:https://biskupija-sisak.hr/najava/krstenje-sedmog-djeteta-obitelji-jurkovic/
END:VEVENT
BEGIN:VEVENT
DTSTART;TZID=Europe/Helsinki:20240221T170000
DTEND;TZID=Europe/Helsinki:20240221T190000
DTSTAMP:20260423T134559
CREATED:20240220T083625Z
LAST-MODIFIED:20240220T083714Z
UID:987509384-1708534800-1708542000@biskupija-sisak.hr
SUMMARY:Prvo zasjedanje Sinode Sisačke biskupije
DESCRIPTION:Prvo zasjedanje Sinode Sisačke biskupije održat će u srijedu\, 21. veljače u 17 sati u Dvorani „Juran i Sofija“ u Velikom Kaptolu u Sisku pod predsjedanjem biskupa Vlade Košića.
URL:https://biskupija-sisak.hr/najava/prvo-zasjedanje-sinode-sisacke-biskupije/
END:VEVENT
BEGIN:VEVENT
DTSTART;TZID=Europe/Helsinki:20240218T100000
DTEND;TZID=Europe/Helsinki:20240218T110000
DTSTAMP:20260423T134559
CREATED:20240212T072612Z
LAST-MODIFIED:20240212T072612Z
UID:987509286-1708250400-1708254000@biskupija-sisak.hr
SUMMARY:Misa zahvalnica za Pučke misije
DESCRIPTION:Sisački biskup Vlado Košić predvodit će u nedjelju\, 18. veljače u 10 sati u Maloj dvorani Pučkog otvorenog učilišta Ivanić-Grad misu zahvalnicu za održane Pučke misije u ovoj župi.
URL:https://biskupija-sisak.hr/najava/misa-zahvalnica-za-pucke-misije/
LOCATION:Ivanić-Grad\, Park Hrvatskih Branitelja 2\, Ivanić-Grad\, 10310
END:VEVENT
BEGIN:VEVENT
DTSTART;TZID=Europe/Helsinki:20240217T080000
DTEND;TZID=Europe/Helsinki:20240217T170000
DTSTAMP:20260423T134559
CREATED:20240207T081311Z
LAST-MODIFIED:20240207T082100Z
UID:987509156-1708156800-1708189200@biskupija-sisak.hr
SUMMARY:Planinarski križni put župe Hrastovica
DESCRIPTION:Planinarski križni put župe Hrastovica održavat će sve svake subote tijekom korizme\, od 17. veljače do 23. ožujka. Križni put započinje u 15 sati ispred župne crkve sv. Bartola proteže se na obroncima Hrastovičke gore\, a završava u 17 sati misnim slavljem u privremenom bogoslužnom prostoru župe.
URL:https://biskupija-sisak.hr/najava/planinarski-krizni-put-zupe-hrastovica/
END:VEVENT
BEGIN:VEVENT
DTSTART;TZID=Europe/Helsinki:20240214T190000
DTEND;TZID=Europe/Helsinki:20240214T200000
DTSTAMP:20260423T134559
CREATED:20240209T104344Z
LAST-MODIFIED:20240209T104344Z
UID:987509204-1707937200-1707940800@biskupija-sisak.hr
SUMMARY:Pepelnica u Sisku
DESCRIPTION:Na Čistu srijedu – Pepelnicu 14. veljače misno slavlje s obredom pepeljenja\, u Pastoralnom centru Katedralne župe u Sisku u 19 sati\, predvodit će sisački biskup Vlado Košić.
URL:https://biskupija-sisak.hr/najava/pepelnica-u-sisku-2/
END:VEVENT
BEGIN:VEVENT
DTSTART;TZID=Europe/Helsinki:20240213T100000
DTEND;TZID=Europe/Helsinki:20240213T120000
DTSTAMP:20260423T134559
CREATED:20240212T071526Z
LAST-MODIFIED:20240212T071526Z
UID:987509285-1707818400-1707825600@biskupija-sisak.hr
SUMMARY:Sjednica biskupa Zagrebačke crkvene pokrajine
DESCRIPTION:Sjednica biskupa Zagrebačke crkvene pokrajine pod predsjedanjem zagrebačkog nadbiskupa i metropolita Dražena Kutleše održat će se u utorak\, 13. veljače u 10 sati u Biskupijskom ordinarijatu\, Velikom Kaptolu\, u Sisku. Početak sjednice otvoren je za medije. \n 
URL:https://biskupija-sisak.hr/najava/sjednica-biskupa-zagrebacke-crkvene-pokrajine/
LOCATION:Veliki Kaptol\, Trg bana Josipa Jelačića 9\, Sisak\, 44000\, Croatia (Local Name: Hrvatska)
END:VEVENT
BEGIN:VEVENT
DTSTART;TZID=Europe/Helsinki:20240211T170000
DTEND;TZID=Europe/Helsinki:20240212T170000
DTSTAMP:20260423T134559
CREATED:20240205T150644Z
LAST-MODIFIED:20240205T150702Z
UID:987509044-1707670800-1707757200@biskupija-sisak.hr
SUMMARY:Dani bolesnika
DESCRIPTION:Dani bolesnika na području Sisačke biskupije bit će obilježeni 11. i 12. veljače misnim slavljima koja će predvoditi sisački biskup Vlado Košić u zajedništvu s povjerenikom za pastoral bolesnih i starijih osoba vlč. Sašom Jozićem\, a prema sljedećem rasporedu: \nu nedjelju\, 11. veljače u 17 sati\, u kapeli Gospe Lurdske Lječilišta „Topusko“; \nu ponedjeljak\, 12. veljače u 11 sati\, u bolničkoj kapeli Neuropsihijatrijske bolnice “Dr. Ivan Brabot” u Popovači; \nu ponedjeljak\, 12. veljače u 15 sati  u OB „Dr. Ivo Pedišić“ u Sisku;
URL:https://biskupija-sisak.hr/najava/df/
END:VEVENT
BEGIN:VEVENT
DTSTART;TZID=Europe/Helsinki:20240211T110000
DTEND;TZID=Europe/Helsinki:20240211T120000
DTSTAMP:20260423T134559
CREATED:20240202T093300Z
LAST-MODIFIED:20240202T093300Z
UID:987509007-1707649200-1707652800@biskupija-sisak.hr
SUMMARY:Stepinčevo u Kutinskoj Slatini
DESCRIPTION:Župa Kutinska Slatina svečano će u nedjelju\, 11. veljače proslaviti blagdan svog zaštitnika bl. Alojzija Stepinca. Središnje misno slavlje u 11 sati u župnoj crkvi predvodit će sisački biskup Vlado Košić.
URL:https://biskupija-sisak.hr/najava/stepincevo-u-kutinskoj-slatini-3/
LOCATION:Crkva bl. Alojzija Stepinca\, Kutinska Slatina\, Ulica Stjepana Kefelje 41 c\, Kutinska Slatina\, 44320\, Croatia (Local Name: Hrvatska)
END:VEVENT
BEGIN:VEVENT
DTSTART;TZID=Europe/Helsinki:20240211T080000
DTEND;TZID=Europe/Helsinki:20240218T100000
DTSTAMP:20260423T134559
CREATED:20240211T080346Z
LAST-MODIFIED:20240211T080346Z
UID:987509249-1707638400-1708250400@biskupija-sisak.hr
SUMMARY:Pučke misije u Ivanić-Gradu
DESCRIPTION:
URL:https://biskupija-sisak.hr/najava/pucke-misije-u-ivanic-gradu/
END:VEVENT
BEGIN:VEVENT
DTSTART;TZID=Europe/Helsinki:20240210T183000
DTEND;TZID=Europe/Helsinki:20240210T193000
DTSTAMP:20260423T134559
CREATED:20240207T081933Z
LAST-MODIFIED:20240207T081933Z
UID:987509158-1707589800-1707593400@biskupija-sisak.hr
SUMMARY:Koncert „Soli Deo gloria“
DESCRIPTION:Koncert sakralne glazbe u izvedbi Vokalnog ansambla Siscia Vox Mundi pod nazivom „Soli Deo gloria“ održat će se u subotu 10. veljače u bazilici sv. Kvirina u Sisku s početkom u 18.30 sati. Na programu bit će djela Palestrine\, Bacha\, Kokota\, Ivšića\, Pärta\, Rahmanjinova\, Brucknera i Novokmeta.
URL:https://biskupija-sisak.hr/najava/koncert-soli-deo-gloria/
LOCATION:Bazilika sv. Kvirina\, Sisak\, Lonjska ulica 26\, Sisak\, 44000\, Croatia (Local Name: Hrvatska)
END:VEVENT
BEGIN:VEVENT
DTSTART;TZID=Europe/Helsinki:20240210T153000
DTEND;TZID=Europe/Helsinki:20240210T200000
DTSTAMP:20260423T134559
CREATED:20240207T081034Z
LAST-MODIFIED:20240207T081034Z
UID:987509154-1707579000-1707595200@biskupija-sisak.hr
SUMMARY:Duhovna obnova u Kutini
DESCRIPTION:Duhovna obnova na temu “Bogu nitko nije nevažan – od nerođenog djeteta pa do zrele dobi“ održat će se u subotu 10. veljače u crkvi BDM Snježne u Kutini. Voditelj duhovne obnove bit će p. Marko Glogović\, a program započinje u 15.30 sati. \n \n 
URL:https://biskupija-sisak.hr/najava/duhovna-obnova-u-kutini/
LOCATION:Crkva Gospe Snježne\, Kutina\, Crkvena ulica 68\, Kutina\, 44320\, Croatia (Local Name: Hrvatska)
END:VEVENT
BEGIN:VEVENT
DTSTART;TZID=Europe/Helsinki:20240210T110000
DTEND;TZID=Europe/Helsinki:20240210T120000
DTSTAMP:20260423T134559
CREATED:20240202T092858Z
LAST-MODIFIED:20240202T092858Z
UID:987509006-1707562800-1707566400@biskupija-sisak.hr
SUMMARY:Stepinčevo u Budaševu
DESCRIPTION:Župa Budaševo svečano će u subotu\, 10. veljače proslaviti blagdan svog zaštitnika i suzaštinika Sisačke biskupije bl. Alojzija Stepinca. Središnje misno slavlje u 11 sati u župnoj crkvi predvodit će sisački biskup Vlado Košić.
URL:https://biskupija-sisak.hr/najava/stepincevo-u-budasevu-2/
LOCATION:Crkva bl. Alojzija Stepinca\, Budaševo\, Trg M. Šokčevića 1\, Budaševo\, 44000\, Croatia (Local Name: Hrvatska)
END:VEVENT
BEGIN:VEVENT
DTSTART;TZID=Europe/Helsinki:20240206T180000
DTEND;TZID=Europe/Helsinki:20240206T190000
DTSTAMP:20260423T134559
CREATED:20240205T111011Z
LAST-MODIFIED:20240205T111627Z
UID:987509034-1707242400-1707246000@biskupija-sisak.hr
SUMMARY:Zahvalno euharistijsko slavlje povodom 25. obljetnice biskupskog ređenja Vlade Košića i Josipa Mrzljaka
DESCRIPTION:Zahvalno euharistijsko slavlje povodom 25. obljetnice biskupskog ređenja sisačkog biskupa Vlade Košića i varaždinskog biskupa u miru Josipa Mrzljaka održat će se u utorak 6. veljače u 18 sati u crkvi Presvetog Trojstva u Krašiću.
URL:https://biskupija-sisak.hr/najava/zahvalno-euharistijsko-slavlje-povodom-25-obljetnice-biskupskog-redenja-vlade-kosica-i-josipa-mrzljaka/
END:VEVENT
BEGIN:VEVENT
DTSTART;TZID=Europe/Helsinki:20230923T110000
DTEND;TZID=Europe/Helsinki:20230923T123000
DTSTAMP:20260423T134559
CREATED:20230915T063922Z
LAST-MODIFIED:20250922T070401Z
UID:987507346-1695466800-1695472200@biskupija-sisak.hr
SUMMARY:Biskupijsko hodočašće u Goru
DESCRIPTION:Biskupijsko hodočašće u Svetište Majke Naših Stradanja u Gori održat će se u subotu 23. rujna. Hodočašće kao i svečano misno slavlje u 11 sati predvodit će sisački biskup Vlado Košić. Na hodočašću tradicionalno će se održati i podjela mandata vjeroučiteljima. \n 
URL:https://biskupija-sisak.hr/najava/biskupijsko-hodocasce-u-goru/
END:VEVENT
BEGIN:VEVENT
DTSTART;VALUE=DATE:20240101
DTEND;VALUE=DATE:20250201
DTSTAMP:20260423T134559
CREATED:20220623T081133Z
LAST-MODIFIED:20231208T092129Z
UID:987489622-1704067200-1738367999@biskupija-sisak.hr
SUMMARY:Zaručnički tečaj za 2024. godinu
DESCRIPTION:SISAČKA BISKUPIJA\nPOVJERENSTVO ZA PASTORAL BRAKA I OBITELJI\nVlč. Branko Koretić\, povjerenik\nTel: 01/2889 030\ne-mail: pastoral.bio@gmail.com \nMolim vas da se na zaručnički tečaj prijavite putem pozveznice \nPRIJAVA NA ZARUČNIČKI TEČAJ \n//Prijave se vrše isključivo putem navedene poveznice i po završenoj prijavi nije potrebno dodatno provjeravati telefonom ili mailom jeste li prijavljeni// \nTermini zaručničkih tečajeva za 2024. godinu \nSISAK\nPastoralni centar župe Pohoda Bl. Djevice Marije\, Sisak\nPetrinjska 9f\, 44000 Sisak\nTelefon: 044 535 792 \nTermini:\n05. – 08. veljače u 20.00 sati\n13. – 16. svibnja u 20.00 sati \nSISAK\nPastoralni centar župe sv. Josipa Radnika\, Sisak-Galdovo\nVelebitska 14\, 44000 Sisak\nTelefon: 01 2889 030; 044 742 725 \nTermini:\n04. – 07. ožujak u 19.00 sati\n02. – 05. rujna u 20.00 sati \nPETRINJA\nPastoralni centar župe Preobraženja Gospodnjeg\, Petrinja\nSlatinska 43\, 44250 Petrinja\nTelefon: 044 202 614 \nTermini:\n08. – 11. travnja u 20.00 sati\n04. – 07. studenoga u 20.00 sati \nKUTINA\nPastoralni centar župe\, Kutina\nCrkvena ulica 65\, 44320 Kutina\nTelefon: 044 683 271 \nTermini:\n09. – 11. veljače u 19.00 sati \nPOPOVAČA\nPastoralni centar župe Sv. Alojzije Gonzage\, Popovača\nZagrebačka ul. 17\, 44317 Popovača\nTelefon: 099 354 0453 \nTermini:\n01. – 03. ožujka u 19:00 sati\n14. – 16. lipnja u 19:00 sati \nIVANIĆ-GRAD\nPastoralni centar župe Sv. Petra apostola\, Ivanić-Grad\nPark Hrvatskih Branitelja 2\, 10310 Ivanić Grad\nTelefon: 01 2889 030 \nTermini:\n06. – 09. veljače u 20.00 sati\n12. – 15. ožujka u 20.00 sati\n04. – 07. lipnja u 20.00 sati\n10. – 13. rujna u 20.00 sati
URL:https://biskupija-sisak.hr/najava/zarucnicki-tecaj/
END:VEVENT
BEGIN:VEVENT
DTSTART;TZID=Europe/Helsinki:20221102T010000
DTEND;TZID=Europe/Helsinki:20221106T233000
DTSTAMP:20260423T134559
CREATED:20220613T165146Z
LAST-MODIFIED:20221005T073540Z
UID:987490396-1667350800-1667777400@biskupija-sisak.hr
SUMMARY:Hodočašće u Rim
DESCRIPTION:HODOČAŠĆE SISAČKE BISKUPIJE \nRIM – ASSISI – PADOVA \n2  – 6. studeni  2022. \nPRIJAVE PONEDJELJKOM I PETKOM OD 9 DO 16 SATI \nNA BROJ TELEFONA 044 544 559 ILI OSOBNO U ORDINARIJATU \n\n\n\nSRIJEDA \n2.11.\nPolazak iz SISKA i ostalih župa (s dogovorenih mjesta)  u 01.00 sat. \nVožnja preko Rijeke\, Trsta\, Padove\, Bologne\, Firenze\, Perugie… \nDolazak u ASSISI oko 11.00 sati te razgled: Crkva i grob sv. Franje Asiškoga (sv. misa u 13:00)\, Crkva Gospe od anđela (Porcijunkula)\, Crkva i grob sv. Klare… Dolazak u Rim oko 19.00 sati…  Večera. Noćenje.\n\n\nČETVRTAK \n3.11.\nRIM – doručak\nBazlika sv. Ivana Lateranskog (sv. misa u 10:00 sati)\nRazgled: VATIKAN – Trg\, crkva i kupola sv. Petra\, kupnja suvenira\, Bazilika sv. Ivana Lateranskog\, Krstionica\, Sv. Stube.\nBazilika Santa Maria in Trastevere (molitva u 17:00 sati)\nVečera. Noćenje.\n\n\nPETAK \n4.11.\nRIM – doručak\nPosjet grobu sluge božjega IVANA BONIFACIJA PAVLETIĆA\n(sv. misa u 18:00 sati)\nRazgled: Katakombe sv. Kalista\, crkva sv. Petra u Okovima (Mojsije\, J. Klović)\, Flavijev amfiteatar (Colosseum)\, Konstantinov slavoluk\, Rimski forum\, Kapitolij\, Crkva Santa Maria in Ara Coeli – Nebeski žrtvenik\, Venecijanski trg – Oltar domovine\, Trajanov stup. Večera.  Noćenje.\n\n\nSUBOTA \n5.11.\nRIM – doručak \nCjelodnevni razgled: Bazilika sv. Pavla izvan zidina\, Bazilika sv. Marije Velike\, Anđeoska tvrđava i most\, Palača pravde\, Trg Navona\, Panteon\, Crkva sv. Ignacija (Caravaggio)\, Fontana di Trevi\, Španjolski trg\, Hrvatska crkva i Zavod sv. Jeronima (sv. misa u 18:0 sati). Večera. Noćenje.\n\n\nNEDJELJA. \n6.11.\nRIM – doručak \nPospremanje stvari i polazak prema Padovi. Vožnja preko Orvieta\, Firenze\, Bologne\, Ferrare do PADOVE\, gdje stižemo oko 15.00 sati. Posjet Svetištu sv. Leopolda Mandića (sv. misa u 14.30 sati) i Svetištu sv. Antuna Padovanskog. Oko 19.00 sati polazak prema Domovini. Vožnja preko Trsta\, Rijeke\, Karlovca. Dolazak u SISAK oko pola noći…\n\n\nCIJENA \n  \n3.100 kn\nCijena uključuje:  – prijevoz udobnim autobusima (euro 5 i 6) \n–          četiri polupansiona u dvokrevetnim sobama \n–          ulaznice za Assisi\, Katakombe i Kupolu sv. Petra \n–          boravišne pristojbe\, ulazak autobusa u sve gradove \n–          stručno vodstvo tijekom cijelog puta \nNema nikakvih nadoplata! \n \n\n\n\n\nSretan  put  u vječni grad Rim na grobove apostolskih prvaka sv. Petra i Pavla  želi Vam \nhodočasničko – putnička agencija \nKRALJICA MIRA \nKrešićeva  32 – Zagreb \ntel: 091 504 37 38  ili  01 550 63 06 \nkraljica-mira@inet.hr
URL:https://biskupija-sisak.hr/najava/hodocasce-u-rim/
LOCATION:RIM – ASSISI – PADOVA
END:VEVENT
END:VCALENDAR