BEGIN:VCALENDAR
VERSION:2.0
PRODID:-//Sisačka biskupija - ECPv6.15.20//NONSGML v1.0//EN
CALSCALE:GREGORIAN
METHOD:PUBLISH
X-WR-CALNAME:Sisačka biskupija
X-ORIGINAL-URL:https://biskupija-sisak.hr
X-WR-CALDESC:Događaji za Sisačka biskupija
REFRESH-INTERVAL;VALUE=DURATION:PT1H
X-Robots-Tag:noindex
X-PUBLISHED-TTL:PT1H
BEGIN:VTIMEZONE
TZID:Europe/Helsinki
BEGIN:DAYLIGHT
TZOFFSETFROM:+0200
TZOFFSETTO:+0300
TZNAME:EEST
DTSTART:20230326T010000
END:DAYLIGHT
BEGIN:STANDARD
TZOFFSETFROM:+0300
TZOFFSETTO:+0200
TZNAME:EET
DTSTART:20231029T010000
END:STANDARD
BEGIN:DAYLIGHT
TZOFFSETFROM:+0200
TZOFFSETTO:+0300
TZNAME:EEST
DTSTART:20240331T010000
END:DAYLIGHT
BEGIN:STANDARD
TZOFFSETFROM:+0300
TZOFFSETTO:+0200
TZNAME:EET
DTSTART:20241027T010000
END:STANDARD
BEGIN:DAYLIGHT
TZOFFSETFROM:+0200
TZOFFSETTO:+0300
TZNAME:EEST
DTSTART:20250330T010000
END:DAYLIGHT
BEGIN:STANDARD
TZOFFSETFROM:+0300
TZOFFSETTO:+0200
TZNAME:EET
DTSTART:20251026T010000
END:STANDARD
END:VTIMEZONE
BEGIN:VEVENT
DTSTART;TZID=Europe/Helsinki:20240523T193000
DTEND;TZID=Europe/Helsinki:20240523T210000
DTSTAMP:20260423T015250
CREATED:20240517T090823Z
LAST-MODIFIED:20240517T090823Z
UID:987510648-1716492600-1716498000@biskupija-sisak.hr
SUMMARY:Predstavljanje knjige „Bl. Alojzije Stepinac: Marija posrednica milosti - Propovijedi o Majci Božjoj"
DESCRIPTION:Predstavljanje knjige „Bl. Alojzije Stepinac: Marija posrednica milosti – Propovijedi o Majci Božjoj prema Litanijama lauretanskim i za sve blagdane Majke Božje“ održat će se u četvrtak\, 23. svibnja u 19.30 sati u Dvorani „Juran i Sofija“ sisačkog Velikog Kaptola. Knjigu će predstaviti mons. dr. sc. Juraj Batelja\, postulator i priređivač knjige te krašićki župnik Ivan Vučak.
URL:https://biskupija-sisak.hr/najava/predstavljanje-knjige-bl-alojzije-stepinac-marija-posrednica-milosti-propovijedi-o-majci-bozjoj/
LOCATION:Veliki Kaptol\, Trg bana Josipa Jelačića 9\, Sisak\, 44000\, Croatia (Local Name: Hrvatska)
END:VEVENT
BEGIN:VEVENT
DTSTART;TZID=Europe/Helsinki:20240520T183000
DTEND;TZID=Europe/Helsinki:20240520T200000
DTSTAMP:20260423T015250
CREATED:20240517T090721Z
LAST-MODIFIED:20240517T090721Z
UID:987510646-1716229800-1716235200@biskupija-sisak.hr
SUMMARY:Duhovno-molitveni susret Udruge „Betlehem“ Sisak
DESCRIPTION:Duhovno-molitveni susret u organizaciji Udruge „Betlehem“ Sisak održat će se u bazilici sv. Kvirina u Sisku u ponedjeljak 20. svibnja. Susret počinje misom u 19 sati koju će predslaviti fr. Ivan Dominik Iličić. Uslijedit će kateheza i euharistijsko klanjanje. Tema susreta je „Evo ti majke“ s nakanom za promicanje dostojanstva ljudskog života od začeća do prirodne smrti.
URL:https://biskupija-sisak.hr/najava/duhovno-molitveni-susret-udruge-betlehem-sisak/
LOCATION:Bazilika sv. Kvirina\, Sisak\, Lonjska ulica 26\, Sisak\, 44000\, Croatia (Local Name: Hrvatska)
END:VEVENT
BEGIN:VEVENT
DTSTART;TZID=Europe/Helsinki:20240519T100000
DTEND;TZID=Europe/Helsinki:20240519T100000
DTSTAMP:20260423T015250
CREATED:20240509T083346Z
LAST-MODIFIED:20240509T083346Z
UID:987510502-1716112800-1716112800@biskupija-sisak.hr
SUMMARY:Duhovi u Sisku
DESCRIPTION:Na svetkovinu Duhova\, u nedjelju 19. svibnja u 10 sati\, sisački biskup Vlado Košić predvodit će svečano misno slavlje u dvorištu katedralne župe Uzvišenja Svetoga Križa u Sisku i tom prigodom podijeliti sakrament potvrde kandidatima ove župe.
URL:https://biskupija-sisak.hr/najava/duhovi-u-sisku-2/
LOCATION:Katedrala\, Sisačka katedrala\, Sisak\, 44000\, Croatia (Local Name: Hrvatska)
END:VEVENT
BEGIN:VEVENT
DTSTART;TZID=Europe/Helsinki:20240518T190000
DTEND;TZID=Europe/Helsinki:20240519T090000
DTSTAMP:20260423T015250
CREATED:20240517T090513Z
LAST-MODIFIED:20240517T090550Z
UID:987510644-1716058800-1716109200@biskupija-sisak.hr
SUMMARY:Cjelonoćno bdjenje uoči Pedesetnice u bazilici sv. Kvirina
DESCRIPTION:Cjelonoćno bdjenje uoči Pedesetnice u bazilici sv. Kvirina u Sisku započinje u subotu 18. svibnja misom u 19 sati te se nastavlja do jutra sljedećeg dana do jutarnje mise u 9 sati. \n 
URL:https://biskupija-sisak.hr/najava/cjelonocno-bdjenje-uoci-pedesetnice-u-bazilici-sv-kvirina/
LOCATION:Bazilika sv. Kvirina\, Sisak\, Lonjska ulica 26\, Sisak\, 44000\, Croatia (Local Name: Hrvatska)
END:VEVENT
BEGIN:VEVENT
DTSTART;TZID=Europe/Helsinki:20240518T110000
DTEND;TZID=Europe/Helsinki:20240518T123000
DTSTAMP:20260423T015250
CREATED:20240509T082417Z
LAST-MODIFIED:20240509T082443Z
UID:987510494-1716030000-1716035400@biskupija-sisak.hr
SUMMARY:Proslava Duhova kod ruševine crkve sv. Duha na Hrastovičkoj gori
DESCRIPTION:Apostolski nuncij u Republici Hrvatskoj nadbiskup Giorgio Lingua predvodit će uoči svetkovine Duhova\, u subotu 18. svibnja u 11 sati\, misno slavlje na mjestu ruševina crkve Duha Svetog na Hrastovičkoj gori (župa Hrastovica). Pjevanje će animirati „Pučki pivači“ Katoličkoga bogoslovnog fakulteta Sveučilišta u Zagrebu. \n \n 
URL:https://biskupija-sisak.hr/najava/proslava-duhova-kod-rusevine-crkve-sv-duha-na-hrastovickoj-gori/
END:VEVENT
BEGIN:VEVENT
DTSTART;TZID=Europe/Helsinki:20240517T090000
DTEND;TZID=Europe/Helsinki:20240517T100000
DTSTAMP:20260423T015250
CREATED:20240514T085402Z
LAST-MODIFIED:20240514T085629Z
UID:987510565-1715936400-1715940000@biskupija-sisak.hr
SUMMARY:Blagoslov nove upravne zgrade Caritasa
DESCRIPTION:Blagoslov nove upravne zgrade Caritasa Sisačke biskupije održat će se u petak\, 17. svibnja u 9 sati na adresi Ulica Josipa Jurja Strossmayera 59 u Sisku. Prostore će blagosloviti sisački biskup Vlado Košić.
URL:https://biskupija-sisak.hr/najava/blagoslov-nove-upravne-zgrade-caritasa/
END:VEVENT
BEGIN:VEVENT
DTSTART;TZID=Europe/Helsinki:20240516T193000
DTEND;TZID=Europe/Helsinki:20240516T203000
DTSTAMP:20260423T015250
CREATED:20240509T083306Z
LAST-MODIFIED:20240510T093340Z
UID:987510501-1715887800-1715891400@biskupija-sisak.hr
SUMMARY:Dodjela nagrade i promocije knjige Branka Tompića "Peme jemput"
DESCRIPTION:Svečana dodjela nagrade “Korzo slova” Društva hrvatskih književnika za najbolju neobjavljenu knjigu Sisačko-moslavačke županije u 2023. godini Branku Tompiću i promocija njegove nagrađene zbirke pjesama “Peme jemput” održat će se u četvrtak 16. svibnja 2024. u Sisku s početkom u 19:30 sati u prostorijama Sisačke biskupije (Veliki Kaptol\, Trg bana Josipa Jelačića 9). \nProvedbu natječaja “Korzo slova” u 2023. godini i realizaciju nagrađene knjige podržala je i omogućila Sisačko-moslavačka županija. \nAutoru će biti uručeno priznanje i pripadajuća istoimena skulptura “Korzo slova”\, rad akademske kiparice Irene Škrinjar. \nKnjigu će predstaviti urednik Siniša Matasović\, predsjednik Ogranka DHK Sisačko-moslavačke županije\, članice Prosudbenog povjerenstva nagrade Željka Lovrenčić i Tihana Petrac Matijević te autor. \nSrdačno Vas očekujemo!
URL:https://biskupija-sisak.hr/najava/dodjela-nagrade-i-promocije-knjige-branka-tompica-peme-jemput/
LOCATION:Veliki Kaptol\, Trg bana Josipa Jelačića 9\, Sisak\, 44000\, Croatia (Local Name: Hrvatska)
END:VEVENT
BEGIN:VEVENT
DTSTART;TZID=Europe/Helsinki:20240516T180000
DTEND;TZID=Europe/Helsinki:20240516T190000
DTSTAMP:20260423T015250
CREATED:20240509T082823Z
LAST-MODIFIED:20240509T082823Z
UID:987510500-1715882400-1715886000@biskupija-sisak.hr
SUMMARY:Primanje među kandidate za sveti red bogoslova Frana Kovačevića
DESCRIPTION:Sisački biskup Vlado Košić predvodit će u četvrtak 16. svibnja u 18 sati\, svečano misno slavlje u crkvi sv. Ivana Nepomuka u Glini tijekom kojeg će među kandidate za sveti red đakonata i prezbiterata biti primljen bogoslov Fran Kovačević.
URL:https://biskupija-sisak.hr/najava/primanje-medu-kandidate-za-sveti-red-bogoslova-frana-kovacevica/
END:VEVENT
BEGIN:VEVENT
DTSTART;TZID=Europe/Helsinki:20240515T190000
DTEND;TZID=Europe/Helsinki:20240515T200000
DTSTAMP:20260423T015250
CREATED:20240509T082730Z
LAST-MODIFIED:20240509T082730Z
UID:987510499-1715799600-1715803200@biskupija-sisak.hr
SUMMARY:Obljetnica osnutka Komicija "Gospa Snježna"
DESCRIPTION:Komicij Marijine legije „Gospa Snježna“ iz Petrinje proslavit će sedmu obljetnicu osnutka\, u srijedu\, 15. svibnja. Tom prigodom svečano misno slavlje\, u bazilici sv. Kvirina u Sisku s počekom u 19 sati\, predvodit će sisački biskup Vlado Košić.
URL:https://biskupija-sisak.hr/najava/obljetnica-osnutka-komicija-gospa-snjezna/
LOCATION:Bazilika sv. Kvirina\, Sisak\, Lonjska ulica 26\, Sisak\, 44000\, Croatia (Local Name: Hrvatska)
END:VEVENT
BEGIN:VEVENT
DTSTART;TZID=Europe/Helsinki:20240513T193000
DTEND;TZID=Europe/Helsinki:20240513T210000
DTSTAMP:20260423T015250
CREATED:20240509T082629Z
LAST-MODIFIED:20240509T082648Z
UID:987510497-1715628600-1715634000@biskupija-sisak.hr
SUMMARY:Humanitarni koncert za Ivanovu kuću
DESCRIPTION:Povjerenstvo za promicanje glasa svetosti brata Ivana Bonifacija Pavletića\, Družbe sinova Bezgrješnog Začeća\, organizira 5. humanitarni koncert čiji je prihod namijenjen Zakladi „Ivanova kuća“. Ova zaklada djeluje na području grada Kutine i zauzima se za kvalitetniji život sugrađana pogođenih bolestima demencije\, posebice Alzheimerove bolesti. \nKoncert će se održati na spomendan Gospe Fatimske\, u ponedjeljak 13. svibnja u 19.30 sati u Pučkom otvorenom učilištu u Kutini. Nastupiti će brojni crkveni zborovi\, a bit će i moguće kupiti slike sa humanitarne likovne kolonije što je održana u Ivanovoj kući u Crkvenoj ulici u Kutini. \n  \n 
URL:https://biskupija-sisak.hr/najava/humanitarni-koncert-za-ivanovu-kucu/
END:VEVENT
BEGIN:VEVENT
DTSTART;TZID=Europe/Helsinki:20240513T180000
DTEND;TZID=Europe/Helsinki:20240513T190000
DTSTAMP:20260423T015250
CREATED:20240509T082522Z
LAST-MODIFIED:20240509T082522Z
UID:987510496-1715623200-1715626800@biskupija-sisak.hr
SUMMARY:Osma godišnjica otvaranja kauze za proglašenje blaženim i svetim brata Bonifacija Ivana Pavletića
DESCRIPTION:Osma godišnjica otvaranja kauze za proglašenje blaženim i svetim brata Bonifacija Ivana Pavletića bit će proslavljena u ponedjeljak\, 13. svibnja u Kutini. Svečano misno slavlje u župnoj crkvi BDM Snježne predvodit će sisački biskup Vlado Košić\, s početkom u 18 sati.
URL:https://biskupija-sisak.hr/najava/osma-godisnjica-otvaranja-kauze-za-proglasenje-blazenim-i-svetim-brata-bonifacija-ivana-pavletica/
LOCATION:Crkva Gospe Snježne\, Kutina\, Crkvena ulica 68\, Kutina\, 44320\, Croatia (Local Name: Hrvatska)
END:VEVENT
BEGIN:VEVENT
DTSTART;TZID=Europe/Helsinki:20240511T110000
DTEND;TZID=Europe/Helsinki:20240511T120000
DTSTAMP:20260423T015250
CREATED:20240509T082127Z
LAST-MODIFIED:20240509T082141Z
UID:987510492-1715425200-1715428800@biskupija-sisak.hr
SUMMARY:Vanjska proslava sv. Filipa i Jakova u Gvozdanskom
DESCRIPTION:Svečana vanjska proslava sv. Filipa i Jakova\, zaštitnika župe Gvozdansko\, održat će se u subotu 11. svibnja. Misno slavlje u župnoj crkvi\, s početkom u 11 sati\, predvodit će župnik iz Hrvatske Kostajnice fra Stjepan Jambrošić.
URL:https://biskupija-sisak.hr/najava/vanjska-proslava-sv-filipa-i-jakova-u-gvozdanskom/
END:VEVENT
BEGIN:VEVENT
DTSTART;TZID=Europe/Helsinki:20240505T193000
DTEND;TZID=Europe/Helsinki:20240512T200000
DTSTAMP:20260423T015250
CREATED:20240425T075031Z
LAST-MODIFIED:20240425T075118Z
UID:987510405-1714937400-1715544000@biskupija-sisak.hr
SUMMARY:18. međunarodni orguljaški festival Ars Organi Sisciae
DESCRIPTION:Srdačno vas pozivamo u nedjelju 5. svibnja na otvorenje\, kao i na ostale koncertne programe 18. Međunarodnog festivala Ars Organi Sisciae koji svake godine predstavlja sjajne glazbenike\, umjetnike orgulja i mlade skladatelje\, održava se na novim festivalskim lokacijama\, donosi puno dobre glazbe i odličnih izvedbi\, a sve sa ciljem osvještavanja o potrebi očuvanja\, obnove i zaštite orguljaške i orguljske baštine\, osobito na području Sisačke biskupije gdje tradiciju orguljanja pratimo već gotovo 300 godina tijekom kojih smo mnogo povijesnih instrumenata nepovratno izgubili – najviše u Domovinskom ratu\, ali i oštrim zubom vremena… Nakon razornog potresa mnoge crkve su danas u obnovi pa nemamo pristup orguljama ili orgulje još nisu spremne za koncertiranje\, poput petrinjskih na kojima smo se nadali ove godine otvoriti festival.18. međunarodni orguljaški festival Ars Organi Sisciae će se od 5. – 12. svibnja održati u Zagrebu\, Martinskoj Vesi\, Voloderu\, Hrvatskoj Kostajnici i u Sisku. Festival se održava pod pokroviteljstvom Ministarstva kulture i medija RH te uz pomoć Sisačke biskupije\, Zagrebačke i Sisačko-moslavačke županije i Grada Hrvatska Kostajnica\, kao i HDS-ZAMP-a\, mnogobrojnih medijskih pokrovitelja (Japan Croatia Society\, Laudato.tv\, HKM\, Radio Marija\, RSK\, RSM\, NST). Vinarija Marinčić dugogodišnji je festivalski vinar koji dariva izvođače festivala. \nNakon razornog potresa mnoge crkve su danas u obnovi pa nemamo pristup orguljama ili orgulje još nisu spremne za koncertiranje\, poput petrinjskih na kojima smo se nadali ove godine otvoriti festival. Ipak\, veza Ars Organi Sisciae i crkve sv. Marka su upravo orgulje! Nekadašnje pneumatske orgulje crkve sv. Marka\, koje je upravo na temelju dispozicije Franje Dugana st. 1936. sagradio August Faulend Heferer\, obnovio je i u petrinjskoj u župnoj crkvi sv. Lovre 2015. godine postavio predstavnik pete generacije obitelji graditelja orgulja – Tomica Heferer. \nOtvorenje festivala u nedjelju 5. svibnja u 19.30 sati u Župnoj crkvi sv. Marka Evanđelista u Zagrebu uz sjajni Oratorijski zbor Crkve sv. Marka – Cantores sancti Marci pod ravnanjem Jurice Petra Petrača i uz našeg dragog festivalskog gosta\, orguljaša Pavla Mašića na koncertu kojom ćemo obilježiti 150. obljetnicu rođenja akademika  Franje Dugana starijeg\, skladatelja i orguljaša. Na programu ćemo uz Duganove skladbe\, slušati i djela J. S. Bacha i H. Howellsa. Puno je lijepih poveznica vezanih za ovaj koncert. Franjo Dugan st. je 20tih godina prošlog stoljeća ravnao slavnim Oratorijskim zborom Crkve sv. Marka (1920-46.)\, a čiju su tradiciju nastavili Cantoresi od 1988. godine. \nU nedavno obnovljenoj Župnoj crkvi sv. Martina Biskupa u Martinskoj Vesi nakon potresa su uređene i orgulje Mije Heferera iz 1881. godine\, ujedno najstarije orgulje koje su u kontinuiranoj upotrebi u Sisačkoj biskupiji. Tamo će u ponedjeljak 6. svibnja nastupiti austrijski orguljaš i improvizator Ulrich Walter\, našoj publici poznat s koncerta u Žažini\, na nekadašnjim orguljama u potresu stradale Župne crkve Svetog Nikole i Svetog Vida\, gdje je nastupio 2012. godine na 6. festivalskom izdanju. \nNova festivalska orguljaška imena su Dubravko Ćepulić Polgar i Ursa Ljuban. Nagrađivani mladi orguljaš Dubravko Ćepulić Polgar\, glavni orguljaš crkve Bezgrješnog Srca Marijina u Zagrebu i naslovni orguljaš Klape sv. Juraj Hrvatske ratne mornarice i Vojnog ordinarijata Republike Hrvatske\, nastupit će uz nagrađivanog glazbenika i prof. tamburice Franju Pećarića na bisernici u utorak 7. 5. u župnoj crkvi sv. Antuna Padovanskog u Voloderu. Svirat će na povijesnim orguljama Antuna Šimenca iz 1863. godine.. Na programu ovog koncerta su djela Beethovena Bacha\, Matza\, Mozarta\, Handela\, Frescobaldia i dr. \nIz Trogira nam dolazi orguljašica Ursa Ljuban\, također ovjenčana mnogobrojnim nagradama i umjetnička ravnateljica novog festivala „Festival orgulja Trogir“ koji će ove godine tek pokrenuti. Ursa će uz trubača Ivana Đuzela\, koji potječe iz poznate klase prof. Ivana Glibote iz Imotskog\, nastupiti u župnoj crkvi sv. Antuna Padovanskog u Hrvatskoj Kostajnici. Program: Caccini\, Stradella\, Handel\, Martini\, Saint-Saëns i dr. \nU nastavku festivalskog programa vraćamo se u Zagreb\, u Baziliku sv. Antuna Padovanskog na sv. Duhu gdje će u subotu 11. svibnja koncert održati fantastičan trio: sjajna mlada sopranistica Marija Ticl iz Požege\, saksofonistički pedagog\, komorni i orkestralni glazbenik i solist Tomislav Žužak iz Zagreba i našoj publici već poznat jedan od naših ponajboljih majstora orgulja Alen Kopunović Legetin koji uvijek iznenađuje promišljenim programima u okviru kojih imamo priliku čuti hrvatska skladateljska imena\, a često i praizvedbe naših mladih skladatelja. Tako će i ove godine na programu uz djela starih majstora biti i djela hrvatskih skladatelja oca Kamila Kolba\, Dalibora Bukvića\, Josipa Prajza\, praizvedba skladbe Alana Kljaića i dr. \nFestival ćemo zaključiti u nedjelju 12. svibnja u bazilici sv. Kvirina u Sisku gdje će povodom 110. obljetnice rođenja i 60. obljetnice smrti hrvatskog svećenika\, velikog skladatelja i muzikologa\, dirigenta i pedagoga\, Albe Vidakovića održati profesori i studenti Instituta za crkvenu glazbu Katoličkog bogoslovnog fakulteta Sveučilišta u Zagrebu uz orguljaša Milana Hibšera\, također profesora na institutu. Slušat ćemo studente iz klase Milana Hibšera\, Mirte Kudrne i Elizabete Zalović. \nHrvatska udruga Ars Organi Sisciae ovim festivalom započinje 18. festivalsku sezonu iz koje još izdvajamo polukoncetnu izvedbu opere Nikola Šubić Zrinski koju će na samom Zrinu izvesti HVA Sv. Blaž u nedjelju 2. lipnja u 17 sati povodom otvorenja 10. Zrin festivala. Također\, u Turopolju i okolici organiziramo 6. Festival drvenih kapela Sancta Barbara (30. 6. – 7.7.)\,  a zatim i Like Lika Festival (7. – 29. 9.) koji ćemo zaključiti u Svetištu Majke Božje od Krasna na Sjevernom Velebitu gdje će francusko-hrvatski ansambl Dialogos izvesti Juditu Marka Marulića. \nUlaz na sva događanja je slobodan.
URL:https://biskupija-sisak.hr/najava/987510405/
END:VEVENT
BEGIN:VEVENT
DTSTART;TZID=Europe/Helsinki:20240503T160000
DTEND;TZID=Europe/Helsinki:20240503T170000
DTSTAMP:20260423T015250
CREATED:20240425T080542Z
LAST-MODIFIED:20240425T080542Z
UID:987510411-1714752000-1714755600@biskupija-sisak.hr
SUMMARY:Blagdan Našašća Svetog Križa u Zrinu
DESCRIPTION:Blagdan Našašća Svetog Križa bit će proslavljen u petak\, 3. svibnja u 16 sati u istoimenoj spomen crkvi u Zrinu. Svečano misno slavlje predvodit će sisački biskup Vlado Košić. \n  \n \n 
URL:https://biskupija-sisak.hr/najava/blagdan-nasasca-svetog-kriza-u-zrinu-2/
END:VEVENT
BEGIN:VEVENT
DTSTART;TZID=Europe/Helsinki:20240502T100000
DTEND;TZID=Europe/Helsinki:20240502T140000
DTSTAMP:20260423T015250
CREATED:20240425T080311Z
LAST-MODIFIED:20240425T080356Z
UID:987510410-1714644000-1714658400@biskupija-sisak.hr
SUMMARY:Svećenički dan
DESCRIPTION:Svećenički dan Sisačke biskupije održat će se u četvrtak\, 2. svibnja u 10 sati u Dvorani sv. Ivana Pavla II. u sisačkom Velikom Kaptolu. Predavanje na temu „Sinoda Sisačke biskupije“ održat će tajnik Sinode i župnik u Popovači dr. sc. Ivan Petrović.
URL:https://biskupija-sisak.hr/najava/svecenicki-dan-13/
LOCATION:Veliki Kaptol\, Trg bana Josipa Jelačića 9\, Sisak\, 44000\, Croatia (Local Name: Hrvatska)
END:VEVENT
BEGIN:VEVENT
DTSTART;TZID=Europe/Helsinki:20240425T193000
DTEND;TZID=Europe/Helsinki:20240425T203000
DTSTAMP:20260423T015250
CREATED:20240416T074034Z
LAST-MODIFIED:20240419T105525Z
UID:987510376-1714073400-1714077000@biskupija-sisak.hr
SUMMARY:Predstavljanje knjige Valentina Ćorića „In vino libertas"
DESCRIPTION:Predstavljanje knjige Valentina Ćorića „In vino libertas – Autobiografski zapisi iz Haaga“\, održat će u četvrtak\, 25. travnja u  19.30 sati u Dvorani Juran i Sofija u sisačkom Velikom Kaptolu.
URL:https://biskupija-sisak.hr/najava/predstavljanje-knjige-valentina-corica-in-vino-libertas/
END:VEVENT
BEGIN:VEVENT
DTSTART;TZID=Europe/Helsinki:20240421T120000
DTEND;TZID=Europe/Helsinki:20240421T130000
DTSTAMP:20260423T015250
CREATED:20240416T073732Z
LAST-MODIFIED:20240416T073732Z
UID:987510375-1713700800-1713704400@biskupija-sisak.hr
SUMMARY:Krštenje petog djeteta obitelji Lukšić
DESCRIPTION:Sisački biskup Vlado Košić krstit će u nedjelju\, 21. travnja u 12 sati u župnoj crkvi sv. Alojzija Gonzage u Popovači\, peto dijete obitelji Lukšić.
URL:https://biskupija-sisak.hr/najava/krstenje-petog-djeteta-obitelji-luksic/
END:VEVENT
BEGIN:VEVENT
DTSTART;TZID=Europe/Helsinki:20240407T110000
DTEND;TZID=Europe/Helsinki:20240407T120000
DTSTAMP:20260423T015250
CREATED:20240322T121823Z
LAST-MODIFIED:20240322T121941Z
UID:987509885-1712487600-1712491200@biskupija-sisak.hr
SUMMARY:Bijela nedjelja u Kravarskom
DESCRIPTION:Sisački biskup Vlado Košić predvodit će\, na Bijelu nedjelju\, 7. travnja u 11 sati\, svečano misno slavlje u crkvi Uzvišenja sv. Križa u Kravarskom.
URL:https://biskupija-sisak.hr/najava/bijela-nedjelja-u-kravarskom/
LOCATION:Kravarsko\, Trg Stjepana Radića\, Kravarsko\, Croatia (Local Name: Hrvatska)
END:VEVENT
BEGIN:VEVENT
DTSTART;TZID=Europe/Helsinki:20240406T110000
DTEND;TZID=Europe/Helsinki:20240406T120000
DTSTAMP:20260423T015250
CREATED:20240322T121634Z
LAST-MODIFIED:20240328T083614Z
UID:987509884-1712401200-1712404800@biskupija-sisak.hr
SUMMARY:Hodočašće Majci Milosrđa
DESCRIPTION:Zavjetno hodočašće vjernika Sisačke biskupije u svetište Majke Milosrđa u Kloštar Ivaniću održat će se u subotu 6. travnja. Hodočašće i svečano misno slavlje s početkom u 11 sati predvodit će sisački biskup Vlado Košić.
URL:https://biskupija-sisak.hr/najava/hodocasce-majci-milosrda/
LOCATION:Crkva Uznesenja BDM\, Kloštar Ivanić\, Ul. Sv. Marije 4\, Kloštar Ivanić\, 10312\, Croatia (Local Name: Hrvatska)
END:VEVENT
BEGIN:VEVENT
DTSTART;TZID=Europe/Helsinki:20240404T100000
DTEND;TZID=Europe/Helsinki:20240404T130000
DTSTAMP:20260423T015250
CREATED:20240322T121546Z
LAST-MODIFIED:20240322T121601Z
UID:987509883-1712224800-1712235600@biskupija-sisak.hr
SUMMARY:Svećenički dan
DESCRIPTION:Svećenički dan Sisačke biskupije održat će se u četvrtak\, 4. travnja u 10 sati u Dvorani „Juran i Sofija“. u sisačkom Velikom Kaptolu. Gost predavač bit će kancelar Varaždinske biskupije mr. Ivan Rak\, a govorit će o upravljanju župnim dobrima.
URL:https://biskupija-sisak.hr/najava/svecenicki-dan-12/
LOCATION:Veliki Kaptol\, Trg bana Josipa Jelačića 9\, Sisak\, 44000\, Croatia (Local Name: Hrvatska)
END:VEVENT
BEGIN:VEVENT
DTSTART;TZID=Europe/Helsinki:20240403T150000
DTEND;TZID=Europe/Helsinki:20240403T160000
DTSTAMP:20260423T015250
CREATED:20240322T121506Z
LAST-MODIFIED:20240322T121506Z
UID:987509882-1712156400-1712160000@biskupija-sisak.hr
SUMMARY:Misa za službenike i zatvorenike Kaznionice u Glini
DESCRIPTION:Sisački biskup Vlado Košić predvodit će u srijedu 3. travnja u 15 sati u Kaznionici u Glini misno slavlje za službenike i zatvorenike.
URL:https://biskupija-sisak.hr/najava/misa-za-sluzbenike-i-zatvorenike-kaznionice-u-glini/
END:VEVENT
BEGIN:VEVENT
DTSTART;TZID=Europe/Helsinki:20240327T170000
DTEND;TZID=Europe/Helsinki:20240331T170000
DTSTAMP:20260423T015250
CREATED:20240322T121337Z
LAST-MODIFIED:20240322T122620Z
UID:987509881-1711558800-1711904400@biskupija-sisak.hr
SUMMARY:Veliki tjedan u Sisku
DESCRIPTION:Sisački biskup Vlado Košić predvodit će misna slavlja i obrede Velikog tjedna prema sljedećem rasporedu: \nna Veliku srijedu\, 27. ožujka u 17 sati pjevanu Večernju\, Službu čitanja i Lamentacije u bazilici sv. Kvirina; \nna Veliki četvrtak\, 28. ožujka u 10 sati pokorničko bogoslužje te zatim u 11 sati misu posveta ulja u bazilici sv. Kvirina\, a u 19 sati misu Večere Gospodnje u Pastoralnom centru katedralne župe; \nna Veliki petak\, 29. ožujka u 18 sati\, obrede Muke Gospodnje u bazilici sv. Kvirina; \nna Veliku subotu\, 30. ožujka u 20 sati\, vazmeno bdjenje u bazilici sv. Kvirina za vrijeme kojega će biskup podijeliti sakramente kršćanske inicijacije odraslim osobama; \nna Uskrs\, nedjelju uskrsnuća Gospodinova\,  31. ožujka u 11 sati\, svečano misno slavlje u bazilici sv. Kvirina.
URL:https://biskupija-sisak.hr/najava/veliki-tjedan-u-sisku-2/
END:VEVENT
BEGIN:VEVENT
DTSTART;TZID=Europe/Helsinki:20240325T100000
DTEND;TZID=Europe/Helsinki:20240325T103000
DTSTAMP:20260423T015250
CREATED:20240322T121252Z
LAST-MODIFIED:20240322T121252Z
UID:987509880-1711360800-1711362600@biskupija-sisak.hr
SUMMARY:Snimanje uskrsne čestitke za medije
DESCRIPTION:Snimanje uskrsne čestitke sisačkog biskupa Vlade Košića za medije održat će se u ponedjeljak\, 25. ožujka u 10 sati u Dvorani sv. Ivana Pavla II. u sisačkom Velikom Kaptolu.
URL:https://biskupija-sisak.hr/najava/snimanje-uskrsne-cestitke-za-medije/
LOCATION:Veliki Kaptol\, Trg bana Josipa Jelačića 9\, Sisak\, 44000\, Croatia (Local Name: Hrvatska)
END:VEVENT
BEGIN:VEVENT
DTSTART;TZID=Europe/Helsinki:20240324T190000
DTEND;TZID=Europe/Helsinki:20240324T200000
DTSTAMP:20260423T015250
CREATED:20240315T091009Z
LAST-MODIFIED:20240315T091009Z
UID:987509694-1711306800-1711310400@biskupija-sisak.hr
SUMMARY:Pasija u Petrinji
DESCRIPTION:Glazbeno-scenski prikaz Kristove muke pod nazivom „Pasija – Mislio si na mene u svojoj agoniji“ tradicionalno će i ove godine\, u nedjelju\, 24. ožujka u 19 sati u Gradskom parku ispred crkve sv. Lovre u Petrinji izvesti članovi Molitvene zajednice Marijina legija.
URL:https://biskupija-sisak.hr/najava/pasija-u-petrinji/
LOCATION:Crkva sv. Lovre\, Petrinja\, Strossmayerovo šetalište 3\, Petrinja\, 44250\, Croatia (Local Name: Hrvatska)
END:VEVENT
BEGIN:VEVENT
DTSTART;TZID=Europe/Helsinki:20240324T100000
DTEND;TZID=Europe/Helsinki:20240324T110000
DTSTAMP:20260423T015250
CREATED:20240315T092436Z
LAST-MODIFIED:20240315T092436Z
UID:987509699-1711274400-1711278000@biskupija-sisak.hr
SUMMARY:Cvjetnica u Sisku
DESCRIPTION:Sisački biskup Vlado Košić predvodit će misno slavlje\, na Cvjetnicu 24. ožujka u 10 sati u Pastoralnom centru „Petar Žagmeštar“ katedralne župe u Sisku. Misi prethodi blagoslov grančica pred katedralom te procesija.
URL:https://biskupija-sisak.hr/najava/cvjetnica-u-sisku-2/
LOCATION:Katedrala\, Sisačka katedrala\, Sisak\, 44000\, Croatia (Local Name: Hrvatska)
END:VEVENT
BEGIN:VEVENT
DTSTART;TZID=Europe/Helsinki:20240320T173000
DTEND;TZID=Europe/Helsinki:20240320T200000
DTSTAMP:20260423T015250
CREATED:20240315T090023Z
LAST-MODIFIED:20240315T090023Z
UID:987509692-1710955800-1710964800@biskupija-sisak.hr
SUMMARY:Korizmena duhovna obnova u Posavskim Bregima
DESCRIPTION:Korizmena duhovna obnova u Posavskim Bregima održat će se u srijedu\, 20. ožujka u privremenom bogoslužnom prostoru župe s početkom u 17.30 sati. Tema duhovne obnove bit će „Vjera i duševno zdravlje“\, a predvodit će je p. Mijo Nikić.
URL:https://biskupija-sisak.hr/najava/korizmena-duhovna-obnova-u-posavskim-bregima/
END:VEVENT
BEGIN:VEVENT
DTSTART;TZID=Europe/Helsinki:20240320T170000
DTEND;TZID=Europe/Helsinki:20240320T190000
DTSTAMP:20260423T015250
CREATED:20240315T085739Z
LAST-MODIFIED:20240315T085919Z
UID:987509691-1710954000-1710961200@biskupija-sisak.hr
SUMMARY:Peto zasjedanje Sinode
DESCRIPTION:Peto zasjedanje Sinode Sisačke biskupije održat će se u srijedu 20. ožujka u 17 sati u Dvorani „Juran i Sofija“ u Velikom Kaptolu u Sisku pod predsjedanjem biskupa Vlade Košića.
URL:https://biskupija-sisak.hr/najava/peto-zasjedanje-sinode/
LOCATION:Veliki Kaptol\, Trg bana Josipa Jelačića 9\, Sisak\, 44000\, Croatia (Local Name: Hrvatska)
END:VEVENT
BEGIN:VEVENT
DTSTART;TZID=Europe/Helsinki:20240319T190000
DTEND;TZID=Europe/Helsinki:20240319T200000
DTSTAMP:20260423T015250
CREATED:20240315T122000Z
LAST-MODIFIED:20240315T122206Z
UID:987509701-1710874800-1710878400@biskupija-sisak.hr
SUMMARY:Dvanaesta obljetnica uspostave Stolnog kaptola svetog Križa
DESCRIPTION:Dvanaesta obljetnica uspostave Stolnog kaptola svetog Križa u Sisku\, svečano će biti proslavljena u utorak\, 19. ožujka na blagdan sv. Josipa. Svečano misno slavlje u Pastoralnom centru „Petar Žagmeštar“ katedralne župe u Sisku s početkom u 19 sati predvodit će mons. Ivica Mađer u zajedništvu ostalim kanonicima Stolnog Kaptola.
URL:https://biskupija-sisak.hr/najava/dvanaesta-obljetnica-uspostave-stolnog-kaptola-svetog-kriza/
END:VEVENT
BEGIN:VEVENT
DTSTART;TZID=Europe/Helsinki:20240319T170000
DTEND;TZID=Europe/Helsinki:20240319T193000
DTSTAMP:20260423T015250
CREATED:20240315T092357Z
LAST-MODIFIED:20240315T092357Z
UID:987509697-1710867600-1710876600@biskupija-sisak.hr
SUMMARY:Korizmena duhovna obnova u Dvoru
DESCRIPTION:Korizmena duhovna obnova župe sv. Katarine u Divuši održat će se u utorak\, 19. ožujka u filijalnoj kapeli sv. Petra i Pavla u Dvoru. Duhovnu obnovu predvodi župnik župe Presvetog Trojstva iz Karlovca fra Leopold Palić\, a započinje u 17 sati.
URL:https://biskupija-sisak.hr/najava/korizmena-duhovna-obnova-u-dvoru/
END:VEVENT
BEGIN:VEVENT
DTSTART;TZID=Europe/Helsinki:20240317T113000
DTEND;TZID=Europe/Helsinki:20240317T130000
DTSTAMP:20260423T015250
CREATED:20240308T133944Z
LAST-MODIFIED:20240308T134126Z
UID:987509631-1710675000-1710680400@biskupija-sisak.hr
SUMMARY:Blagoslov crkve u Martinskoj Vesi
DESCRIPTION:Sisački biskup Vlado Košić predvodit će\, u nedjelju\, 17. ožujka u 11.30 sati misno slavlje u crkvi sv. Martina biskupa u Martinskoj Vesi i tom prigodom blagoslovit će tu obnovljenu\, u potresu oštećenu crkvu.
URL:https://biskupija-sisak.hr/najava/blagoslov-crkve-u-martinskoj-vesi/
LOCATION:Crkva sv. Martina\, Martinska Ves\, Desna MartinskaVes 64\, Martinska Ves\, 44201\, Croatia (Local Name: Hrvatska)
END:VEVENT
END:VCALENDAR