BEGIN:VCALENDAR
VERSION:2.0
PRODID:-//Sisačka biskupija - ECPv6.15.20//NONSGML v1.0//EN
CALSCALE:GREGORIAN
METHOD:PUBLISH
X-WR-CALNAME:Sisačka biskupija
X-ORIGINAL-URL:https://biskupija-sisak.hr
X-WR-CALDESC:Događaji za Sisačka biskupija
REFRESH-INTERVAL;VALUE=DURATION:PT1H
X-Robots-Tag:noindex
X-PUBLISHED-TTL:PT1H
BEGIN:VTIMEZONE
TZID:Europe/Helsinki
BEGIN:DAYLIGHT
TZOFFSETFROM:+0200
TZOFFSETTO:+0300
TZNAME:EEST
DTSTART:20230326T010000
END:DAYLIGHT
BEGIN:STANDARD
TZOFFSETFROM:+0300
TZOFFSETTO:+0200
TZNAME:EET
DTSTART:20231029T010000
END:STANDARD
BEGIN:DAYLIGHT
TZOFFSETFROM:+0200
TZOFFSETTO:+0300
TZNAME:EEST
DTSTART:20240331T010000
END:DAYLIGHT
BEGIN:STANDARD
TZOFFSETFROM:+0300
TZOFFSETTO:+0200
TZNAME:EET
DTSTART:20241027T010000
END:STANDARD
BEGIN:DAYLIGHT
TZOFFSETFROM:+0200
TZOFFSETTO:+0300
TZNAME:EEST
DTSTART:20250330T010000
END:DAYLIGHT
BEGIN:STANDARD
TZOFFSETFROM:+0300
TZOFFSETTO:+0200
TZNAME:EET
DTSTART:20251026T010000
END:STANDARD
BEGIN:DAYLIGHT
TZOFFSETFROM:+0200
TZOFFSETTO:+0300
TZNAME:EEST
DTSTART:20260329T010000
END:DAYLIGHT
BEGIN:STANDARD
TZOFFSETFROM:+0300
TZOFFSETTO:+0200
TZNAME:EET
DTSTART:20261025T010000
END:STANDARD
END:VTIMEZONE
BEGIN:VEVENT
DTSTART;TZID=Europe/Helsinki:20250306T100000
DTEND;TZID=Europe/Helsinki:20250306T140000
DTSTAMP:20260422T030511
CREATED:20250228T084900Z
LAST-MODIFIED:20250228T084900Z
UID:987515069-1741255200-1741269600@biskupija-sisak.hr
SUMMARY:Svećenički dan
DESCRIPTION:Svećenički dan Sisačke biskupije održat će se u četvrtak\, 6. ožujka\, u 10 sati u Dvorani “Juran i Sofija” u sisačkom Velikom Kaptolu. Predavanje na temu „Samoća i identitet svećenika“ održat će Đuliano Trdić.
URL:https://biskupija-sisak.hr/najava/svecenicki-dan-17/
LOCATION:Veliki Kaptol\, Trg bana Josipa Jelačića 9\, Sisak\, 44000\, Croatia (Local Name: Hrvatska)
END:VEVENT
BEGIN:VEVENT
DTSTART;TZID=Europe/Helsinki:20250305T190000
DTEND;TZID=Europe/Helsinki:20250305T200000
DTSTAMP:20260422T030511
CREATED:20250228T085101Z
LAST-MODIFIED:20250228T085126Z
UID:987515070-1741201200-1741204800@biskupija-sisak.hr
SUMMARY:Pepelnica u Sisku
DESCRIPTION:Na Čistu srijedu – Pepelnicu 5. ožujka misno slavlje s obredom pepeljenja\, u Pastoralnom centru Katedralne župe u Sisku u 19 sati\, predvodit će sisački biskup Vlado Košić.
URL:https://biskupija-sisak.hr/najava/pepelnica/
LOCATION:Katedrala\, Sisačka katedrala\, Sisak\, 44000\, Croatia (Local Name: Hrvatska)
END:VEVENT
BEGIN:VEVENT
DTSTART;TZID=Europe/Helsinki:20250304T190000
DTEND;TZID=Europe/Helsinki:20250304T210000
DTSTAMP:20260422T030511
CREATED:20250218T102619Z
LAST-MODIFIED:20250218T113019Z
UID:987514956-1741114800-1741122000@biskupija-sisak.hr
SUMMARY:Kateheza don Damir Stojića "Izgraditi Crkvu karizmama"
DESCRIPTION:
URL:https://biskupija-sisak.hr/najava/kateheta-don-damir-stojica-izgraditi-crkvu-karizmama/
LOCATION:Katedrala\, Sisačka katedrala\, Sisak\, 44000\, Croatia (Local Name: Hrvatska)
END:VEVENT
BEGIN:VEVENT
DTSTART;TZID=Europe/Helsinki:20250227T180000
DTEND;TZID=Europe/Helsinki:20250227T190000
DTSTAMP:20260422T030511
CREATED:20250214T084711Z
LAST-MODIFIED:20250214T090303Z
UID:987514945-1740679200-1740682800@biskupija-sisak.hr
SUMMARY:Blagdan blažene Marije od Isusa Deluil – Martiny u Lasinji
DESCRIPTION:Blagdan blažene Marije od Isusa Deluil – Martiny\, svoje utemeljiteljice\, proslavit će se u četvrtak\, 27. veljače\, Družba Kćeri Srca u Lasinji. Svečano misno slavlje\, s početkom u 18 sati\, predvodit će apostolski nuncij u RH\, nadbiskup Giorgio Lingua.
URL:https://biskupija-sisak.hr/najava/blagdan-blazene-marije-od-isusa-deluil-martiny-u-lasinji/
END:VEVENT
BEGIN:VEVENT
DTSTART;TZID=Europe/Helsinki:20250225T193000
DTEND;TZID=Europe/Helsinki:20250225T193000
DTSTAMP:20260422T030511
CREATED:20250218T113235Z
LAST-MODIFIED:20250218T131330Z
UID:987514959-1740511800-1740511800@biskupija-sisak.hr
SUMMARY:Svjedočanstvo bračnog para Žilavi
DESCRIPTION:
URL:https://biskupija-sisak.hr/najava/svjedocanstvo-bracnog-para-zilavi/
LOCATION:Katedrala\, Sisačka katedrala\, Sisak\, 44000\, Croatia (Local Name: Hrvatska)
END:VEVENT
BEGIN:VEVENT
DTSTART;TZID=Europe/Helsinki:20250224T090000
DTEND;TZID=Europe/Helsinki:20250225T170000
DTSTAMP:20260422T030511
CREATED:20250214T084622Z
LAST-MODIFIED:20250214T084622Z
UID:987514944-1740387600-1740502800@biskupija-sisak.hr
SUMMARY:Turnir krizmanika u malom nogometu
DESCRIPTION:Pastoral mladih Sisačke biskupije i vodstvo Katoličke malonogometne lige „Brat Ivan Bonifacije Pavletić“ ove godine organiziraju Turnir krizmanika u malom nogometu. Natjecanje će se održati u drugom dijelu zimskih praznika. U ponedjeljak\, 24. veljače\, u dvorani OŠ “Zorka Sever” u Popovači\, za župe Kutinskog\, Ivanićgradskog\, Sisačko-pešćeničkog i Sisačko-katedralnog dekanata\, a u utorak\, 25. veljače\, u Školskoj sportskoj dvorani u Glini\, za župe Glinskog\, Petrinjskog\, Dubičko-kostajničkog i Pokupsko-vukomeričkog dekanata. \nSusreti započinju zajedničkom svetom Misom u 9 sati u župnim crkvama u Glini i Popovači\, a potom se nastavljaju sportska natjecanja u dvoranama. \n 
URL:https://biskupija-sisak.hr/najava/turnir-krizmanika-u-malom-nogometu/
END:VEVENT
BEGIN:VEVENT
DTSTART;TZID=Europe/Helsinki:20250222T090000
DTEND;TZID=Europe/Helsinki:20250222T190000
DTSTAMP:20260422T030511
CREATED:20250130T095035Z
LAST-MODIFIED:20250130T095035Z
UID:987514729-1740214800-1740250800@biskupija-sisak.hr
SUMMARY:Prilika za susret - osoba otvorenih za katolički brak
DESCRIPTION:Katolička udruga „Prilika za Susret“ iz Osijeka uz podršku Povjerenstva za pastoral braka i obitelji Sisačke biskupije\, organizira PRVI REGIONALNI SUSRET u Sisku i 9.  regionalni susret u organizaciji Udruge pod geslom „Bog spaja nespojivo“ u subotu 22. veljače 2025. g. u prostorijama Pastoralnog centra Župe sv. Kvirina u Sisku. Na susret su pozvani svi slobodni muškarci i žene u dobi od 27 do 50 godina koji se žele pripremati za vezu i sakrament ženidbe. \nSusret započinje u 09\,15 sati uz prijave na susret i upoznavanje sudionika. Svetu misu i klanjanje Presvetom Oltarskom Sakramentu predvoditi će župnik župe sv. Petra apostola u Ivanić-Gradu i Povjerenik za pastoral braka i obitelji Sisačke biskupije\, vlč. Branko Koretić. Program započinje s klanjanjem Presvetom Oltarskom Sakramentu nakon kojega slijedi predavanje Maje Jakšić – teologinje\, psihoterapeutkinje\, voditeljice Centra za edukaciju i savjetovanje Hippocampus\, autorice niza stručnih  članaka i knjiga\, supruge i majke četvero djece. Program obuhvaća interaktivne radionice i svjedočanstva bračnih parova Udruge uz mogućnost upoznavanja sudionika koji dolaze iz cijele Republike Hrvatske i dijaspore. Susret završava sa svečanom svetom misu u 18\,00 sati u bazilici sv. Kvirina u Sisku. \nRegionalni susret je mjesto gdje možete doći slobodno bez opterećenja\, bez očekivanja i obveza.  Prijašnji susreti nam govore kako su sudionici otišli zadovoljniji za jedno lijepo i ugodno iskustvo više\, a neki su i upoznali svoje sadašnje supružnike upravo na našim susretima i platformi. Ukoliko želite čuti kvalitetna predavanja\, odlične radionice i svjedočenja bračnih parova dobro ste došli. Ukoliko želite upoznati nekoga biti ćete u okruženju osoba koje vas razumiju i prolaze slične životne situacije kao i vi te možete s njima razmijeniti iskustva. Susret je ispunjen pozitivnim i ohrabrujućim ozračjem uz svetu misu\, klanjanje\, predavanja\, interaktivne radionice\, slavljenje i molitvu. \nPrijave za susret uz sve dodatne informacije mogu se dobiti putem poveznice: \nhttp://subscribepage.io/Sisak \nKako je bilo na 8. regionalnom susretu u Sinju možete pogledati putem poveznice: \nhttps://www.gospa-sinjska.hr/wp/novosti/odrzan-prvi-susret-u-dalmaciji-za-slobodne-muskarce-i-zene/ \nKako je bilo na 7. regionalnom susretu u Osijeku možete pogledati putem poveznice: \nhttps://youtu.be/-QbYk5T2-0A
URL:https://biskupija-sisak.hr/najava/prilika-za-susret-osoba-otvorenih-za-katolicki-brak/
LOCATION:Bazilika sv. Kvirina\, Sisak\, Lonjska ulica 26\, Sisak\, 44000\, Croatia (Local Name: Hrvatska)
END:VEVENT
BEGIN:VEVENT
DTSTART;TZID=Europe/Helsinki:20250215T173000
DTEND;TZID=Europe/Helsinki:20250215T193000
DTSTAMP:20260422T030511
CREATED:20250214T085322Z
LAST-MODIFIED:20250214T085342Z
UID:987514946-1739640600-1739647800@biskupija-sisak.hr
SUMMARY:Proslava 50. godišnjice rođenja za nebo bl. Mihaela Sopoćka
DESCRIPTION:Proslava 50. godišnjice rođenja za nebo bl. Mihaela Sopoćka\, utemeljitelja Družbe sestara Milosrdnog Isusa\, održat će se u subotu\, 15. veljače\, u bazilici sv. Kvirina u Sisku. Svečano misno slavlja s početkom u 18 sati predvodit će župnik Josip Bulat iz Velike Ludine. Nakon mise slijedi štovanje relikvija bl. Mihaela Sopoćka.
URL:https://biskupija-sisak.hr/najava/987514946/
END:VEVENT
BEGIN:VEVENT
DTSTART;TZID=Europe/Helsinki:20250213T100000
DTEND;TZID=Europe/Helsinki:20250213T140000
DTSTAMP:20260422T030511
CREATED:20250205T080900Z
LAST-MODIFIED:20250205T082207Z
UID:987514756-1739440800-1739455200@biskupija-sisak.hr
SUMMARY:Svećenički dan
DESCRIPTION:Svećenički dan Sisačke biskupije održat će se u četvrtak\, 13. velječe\, u 10 sati u Dvorani Juran i Sofija u sisačkom Velikom Kaptolu. Predavanje na temu „Odnos svećenika i laika“ održat će prof. dr. sc. Gordan Črpić.
URL:https://biskupija-sisak.hr/najava/svdan225/
LOCATION:Veliki Kaptol\, Trg bana Josipa Jelačića 9\, Sisak\, 44000\, Croatia (Local Name: Hrvatska)
END:VEVENT
BEGIN:VEVENT
DTSTART;TZID=Europe/Helsinki:20250211T100000
DTEND;TZID=Europe/Helsinki:20250212T170000
DTSTAMP:20260422T030511
CREATED:20250205T080746Z
LAST-MODIFIED:20250209T154139Z
UID:987514755-1739268000-1739379600@biskupija-sisak.hr
SUMMARY:Dani bolesnika
DESCRIPTION:Dani bolesnika na području Sisačke biskupije bit će obilježeni 11. i 12. veljače misnim slavljima koja će predvoditi sisački biskup Vlado Košić u zajedništvu s povjerenikom za pastoral bolesnih i starijih osoba Rafaelom Mlinarom\, a prema sljedećem rasporedu: \nu utorak\, 11. veljače u 11 sati\, u bolničkoj kapeli Neuropsihijatrijske bolnice “Dr. Ivan Brabot” u Popovači; \nu utorak\, 11. veljače u 17 sati\, u kapeli Gospe Lurdske Lječilišta „Topusko“; \nu srijedu\, 12. veljače u 10 sati  u OB „Dr. Ivo Pedišić“ u Sisku; \nu srijedu\, 12. veljače u 17 sati  u Lječilištu Naftalan u Ivanić-Gradu.
URL:https://biskupija-sisak.hr/najava/dani-bolesnika-2/
END:VEVENT
BEGIN:VEVENT
DTSTART;TZID=Europe/Helsinki:20250210T110000
DTEND;TZID=Europe/Helsinki:20250210T170000
DTSTAMP:20260422T030511
CREATED:20250205T080623Z
LAST-MODIFIED:20250205T080623Z
UID:987514754-1739185200-1739206800@biskupija-sisak.hr
SUMMARY:Stepinčevo u Budaševu
DESCRIPTION:Župa Budaševo svečano će u ponedjeljak\, 10. veljače proslaviti blagdan svog zaštitnika i suzaštinika Sisačke biskupije bl. Alojzija Stepinca. Središnje misno slavlje u 11 sati u župnoj crkvi predvodit će sisački biskup Vlado Košić.
URL:https://biskupija-sisak.hr/najava/stepincevo-u-budasevu-3/
LOCATION:Crkva bl. Alojzija Stepinca\, Budaševo\, Trg M. Šokčevića 1\, Budaševo\, 44000\, Croatia (Local Name: Hrvatska)
END:VEVENT
BEGIN:VEVENT
DTSTART;TZID=Europe/Helsinki:20250209T100000
DTEND;TZID=Europe/Helsinki:20250209T110000
DTSTAMP:20260422T030511
CREATED:20250205T080435Z
LAST-MODIFIED:20250205T080540Z
UID:987514752-1739095200-1739098800@biskupija-sisak.hr
SUMMARY:Stepinčevo u Kutinskoj Slatini
DESCRIPTION:Župa Kutinska Slatina svečano će u nedjelju\, 9. veljače proslaviti blagdan svog zaštitnika bl. Alojzija Stepinca. Središnje misno slavlje u 10 sati u župnoj crkvi predvodit će sisački biskup Vlado Košić.
URL:https://biskupija-sisak.hr/najava/stepincevo-u-kutinskoj-slatini-4/
LOCATION:Crkva bl. Alojzija Stepinca\, Kutinska Slatina\, Ulica Stjepana Kefelje 41 c\, Kutinska Slatina\, 44320\, Croatia (Local Name: Hrvatska)
END:VEVENT
BEGIN:VEVENT
DTSTART;TZID=Europe/Helsinki:20250208T110000
DTEND;TZID=Europe/Helsinki:20250208T120000
DTSTAMP:20260422T030511
CREATED:20250130T110918Z
LAST-MODIFIED:20250130T110918Z
UID:987514732-1739012400-1739016000@biskupija-sisak.hr
SUMMARY:Krštenje petog djeteta obitelji Pukšić
DESCRIPTION:Sisački biskup Vlado Košić krstit će u subotu\, 8. veljače\, u 11 sati u župnoj crkvi Uzvišenja sv. Križa u Kravarskom\, peto dijete obitelji Pukšić.
URL:https://biskupija-sisak.hr/najava/krstenje-petog-djeteta-obitelji-puksic/
LOCATION:Kravarsko\, Trg Stjepana Radića\, Kravarsko\, Croatia (Local Name: Hrvatska)
END:VEVENT
BEGIN:VEVENT
DTSTART;TZID=Europe/Helsinki:20250206T090000
DTEND;TZID=Europe/Helsinki:20250206T110000
DTSTAMP:20260422T030511
CREATED:20250130T093512Z
LAST-MODIFIED:20250130T093512Z
UID:987514725-1738832400-1738839600@biskupija-sisak.hr
SUMMARY:Molitveni doručak
DESCRIPTION:Tradicionalni „Molitveni doručak“ Sisačke biskupije\, u organizaciji Ureda za promicanje socijalnog nauka Crkve\, održat će se u četvrtak\, 6. veljače u 9 sati u Velikom Kaptolu u Sisku. Ovogodišnji glavni predavač bit će apostolski nuncij u RH nadbiskup Giorgio Lingua\, a održat će predavanje na temu „Katolici u politici\, razmišljanja na temelju papine enciklike Fratelli tutti“.
URL:https://biskupija-sisak.hr/najava/molitveni-dorucak-2/
LOCATION:Veliki Kaptol\, Trg bana Josipa Jelačića 9\, Sisak\, 44000\, Croatia (Local Name: Hrvatska)
END:VEVENT
BEGIN:VEVENT
DTSTART;TZID=Europe/Helsinki:20250204T190000
DTEND;TZID=Europe/Helsinki:20250204T210000
DTSTAMP:20260422T030511
CREATED:20250130T094608Z
LAST-MODIFIED:20250130T094608Z
UID:987514727-1738695600-1738702800@biskupija-sisak.hr
SUMMARY:Kateheza "Darovi Duha Svetoga"
DESCRIPTION:
URL:https://biskupija-sisak.hr/najava/kateheza-darovi-duha-svetoga/
LOCATION:Katedrala\, Sisačka katedrala\, Sisak\, 44000\, Croatia (Local Name: Hrvatska)
END:VEVENT
BEGIN:VEVENT
DTSTART;TZID=Europe/Helsinki:20250202T180000
DTEND;TZID=Europe/Helsinki:20250202T190000
DTSTAMP:20260422T030511
CREATED:20250130T093001Z
LAST-MODIFIED:20250130T094211Z
UID:987514724-1738519200-1738522800@biskupija-sisak.hr
SUMMARY:Proslava Svjetskog dana posvećenog života
DESCRIPTION:Proslava Svjetskog dana posvećenog života i blagdana Svijećnice održat će se u nedjelju\, 2. veljače u svetištu Majke Milosrđa u Kloštar Ivaniću. Svečano misno slavlje s početkom u 18 sati predvodit će sisački biskup Vlado Košić.
URL:https://biskupija-sisak.hr/najava/proslava-svjetskog-dana-posvecenog-zivota-3/
LOCATION:Crkva Uznesenja BDM\, Kloštar Ivanić\, Ul. Sv. Marije 4\, Kloštar Ivanić\, 10312\, Croatia (Local Name: Hrvatska)
END:VEVENT
BEGIN:VEVENT
DTSTART;TZID=Europe/Helsinki:20250126T110000
DTEND;TZID=Europe/Helsinki:20250126T120000
DTSTAMP:20260422T030511
CREATED:20250123T085310Z
LAST-MODIFIED:20250123T092546Z
UID:987514669-1737889200-1737892800@biskupija-sisak.hr
SUMMARY:Polaznici Đakonske pastoralne godine u posjeti župi sv. Kvirina u Sisku
DESCRIPTION:Polaznici Đakonske pastoralne godine posjetit će u Nedjelju Božje riječi\, 26. siječnja\, sisačku župu sv. Kvirina. Tom prigodom misno slavlje u bazilici sv. Kvirina\, s početkom u 11 sati\, predvodit će biskup Vlado Košić.
URL:https://biskupija-sisak.hr/najava/polaznici-dakonske-pastoralne-godine-u-posjeti-zupi-sv-kvirina-u-sisku/
LOCATION:Bazilika sv. Kvirina\, Sisak\, Lonjska ulica 26\, Sisak\, 44000\, Croatia (Local Name: Hrvatska)
END:VEVENT
BEGIN:VEVENT
DTSTART;TZID=Europe/Helsinki:20250121T193000
DTEND;TZID=Europe/Helsinki:20250121T210000
DTSTAMP:20260422T030511
CREATED:20250113T071833Z
LAST-MODIFIED:20250113T071833Z
UID:987514628-1737487800-1737493200@biskupija-sisak.hr
SUMMARY:Predstavljanje knjiga kardinala Josipa Bozanića\, "Alojzije Stepinac - žrtva za budućnost" i kardinala Franje Kuharića\, "Poruke sa Stepinčeva groba"
DESCRIPTION:
URL:https://biskupija-sisak.hr/najava/predstavljanje-knjiga-kardinala-josipa-bozanica-alojzije-stepinac-zrtva-za-buducnost-i-kardinala-franje-kuharica-poruke-sa-stepinceva-groba/
END:VEVENT
BEGIN:VEVENT
DTSTART;TZID=Europe/Helsinki:20250119T170000
DTEND;TZID=Europe/Helsinki:20250119T180000
DTSTAMP:20260422T030511
CREATED:20250114T133215Z
LAST-MODIFIED:20250114T133215Z
UID:987514632-1737306000-1737309600@biskupija-sisak.hr
SUMMARY:Središnje slavlje Molitvene osmine za jedinstvo kršćana
DESCRIPTION:Središnje slavlje ovogodišnje Molitvene osmine za jedinstvo kršćana u Sisačkoj biskupiji održat će se u nedjelju\, 19. siječnja u 17 sati u crkvi sv. Antuna Padovanskog u Donjem Vukojevcu. Misno slavlje predvodit će sisački biskup Vlado Košić. Nakon mise slijedi zajednička ekumenska molitva.
URL:https://biskupija-sisak.hr/najava/sredisnje-slavlje-molitvene-osmine-za-jedinstvo-krscana/
LOCATION:Crkva sv. Antun Padovanski\, Donji Vukojevac\, Donji Vukojevac 55e\, Donji Vukojevac\, 44272\, Croatia (Local Name: Hrvatska)
END:VEVENT
BEGIN:VEVENT
DTSTART;TZID=Europe/Helsinki:20250112T110000
DTEND;TZID=Europe/Helsinki:20250112T140000
DTSTAMP:20260422T030511
CREATED:20250102T080616Z
LAST-MODIFIED:20250102T083225Z
UID:987514520-1736679600-1736690400@biskupija-sisak.hr
SUMMARY:Hodočašće u Gvozdansko
DESCRIPTION:Misno slavlje u spomen na 447. obljetnicu herojske obrane hrvatskih ognjišta i kaštela Gvozdansko\, te slavne pogibelji branitelja ove utvrde 1578. godine\, bit će održano u nedjelju 12. siječnja u 11 sati\, u župnoj crkvi Sv. Filipa i Jakova u Gvozdanskom. Misu će predvodit srijemski biskup Fabijan Svalina u zajedništvu s domaćim biskupom Vladom Košićem i uz nazočnost predstavnike braniteljskih i povijesnih udruga te hodočasnika iz cijele Hrvatske. Nakon mise slijedi mimohod i komemoracija žrtvama. \n 
URL:https://biskupija-sisak.hr/najava/hodocasce-u-gvozdansko-3/
END:VEVENT
BEGIN:VEVENT
DTSTART;TZID=Europe/Helsinki:20250106T100000
DTEND;TZID=Europe/Helsinki:20250106T110000
DTSTAMP:20260422T030511
CREATED:20250102T073410Z
LAST-MODIFIED:20250102T073410Z
UID:987514519-1736157600-1736161200@biskupija-sisak.hr
SUMMARY:Bogojavljenje u Sisku
DESCRIPTION:Na svetkovinu Bogojavljenja\, u ponedjeljak 6. siječnja\, sisački biskup Vlado Košić predvodit će misno slavlje u Pastoralnom centru katedralne župe u Sisku s početkom u 10 sati.
URL:https://biskupija-sisak.hr/najava/bogojavljenje-u-sisku-3/
END:VEVENT
BEGIN:VEVENT
DTSTART;TZID=Europe/Helsinki:20250103T151500
DTEND;TZID=Europe/Helsinki:20250103T160000
DTSTAMP:20260422T030511
CREATED:20250102T090028Z
LAST-MODIFIED:20250102T090121Z
UID:987514522-1735917300-1735920000@biskupija-sisak.hr
SUMMARY:Misa za prijatelje Laudato televizije
DESCRIPTION:Sisački biskup Vlado Košić predvodit će u petak\, 3. siječnja u 15.15 sati misno slavlje u kapeli sv. Ivana Pavla II. u prostorima Laudato televizije. Izravni prijenos možete pratiti na programu Laudato televizije\, Youtube i Facebook kanalu\, a sveta Misa slavit će se na nakane članova Kluba prijatelja. \n 
URL:https://biskupija-sisak.hr/najava/misa-za-prijatelje-laudato-televizije/
END:VEVENT
BEGIN:VEVENT
DTSTART;TZID=Europe/Helsinki:20241229T110000
DTEND;TZID=Europe/Helsinki:20241229T110000
DTSTAMP:20260422T030511
CREATED:20241209T111231Z
LAST-MODIFIED:20241209T111231Z
UID:987514137-1735470000-1735470000@biskupija-sisak.hr
SUMMARY:Otvaranje Jubilarne godine
DESCRIPTION:Sisački biskup Vlado Košić predvodit će na Blagdan Svete Obitelji Isusa\, Marije i Josipa\, u nedjelju\, 29. prosinca 2024.\, u 11 sati\, u bazilici sv. Kvirina u Sisku\, svečano misno slavlje na kojem će otvoriti Jubilarnu godinu 2025. u Sisačkoj biskupiji.
URL:https://biskupija-sisak.hr/najava/otvaranje-jubilarne-godine/
END:VEVENT
BEGIN:VEVENT
DTSTART;VALUE=DATE:20241224
DTEND;VALUE=DATE:20241226
DTSTAMP:20260422T030511
CREATED:20241209T111205Z
LAST-MODIFIED:20241209T111205Z
UID:987514136-1734998400-1735171199@biskupija-sisak.hr
SUMMARY:Božić u Sisku
DESCRIPTION:Sisački biskup Vlado Košić predvodit će misu polnoćku u utorak\, 24. prosinca\, u Pastoralnom centru katedralne župe u Sisku. Na svetkovinu Božića\, u srijedu\, 25. prosinca\, biskup Košić predvodit će svečano misno slavlje u bazilici sv. Kvirina s početkom u 11 sati.
URL:https://biskupija-sisak.hr/najava/bozic-u-sisku-3/
END:VEVENT
BEGIN:VEVENT
DTSTART;TZID=Europe/Helsinki:20241222T190000
DTEND;TZID=Europe/Helsinki:20241222T203000
DTSTAMP:20260422T030511
CREATED:20241216T082836Z
LAST-MODIFIED:20241216T083112Z
UID:987514205-1734894000-1734899400@biskupija-sisak.hr
SUMMARY:Žive jaslice u Petrinji
DESCRIPTION:
URL:https://biskupija-sisak.hr/najava/zive-jaslice-u-petrinji-3/
LOCATION:Crkva sv. Lovre\, Petrinja\, Strossmayerovo šetalište 3\, Petrinja\, 44250\, Croatia (Local Name: Hrvatska)
END:VEVENT
BEGIN:VEVENT
DTSTART;TZID=Europe/Helsinki:20241222T190000
DTEND;TZID=Europe/Helsinki:20241222T200000
DTSTAMP:20260422T030511
CREATED:20241220T103114Z
LAST-MODIFIED:20241220T103131Z
UID:987514330-1734894000-1734897600@biskupija-sisak.hr
SUMMARY:Božićni koncert “Messiah” u bazilici sv. Kvirina
DESCRIPTION:U blagdanskoj atmosferi Adventa u Sisku\, Dom kulture Kristalna kocka vedrine u suradnji s Siscia Vox Mundi ponosno predstavlja božićni koncert “Messiah”\, skladatelja Georga Friedricha Händela\, koji će se održati u nedjelju\, 22.12.2024. u Bazilici Svetog Kvirina s početkom u 19 sati. \nHändelovog “Messiah” izvest će solisti Anabela Barić Soprano \, Tihana Herceg Ivšić mezzosopran\, Siniša Galović tenor\, Marin Čargo bas – bariton uz Komorni vokalni ansambl studenata pjevanja Muzičke akademije u Zagrebu i Zbor Kristalne kocke vedrine\, pod umjetničkim vodstvom dirigenta Darijana Ivezića. \nUlaz je slobodan. \n \n  \n 
URL:https://biskupija-sisak.hr/najava/bozicni-koncert-messiah-u-bazilici-sv-kvirina/
LOCATION:Bazilika sv. Kvirina\, Sisak\, Lonjska ulica 26\, Sisak\, 44000\, Croatia (Local Name: Hrvatska)
END:VEVENT
BEGIN:VEVENT
DTSTART;TZID=Europe/Helsinki:20241222T110000
DTEND;TZID=Europe/Helsinki:20241222T123000
DTSTAMP:20260422T030511
CREATED:20241220T103715Z
LAST-MODIFIED:20241220T103715Z
UID:987514332-1734865200-1734870600@biskupija-sisak.hr
SUMMARY:Krštenje petog djeteta obitelji Neman
DESCRIPTION:Sisački biskup Vlado Košić predvodit će u nedjelju\, 22. prosinca u 11 sati\, u župnoj crkvi sv. Ane u Osekovu svečano misno slavlje\, tijekom kojeg će krstiti Petru\, peto dijete u obitelji Marinka i Marije Neman.
URL:https://biskupija-sisak.hr/najava/krstenje-petog-djeteta-obitelji-neman/
LOCATION:Crkva sv. Ane\, Osekovo\, Trg sv. Ane 4\, Osekovo\, 44317\, Croatia (Local Name: Hrvatska)
END:VEVENT
BEGIN:VEVENT
DTSTART;TZID=Europe/Helsinki:20241221T160000
DTEND;TZID=Europe/Helsinki:20241221T170000
DTSTAMP:20260422T030511
CREATED:20241209T111124Z
LAST-MODIFIED:20241209T111124Z
UID:987514135-1734796800-1734800400@biskupija-sisak.hr
SUMMARY:Krštenje petog djeteta obitelji Koprivnjak.
DESCRIPTION:Sisački biskup Vlado Košić krstit će u subotu\, 21. prosinca\, u 16 sati u župnoj crkvi sv. Ivana Krstitelja u Lekeniku Dinu\, peto dijete u obitelji Danijela i Katarine Koprivnjak.
URL:https://biskupija-sisak.hr/najava/krstenje-petog-djeteta-obitelji-koprivnjak/
LOCATION:Crkva sv. Ivana Krstitelja\, Lekenik\, Zagrebačka ulica 89\, Lekenik\, 44272\, Croatia (Local Name: Hrvatska)
END:VEVENT
BEGIN:VEVENT
DTSTART;TZID=Europe/Helsinki:20241219T100000
DTEND;TZID=Europe/Helsinki:20241219T130000
DTSTAMP:20260422T030511
CREATED:20241209T111039Z
LAST-MODIFIED:20241210T133252Z
UID:987514134-1734602400-1734613200@biskupija-sisak.hr
SUMMARY:Božićno čestitanje
DESCRIPTION:Uzajamno božićno čestitanje sisačkog biskupa Vlade Košića i svećenika\, redovnika i redovnica održat će se u četvrtak\, 19. prosinca\, u Velikom Kaptolu u Sisku s početkom u 12 sati. Prije čestitanja\, u 11 sati\, u Pastoralnom centru katedralne župe bit će duhovni nagovor\, ispit savjesti i prigoda za sv. ispovijed. \n  \n 
URL:https://biskupija-sisak.hr/najava/bozicno-cestitanje/
END:VEVENT
BEGIN:VEVENT
DTSTART;TZID=Europe/Helsinki:20241218T123000
DTEND;TZID=Europe/Helsinki:20241218T133000
DTSTAMP:20260422T030511
CREATED:20241209T110538Z
LAST-MODIFIED:20241215T162332Z
UID:987514133-1734525000-1734528600@biskupija-sisak.hr
SUMMARY:Misno slavlje za službenike i zatvorenike Kaznionice u Lipovici
DESCRIPTION:Sisački biskup Vlado Košić predvodit će u srijedu\, 18. prosinca\, u 12.30 sati u Kaznionici u Lipovici misno slavlje za službenike i zatvorenike. \n 
URL:https://biskupija-sisak.hr/najava/misno-slavlje-za-sluzbenike-i-zatvorenike-kaznionice-u-glini-2/
END:VEVENT
END:VCALENDAR