BEGIN:VCALENDAR
VERSION:2.0
PRODID:-//Sisačka biskupija - ECPv6.15.20//NONSGML v1.0//EN
CALSCALE:GREGORIAN
METHOD:PUBLISH
X-WR-CALNAME:Sisačka biskupija
X-ORIGINAL-URL:https://biskupija-sisak.hr
X-WR-CALDESC:Događaji za Sisačka biskupija
REFRESH-INTERVAL;VALUE=DURATION:PT1H
X-Robots-Tag:noindex
X-PUBLISHED-TTL:PT1H
BEGIN:VTIMEZONE
TZID:Europe/Helsinki
BEGIN:DAYLIGHT
TZOFFSETFROM:+0200
TZOFFSETTO:+0300
TZNAME:EEST
DTSTART:20240331T010000
END:DAYLIGHT
BEGIN:STANDARD
TZOFFSETFROM:+0300
TZOFFSETTO:+0200
TZNAME:EET
DTSTART:20241027T010000
END:STANDARD
BEGIN:DAYLIGHT
TZOFFSETFROM:+0200
TZOFFSETTO:+0300
TZNAME:EEST
DTSTART:20250330T010000
END:DAYLIGHT
BEGIN:STANDARD
TZOFFSETFROM:+0300
TZOFFSETTO:+0200
TZNAME:EET
DTSTART:20251026T010000
END:STANDARD
BEGIN:DAYLIGHT
TZOFFSETFROM:+0200
TZOFFSETTO:+0300
TZNAME:EEST
DTSTART:20260329T010000
END:DAYLIGHT
BEGIN:STANDARD
TZOFFSETFROM:+0300
TZOFFSETTO:+0200
TZNAME:EET
DTSTART:20261025T010000
END:STANDARD
END:VTIMEZONE
BEGIN:VEVENT
DTSTART;TZID=Europe/Helsinki:20251122T080000
DTEND;TZID=Europe/Helsinki:20251125T170000
DTSTAMP:20260421T140842
CREATED:20251121T085251Z
LAST-MODIFIED:20251121T085251Z
UID:987519202-1763798400-1764090000@biskupija-sisak.hr
SUMMARY:Proslava sv. Katarine u Divuši
DESCRIPTION:
URL:https://biskupija-sisak.hr/najava/proslava-sv-katarine-u-divusi/
END:VEVENT
BEGIN:VEVENT
DTSTART;TZID=Europe/Helsinki:20251122T100000
DTEND;TZID=Europe/Helsinki:20251122T120000
DTSTAMP:20260421T140842
CREATED:20251114T085828Z
LAST-MODIFIED:20251114T085828Z
UID:987519147-1763805600-1763812800@biskupija-sisak.hr
SUMMARY:Susret Volontera župnih Caritasa
DESCRIPTION:Susret Volontera župnih Caritasa održat će se u subotu\, 22. studenoga 2025. godine u 10 sati\, u Biskupijskom ordinarijatu u Sisku. Susret je zamišljen kao prilika za zajedničko druženje\, duhovnu okrjepu i razmjenu iskustava svih koji nesebično služe u svojim zajednicama. Program uključuje molitvu\, duhovni nagovor te predavanje vlč. Hrvoja Zovka pod naslovom „Nada pak ne postiđuje (Rim 5\,5): Caritas kao most između patnje i uskrsnuća“.
URL:https://biskupija-sisak.hr/najava/susret-volontera-zupnih-caritasa/
END:VEVENT
BEGIN:VEVENT
DTSTART;TZID=Europe/Helsinki:20251122T130000
DTEND;TZID=Europe/Helsinki:20251122T140000
DTSTAMP:20260421T140842
CREATED:20251114T085911Z
LAST-MODIFIED:20251114T085911Z
UID:987519148-1763816400-1763820000@biskupija-sisak.hr
SUMMARY:Krštenje šestog djeteta obitelji Jurić
DESCRIPTION:Sisački biskup Vlado Košić krstit će u subotu\, 22. studenoga 2025.\, u 13 sati\, u crkvi sv. Marije Magdalene u Sunji\, šesto dijete obitelji Jurić.
URL:https://biskupija-sisak.hr/najava/krstenje-sestog-djeteta-obitelji-juric/
END:VEVENT
BEGIN:VEVENT
DTSTART;TZID=Europe/Helsinki:20251122T170000
DTEND;TZID=Europe/Helsinki:20251122T190000
DTSTAMP:20260421T140842
CREATED:20251114T102950Z
LAST-MODIFIED:20251114T102950Z
UID:987519149-1763830800-1763838000@biskupija-sisak.hr
SUMMARY:Proslava blagdana sv. Cecilije u Sisku
DESCRIPTION:Blagdan svoje zaštitnice sv. Cecilije svečano će proslaviti zborovi Sisačko-katedralnog dekanata u subotu\, 22. studenoga\, u bazilici sv. Kvirina u Sisku. Program započinje u 17 sati nagovorom koji će održati rektor bazilike Robert Jakica\, a misno slavlje u 18 sati predvodit će sisački biskup Vlado Košić.
URL:https://biskupija-sisak.hr/najava/proslava-blagdana-sv-cecilije-u-sisku/
END:VEVENT
END:VCALENDAR