BEGIN:VCALENDAR
VERSION:2.0
PRODID:-//Sisačka biskupija - ECPv6.15.20//NONSGML v1.0//EN
CALSCALE:GREGORIAN
METHOD:PUBLISH
X-ORIGINAL-URL:https://biskupija-sisak.hr
X-WR-CALDESC:Događaji za Sisačka biskupija
REFRESH-INTERVAL;VALUE=DURATION:PT1H
X-Robots-Tag:noindex
X-PUBLISHED-TTL:PT1H
BEGIN:VTIMEZONE
TZID:Europe/Helsinki
BEGIN:DAYLIGHT
TZOFFSETFROM:+0200
TZOFFSETTO:+0300
TZNAME:EEST
DTSTART:20240331T010000
END:DAYLIGHT
BEGIN:STANDARD
TZOFFSETFROM:+0300
TZOFFSETTO:+0200
TZNAME:EET
DTSTART:20241027T010000
END:STANDARD
BEGIN:DAYLIGHT
TZOFFSETFROM:+0200
TZOFFSETTO:+0300
TZNAME:EEST
DTSTART:20250330T010000
END:DAYLIGHT
BEGIN:STANDARD
TZOFFSETFROM:+0300
TZOFFSETTO:+0200
TZNAME:EET
DTSTART:20251026T010000
END:STANDARD
BEGIN:DAYLIGHT
TZOFFSETFROM:+0200
TZOFFSETTO:+0300
TZNAME:EEST
DTSTART:20260329T010000
END:DAYLIGHT
BEGIN:STANDARD
TZOFFSETFROM:+0300
TZOFFSETTO:+0200
TZNAME:EET
DTSTART:20261025T010000
END:STANDARD
END:VTIMEZONE
BEGIN:VEVENT
DTSTART;TZID=Europe/Helsinki:20250831T100000
DTEND;TZID=Europe/Helsinki:20250831T110000
DTSTAMP:20260423T130023
CREATED:20250829T100528Z
LAST-MODIFIED:20250829T100613Z
UID:987517720-1756634400-1756638000@biskupija-sisak.hr
SUMMARY:60. obljetnica svećeništva preč. Milana Begića
DESCRIPTION:Svećenik Sisačke biskupije preč. Milan Begić proslavit će u nedjelju\, 31. kolovoza 2025. u 10 sati\, u Pastoralnom centru katedralne župe u Sisku\, 60. obljetnicu svećeništva. Svečano misno slavlje predvodit će sisački biskup Vlado Košić u zajedništvu sa slavljenikom.
URL:https://biskupija-sisak.hr/najava/60-obljetnicu-svecenistva-prec-milana-begica/
LOCATION:Katedrala\, Sisačka katedrala\, Sisak\, 44000\, Croatia (Local Name: Hrvatska)
END:VEVENT
END:VCALENDAR