BEGIN:VCALENDAR
VERSION:2.0
PRODID:-//Sisačka biskupija - ECPv6.15.20//NONSGML v1.0//EN
CALSCALE:GREGORIAN
METHOD:PUBLISH
X-ORIGINAL-URL:https://biskupija-sisak.hr
X-WR-CALDESC:Događaji za Sisačka biskupija
REFRESH-INTERVAL;VALUE=DURATION:PT1H
X-Robots-Tag:noindex
X-PUBLISHED-TTL:PT1H
BEGIN:VTIMEZONE
TZID:Europe/Helsinki
BEGIN:DAYLIGHT
TZOFFSETFROM:+0200
TZOFFSETTO:+0300
TZNAME:EEST
DTSTART:20240331T010000
END:DAYLIGHT
BEGIN:STANDARD
TZOFFSETFROM:+0300
TZOFFSETTO:+0200
TZNAME:EET
DTSTART:20241027T010000
END:STANDARD
BEGIN:DAYLIGHT
TZOFFSETFROM:+0200
TZOFFSETTO:+0300
TZNAME:EEST
DTSTART:20250330T010000
END:DAYLIGHT
BEGIN:STANDARD
TZOFFSETFROM:+0300
TZOFFSETTO:+0200
TZNAME:EET
DTSTART:20251026T010000
END:STANDARD
BEGIN:DAYLIGHT
TZOFFSETFROM:+0200
TZOFFSETTO:+0300
TZNAME:EEST
DTSTART:20260329T010000
END:DAYLIGHT
BEGIN:STANDARD
TZOFFSETFROM:+0300
TZOFFSETTO:+0200
TZNAME:EET
DTSTART:20261025T010000
END:STANDARD
END:VTIMEZONE
BEGIN:VEVENT
DTSTART;TZID=Europe/Helsinki:20250824T100000
DTEND;TZID=Europe/Helsinki:20250824T120000
DTSTAMP:20260423T144955
CREATED:20250821T064600Z
LAST-MODIFIED:20250821T064600Z
UID:987517583-1756029600-1756036800@biskupija-sisak.hr
SUMMARY:Bartolovo u Hrastovici
DESCRIPTION:Hrastovica će u nedjelju\, 24. kolovoza 2025.\, svečano proslaviti blagdan svog nebeskog zaštitnika svetog Bartola. Program započinje u 10 sati odavanjem počasti poginulim i umrlim mještanima\, nakon čega će u 11 sati uslijediti svečano misno slavlje koje će predvoditi srijemski biskup mons. Fabijan Svalina.
URL:https://biskupija-sisak.hr/najava/bartolovo-u-hrastovici-4/
END:VEVENT
END:VCALENDAR